BEGIN:VCALENDAR
VERSION:2.0
PRODID:-//Brooks Memorial Library - Brattleboro VT - ECPv6.15.17.1//NONSGML v1.0//EN
CALSCALE:GREGORIAN
METHOD:PUBLISH
X-WR-CALNAME:Brooks Memorial Library - Brattleboro VT
X-ORIGINAL-URL:https://brookslibraryvt.org
X-WR-CALDESC:Events for Brooks Memorial Library - Brattleboro VT
REFRESH-INTERVAL;VALUE=DURATION:PT1H
X-Robots-Tag:noindex
X-PUBLISHED-TTL:PT1H
BEGIN:VTIMEZONE
TZID:America/New_York
BEGIN:DAYLIGHT
TZOFFSETFROM:-0500
TZOFFSETTO:-0400
TZNAME:EDT
DTSTART:20250309T070000
END:DAYLIGHT
BEGIN:STANDARD
TZOFFSETFROM:-0400
TZOFFSETTO:-0500
TZNAME:EST
DTSTART:20251102T060000
END:STANDARD
BEGIN:DAYLIGHT
TZOFFSETFROM:-0500
TZOFFSETTO:-0400
TZNAME:EDT
DTSTART:20260308T070000
END:DAYLIGHT
BEGIN:STANDARD
TZOFFSETFROM:-0400
TZOFFSETTO:-0500
TZNAME:EST
DTSTART:20261101T060000
END:STANDARD
BEGIN:DAYLIGHT
TZOFFSETFROM:-0500
TZOFFSETTO:-0400
TZNAME:EDT
DTSTART:20270314T070000
END:DAYLIGHT
BEGIN:STANDARD
TZOFFSETFROM:-0400
TZOFFSETTO:-0500
TZNAME:EST
DTSTART:20271107T060000
END:STANDARD
END:VTIMEZONE
BEGIN:VEVENT
DTSTART;TZID=America/New_York:20260423T103000
DTEND;TZID=America/New_York:20260423T113000
DTSTAMP:20260423T061953
CREATED:20251231T175539Z
LAST-MODIFIED:20260330T153406Z
UID:10005143-1776940200-1776943800@brookslibraryvt.org
SUMMARY:Sing & Dance With Robin
DESCRIPTION:Designed for ages under 6- all ages welcome! Free and open to the public. \nThis lovely class is an enriching musical experience for toddlers and preschoolers\, designed to support healthy cognitive\, physical\, and social development. Children will sing\, clap\, stomp\, dance\, and play along with the curriculum of traditional and modern folk songs. Parents will be encouraged to fully sing and participate with their child in the class. \nSponsored by the Friends of Brooks Memorial Library.
URL:https://brookslibraryvt.org/event/sing-dance-with-robin-10/2026-04-23/
LOCATION:Meeting Room A – Community Meeting Room\, 224 Main Street\, Brattleboro\, VT\, 05301\, United States
CATEGORIES:Children & Families
ATTACH;FMTTYPE=image/png:https://eadn-wc04-3360218.nxedge.io/wp-content/uploads/2025/12/SPRING.png
ORGANIZER;CN="BML Children's Room":MAILTO:cr@brookslibraryvt.org
GEO:42.8553213;-72.5599024
X-APPLE-STRUCTURED-LOCATION;VALUE=URI;X-ADDRESS=Meeting Room A – Community Meeting Room 224 Main Street Brattleboro VT 05301 United States;X-APPLE-RADIUS=500;X-TITLE=224 Main Street:geo:-72.5599024,42.8553213
END:VEVENT
BEGIN:VEVENT
DTSTART;TZID=America/New_York:20260423T130000
DTEND;TZID=America/New_York:20260423T150000
DTSTAMP:20260423T061953
CREATED:20260325T185853Z
LAST-MODIFIED:20260325T185907Z
UID:10005495-1776949200-1776956400@brookslibraryvt.org
SUMMARY:A4TD Informational Session
DESCRIPTION:Discover how the Senior Community Service Employment Program (SCSEP)\, a unique paid internship program\, helps low-income\, unemployed adults age 55+ build skills\, gain experience\, and connect with meaningful job opportunities in their communities.  More info to come.
URL:https://brookslibraryvt.org/event/a4td-informational-session/
LOCATION:Meeting Room B – Mezzanine Room\, Main Street 224\, Brattleboro\, Vermont\, 05301\, United States
ATTACH;FMTTYPE=image/png:https://eadn-wc04-3360218.nxedge.io/wp-content/uploads/2026/03/a4td-logo.png
ORGANIZER;CN="Associates for Training and Development (A4TD)":MAILTO:info@a4td.org
GEO:42.8553213;-72.5599024
X-APPLE-STRUCTURED-LOCATION;VALUE=URI;X-ADDRESS=Meeting Room B – Mezzanine Room Main Street 224 Brattleboro Vermont 05301 United States;X-APPLE-RADIUS=500;X-TITLE=Main Street 224:geo:-72.5599024,42.8553213
END:VEVENT
BEGIN:VEVENT
DTSTART;TZID=America/New_York:20260423T130000
DTEND;TZID=America/New_York:20260423T170000
DTSTAMP:20260423T061953
CREATED:20260109T182015Z
LAST-MODIFIED:20260109T182015Z
UID:10005218-1776949200-1776963600@brookslibraryvt.org
SUMMARY:LEGO-Palooza Special Session!
DESCRIPTION:Join us on Thursday\, April 23rd from 1-5pm for an extra-long spring break session of LEGO-Palooza! \nWe provide the LEGOs. You build. Do not bring your own LEGOs. \nChildren cannot keep LEGOs\, but if there is enough room\, we will display them in the window. \nFree and open to the public!
URL:https://brookslibraryvt.org/event/lego-palooza-special-session-10/
LOCATION:Meeting Room A – Community Meeting Room\, 224 Main Street\, Brattleboro\, VT\, 05301\, United States
CATEGORIES:Children & Families
ATTACH;FMTTYPE=image/png:https://eadn-wc04-3360218.nxedge.io/wp-content/uploads/2024/04/LEGO-palooza-Special-session-event-calendar.png
ORGANIZER;CN="BML Children's Room":MAILTO:cr@brookslibraryvt.org
GEO:42.8553213;-72.5599024
X-APPLE-STRUCTURED-LOCATION;VALUE=URI;X-ADDRESS=Meeting Room A – Community Meeting Room 224 Main Street Brattleboro VT 05301 United States;X-APPLE-RADIUS=500;X-TITLE=224 Main Street:geo:-72.5599024,42.8553213
END:VEVENT
BEGIN:VEVENT
DTSTART;TZID=America/New_York:20260423T140000
DTEND;TZID=America/New_York:20260423T163000
DTSTAMP:20260423T061953
CREATED:20260414T223707Z
LAST-MODIFIED:20260414T223910Z
UID:10005640-1776952800-1776961800@brookslibraryvt.org
SUMMARY:Films at the Latchis for National Library Week: "Matilda" & "Lost in Paris"
DESCRIPTION:To celebrate National Library Week\, Brooks Memorial Library is pleased to offer community screenings of “Matilda” at 2pm and “Lost in Paris” at 7pm at the Latchis Theater. Both films are by donation. Sponsored by the Friends of Brooks Memorial Library.
URL:https://brookslibraryvt.org/event/films-at-the-latchis-for-national-library-week-films-matilda-lost-in-paris/2026-04-23/1/
LOCATION:The Latchis Theatre\, 50 Main Street\, Brattleboro\, Vermont\, 05301\, United States
CATEGORIES:Adults,Children & Families,General
ATTACH;FMTTYPE=image/png:https://eadn-wc04-3360218.nxedge.io/wp-content/uploads/2026/04/National-Library-Week-Films.png
ORGANIZER;CN="Brooks Memorial Library":MAILTO:outreach@brookslibraryvt.org
GEO:42.8512944;-72.5578585
X-APPLE-STRUCTURED-LOCATION;VALUE=URI;X-ADDRESS=The Latchis Theatre 50 Main Street Brattleboro Vermont 05301 United States;X-APPLE-RADIUS=500;X-TITLE=50 Main Street:geo:-72.5578585,42.8512944
END:VEVENT
BEGIN:VEVENT
DTSTART;TZID=America/New_York:20260423T190000
DTEND;TZID=America/New_York:20260423T203000
DTSTAMP:20260423T061953
CREATED:20260414T223707Z
LAST-MODIFIED:20260414T223910Z
UID:10005641-1776970800-1776976200@brookslibraryvt.org
SUMMARY:Films at the Latchis for National Library Week: "Matilda" & "Lost in Paris"
DESCRIPTION:To celebrate National Library Week\, Brooks Memorial Library is pleased to offer community screenings of “Matilda” at 2pm and “Lost in Paris” at 7pm at the Latchis Theater. Both films are by donation. Sponsored by the Friends of Brooks Memorial Library.
URL:https://brookslibraryvt.org/event/films-at-the-latchis-for-national-library-week-films-matilda-lost-in-paris/2026-04-23/2/
LOCATION:The Latchis Theatre\, 50 Main Street\, Brattleboro\, Vermont\, 05301\, United States
CATEGORIES:Adults,Children & Families,General
ATTACH;FMTTYPE=image/png:https://eadn-wc04-3360218.nxedge.io/wp-content/uploads/2026/04/National-Library-Week-Films.png
ORGANIZER;CN="Brooks Memorial Library":MAILTO:outreach@brookslibraryvt.org
GEO:42.8512944;-72.5578585
X-APPLE-STRUCTURED-LOCATION;VALUE=URI;X-ADDRESS=The Latchis Theatre 50 Main Street Brattleboro Vermont 05301 United States;X-APPLE-RADIUS=500;X-TITLE=50 Main Street:geo:-72.5578585,42.8512944
END:VEVENT
END:VCALENDAR