BEGIN:VCALENDAR
VERSION:2.0
PRODID:-//Brooks Memorial Library - Brattleboro VT - ECPv6.15.17.1//NONSGML v1.0//EN
CALSCALE:GREGORIAN
METHOD:PUBLISH
X-ORIGINAL-URL:https://brookslibraryvt.org
X-WR-CALDESC:Events for Brooks Memorial Library - Brattleboro VT
REFRESH-INTERVAL;VALUE=DURATION:PT1H
X-Robots-Tag:noindex
X-PUBLISHED-TTL:PT1H
BEGIN:VTIMEZONE
TZID:America/New_York
BEGIN:DAYLIGHT
TZOFFSETFROM:-0500
TZOFFSETTO:-0400
TZNAME:EDT
DTSTART:20230312T070000
END:DAYLIGHT
BEGIN:STANDARD
TZOFFSETFROM:-0400
TZOFFSETTO:-0500
TZNAME:EST
DTSTART:20231105T060000
END:STANDARD
BEGIN:DAYLIGHT
TZOFFSETFROM:-0500
TZOFFSETTO:-0400
TZNAME:EDT
DTSTART:20240310T070000
END:DAYLIGHT
BEGIN:STANDARD
TZOFFSETFROM:-0400
TZOFFSETTO:-0500
TZNAME:EST
DTSTART:20241103T060000
END:STANDARD
BEGIN:DAYLIGHT
TZOFFSETFROM:-0500
TZOFFSETTO:-0400
TZNAME:EDT
DTSTART:20250309T070000
END:DAYLIGHT
BEGIN:STANDARD
TZOFFSETFROM:-0400
TZOFFSETTO:-0500
TZNAME:EST
DTSTART:20251102T060000
END:STANDARD
END:VTIMEZONE
BEGIN:VEVENT
DTSTART;TZID=America/New_York:20241106T173000
DTEND;TZID=America/New_York:20241106T193000
DTSTAMP:20260425T211348
CREATED:20241101T191853Z
LAST-MODIFIED:20241104T173606Z
UID:10003466-1730914200-1730921400@brookslibraryvt.org
SUMMARY:CANCELED - Community Conversations: How Do State Policies Work for Brattleboro?
DESCRIPTION:  \nThis event has been canceled. Please join us for the next session on Wednesday\, November 20th. \n  \nAs the Brattleboro Legislative Delegation gears up for the start of a new biennium in January\, we want to talk to folks in Brattleboro about the issues that matter to you and we expect to be diving deep into this winter. Topics will include healthcare\, education\, climate change\, and housing. Please join your Vermont Legislators\, hear from experts\, and share your experiences. \nThese conversations are happening on the 1st and 3rd Wednesdays in November and December. (11/20\, 12/4 and 12/18)
URL:https://brookslibraryvt.org/event/community-conversations-how-do-state-policies-work-for-brattleboro-2/
LOCATION:Meeting Room A – Community Meeting Room\, 224 Main Street\, Brattleboro\, VT\, 05301\, United States
CATEGORIES:Adults,General
ATTACH;FMTTYPE=image/jpeg:https://eadn-wc04-3360218.nxedge.io/wp-content/uploads/2022/12/vermont-seal.jpg
GEO:42.8553213;-72.5599024
X-APPLE-STRUCTURED-LOCATION;VALUE=URI;X-ADDRESS=Meeting Room A – Community Meeting Room 224 Main Street Brattleboro VT 05301 United States;X-APPLE-RADIUS=500;X-TITLE=224 Main Street:geo:-72.5599024,42.8553213
END:VEVENT
BEGIN:VEVENT
DTSTART;TZID=America/New_York:20241109T110000
DTEND;TZID=America/New_York:20241109T120000
DTSTAMP:20260425T211348
CREATED:20240920T214128Z
LAST-MODIFIED:20240928T141441Z
UID:10002361-1731150000-1731153600@brookslibraryvt.org
SUMMARY:SilverCircus by NECCA
DESCRIPTION:Strengthen balance and build social connection\, all while playing and connecting to your inner child with SilverCircus by the New England Center for Circus Arts. These circus classes are designed for older adults and are welcome to all mobility and cognitive levels. We will work with each student where they are at\, while fostering a supportive and playful group dynamic. Activities will challenge the brain and the body\, and will be scaled up and down to be the perfect challenge for each participant.\n\n  \nIt is not too late to join the circus! Join us at the Brattleboro Memorial Library at 11am on the 2nd and 4th Saturdays of October and November (10/12\, 10/26\, 11/09\, 11/23).\n  \n  \n 
URL:https://brookslibraryvt.org/event/silvercircus-by-necca/2024-11-09/
LOCATION:Meeting Room A – Community Meeting Room\, 224 Main Street\, Brattleboro\, VT\, 05301\, United States
CATEGORIES:Adults,Children & Families,General
ATTACH;FMTTYPE=image/png:https://eadn-wc04-3360218.nxedge.io/wp-content/uploads/2024/09/silvercircus-with-logo-e1727532224554.png
GEO:42.8553213;-72.5599024
X-APPLE-STRUCTURED-LOCATION;VALUE=URI;X-ADDRESS=Meeting Room A – Community Meeting Room 224 Main Street Brattleboro VT 05301 United States;X-APPLE-RADIUS=500;X-TITLE=224 Main Street:geo:-72.5599024,42.8553213
END:VEVENT
BEGIN:VEVENT
DTSTART;TZID=America/New_York:20241112T160000
DTEND;TZID=America/New_York:20241112T180000
DTSTAMP:20260425T211348
CREATED:20241102T203720Z
LAST-MODIFIED:20241104T162645Z
UID:10003481-1731427200-1731434400@brookslibraryvt.org
SUMMARY:Town of Brattleboro Budget Open House
DESCRIPTION:The Town’s Budget Open House will be held in the Main Reading Room on the ground floor. This is an opportunity to discuss the budget directly with Town staff. More information about this year’s budget process can be found at Brattleboro.gov/FY26Budget
URL:https://brookslibraryvt.org/event/town-of-brattleboro-budget-open-house/
LOCATION:Main Reading Room
CATEGORIES:Adults
ATTACH;FMTTYPE=image/png:https://eadn-wc04-3360218.nxedge.io/wp-content/uploads/2024/11/Budget-graphic.png
GEO:42.8553213;-72.5599024
END:VEVENT
BEGIN:VEVENT
DTSTART;TZID=America/New_York:20241118T180000
DTEND;TZID=America/New_York:20241118T200000
DTSTAMP:20260425T211348
CREATED:20241112T235528Z
LAST-MODIFIED:20241113T182105Z
UID:10003491-1731952800-1731960000@brookslibraryvt.org
SUMMARY:Impacts of and alternatives to the Acceptable Community Conduct Ordinance: a panel discussion
DESCRIPTION:What is the Acceptable Community Conduct Ordinance that the Brattleboro Selectboard recently passed and what are its impacts and consequences\, both intended and unintended?  How does this Ordinance align with Brattleboro’s identity as a “compassionate community”?  Are there other possible approaches we could take to address the crises we are facing that might be more effective or humane?  How are other towns and regions addressing these challenging issues? \nBrattleboro is experiencing compounding crises that result in a lot of human suffering\, both seen and unseen. We all want a safer community – what does that mean to you and your neighbors?  Come to a panel discussion to hear about the impacts\, consequences\, and alternatives to the Ordinance and to think more deeply about a collective vision for the future of Brattleboro. \n\nJoin in person or online.  Join Zoom Meeting https://us02web.zoom.us/j/89313887517?pwd=jgkprcwKf6jFu5MQl6CgqhoEzWIPT0.1  Meeting ID: 893 1388 7517  Passcode: 738600\nMasks required to increase the safety of our community. Masks will be provided.\nAll are invited to bring supplies to donate to our neighbors sleeping on the streets or in tents – especially wool blankets\, sleeping bags\, jackets\, boots\, long underwear\, thick socks\, headlamps\, batteries. Thank you!\n\nOrganized by The Community Safety Organizing Team (CSOT)\, a group of community organizers\, service providers\, experienced leaders\, and people with a deep understanding of community safety needs in Windham County.
URL:https://brookslibraryvt.org/event/impacts-of-and-alternatives-to-the-acceptable-community-conduct-ordinance-a-panel-discussion/
LOCATION:Meeting Room A – Community Meeting Room\, 224 Main Street\, Brattleboro\, VT\, 05301\, United States
CATEGORIES:Adults
GEO:42.8553213;-72.5599024
X-APPLE-STRUCTURED-LOCATION;VALUE=URI;X-ADDRESS=Meeting Room A – Community Meeting Room 224 Main Street Brattleboro VT 05301 United States;X-APPLE-RADIUS=500;X-TITLE=224 Main Street:geo:-72.5599024,42.8553213
END:VEVENT
BEGIN:VEVENT
DTSTART;TZID=America/New_York:20241120T173000
DTEND;TZID=America/New_York:20241120T193000
DTSTAMP:20260425T211348
CREATED:20241118T230255Z
LAST-MODIFIED:20241118T230256Z
UID:10003467-1732123800-1732131000@brookslibraryvt.org
SUMMARY:CANCELED - Community Conversations: How Do State Policies Work for Brattleboro?
DESCRIPTION:As the Brattleboro Legislative Delegation gears up for the start of a new biennium in January\, we want to talk to folks in Brattleboro about the issues that matter to you and we expect to be diving deep into this winter. Topics will include healthcare\, education\, climate change\, and housing. Please join your Vermont Legislators\, hear from experts\, and share your experiences. \nThese conversations are happening on the 1st and 3rd Wednesdays in November and December. (11/6\, 11/20\, 12/4 and 12/18)
URL:https://brookslibraryvt.org/event/community-conversations-how-do-state-policies-work-for-brattleboro-3/
LOCATION:Meeting Room A – Community Meeting Room\, 224 Main Street\, Brattleboro\, VT\, 05301\, United States
CATEGORIES:Adults,General
ATTACH;FMTTYPE=image/jpeg:https://eadn-wc04-3360218.nxedge.io/wp-content/uploads/2022/12/vermont-seal.jpg
GEO:42.8553213;-72.5599024
X-APPLE-STRUCTURED-LOCATION;VALUE=URI;X-ADDRESS=Meeting Room A – Community Meeting Room 224 Main Street Brattleboro VT 05301 United States;X-APPLE-RADIUS=500;X-TITLE=224 Main Street:geo:-72.5599024,42.8553213
END:VEVENT
BEGIN:VEVENT
DTSTART;TZID=America/New_York:20241123T110000
DTEND;TZID=America/New_York:20241123T120000
DTSTAMP:20260425T211348
CREATED:20240920T214128Z
LAST-MODIFIED:20240928T141441Z
UID:10002362-1732359600-1732363200@brookslibraryvt.org
SUMMARY:SilverCircus by NECCA
DESCRIPTION:Strengthen balance and build social connection\, all while playing and connecting to your inner child with SilverCircus by the New England Center for Circus Arts. These circus classes are designed for older adults and are welcome to all mobility and cognitive levels. We will work with each student where they are at\, while fostering a supportive and playful group dynamic. Activities will challenge the brain and the body\, and will be scaled up and down to be the perfect challenge for each participant.\n\n  \nIt is not too late to join the circus! Join us at the Brattleboro Memorial Library at 11am on the 2nd and 4th Saturdays of October and November (10/12\, 10/26\, 11/09\, 11/23).\n  \n  \n 
URL:https://brookslibraryvt.org/event/silvercircus-by-necca/2024-11-23/
LOCATION:Meeting Room A – Community Meeting Room\, 224 Main Street\, Brattleboro\, VT\, 05301\, United States
CATEGORIES:Adults,Children & Families,General
ATTACH;FMTTYPE=image/png:https://eadn-wc04-3360218.nxedge.io/wp-content/uploads/2024/09/silvercircus-with-logo-e1727532224554.png
GEO:42.8553213;-72.5599024
X-APPLE-STRUCTURED-LOCATION;VALUE=URI;X-ADDRESS=Meeting Room A – Community Meeting Room 224 Main Street Brattleboro VT 05301 United States;X-APPLE-RADIUS=500;X-TITLE=224 Main Street:geo:-72.5599024,42.8553213
END:VEVENT
BEGIN:VEVENT
DTSTART;TZID=America/New_York:20241125T190000
DTEND;TZID=America/New_York:20241125T203000
DTSTAMP:20260425T211348
CREATED:20241119T011618Z
LAST-MODIFIED:20250409T202119Z
UID:10003499-1732561200-1732566600@brookslibraryvt.org
SUMMARY:Green Carnation Reading Group
DESCRIPTION:Discussions of books by and for queer people. For more information\, please visit the Green Carnation Reading Group Facebook page.
URL:https://brookslibraryvt.org/event/green-carnation-book-group/2024-11-25/
LOCATION:Meeting Room D – Quiet Reading Room\, 224 Main Street\, Brattleboro\, VT\, 05301\, United States
CATEGORIES:Adults,General,Teens
ATTACH;FMTTYPE=image/jpeg:https://eadn-wc04-3360218.nxedge.io/wp-content/uploads/2024/11/439240485_122098227206294656_4239700080493349576_n-e1731978675948.jpg
ORGANIZER;CN="Green Carnation - Timothy Williams":MAILTO:readtiph6890@gmail.com
GEO:42.8553213;-72.5599024
X-APPLE-STRUCTURED-LOCATION;VALUE=URI;X-ADDRESS=Meeting Room D – Quiet Reading Room 224 Main Street Brattleboro VT 05301 United States;X-APPLE-RADIUS=500;X-TITLE=224 Main Street:geo:-72.5599024,42.8553213
END:VEVENT
BEGIN:VEVENT
DTSTART;TZID=America/New_York:20241129T100000
DTEND;TZID=America/New_York:20241129T180000
DTSTAMP:20260425T211348
CREATED:20240910T200721Z
LAST-MODIFIED:20241112T171113Z
UID:10002348-1732874400-1732903200@brookslibraryvt.org
SUMMARY:Friends of the Library Book Sale Kick Off
DESCRIPTION:The Friends of the Library’s Annual Book Sale will begin on Friday\, November 29th and Saturday\, November 30th. Remainders will be available through the end of the year during regular library hours. \nMost items will be $2 or less and you will have the opportunity to purchase raffle tickets for some fabulous literary-themed gift baskets. \nProceeds from the sale support the patrons of the Brooks Memorial Library by funding programming\, museum\, passes\, and much more!
URL:https://brookslibraryvt.org/event/friends-of-the-library-book-sale-kick-off/2024-11-29/
LOCATION:Brooks Memorial Library\, 224 Main Street\, Brattleboro\, VT\, 05301\, United States
CATEGORIES:Adults,Children & Families,General
ATTACH;FMTTYPE=image/png:https://eadn-wc04-3360218.nxedge.io/wp-content/uploads/2024/09/Book-sale-newsletter-social-mediaInstagram-Post-e1725998886220.png
GEO:42.8553213;-72.5599024
X-APPLE-STRUCTURED-LOCATION;VALUE=URI;X-ADDRESS=Brooks Memorial Library 224 Main Street Brattleboro VT 05301 United States;X-APPLE-RADIUS=500;X-TITLE=224 Main Street:geo:-72.5599024,42.8553213
END:VEVENT
BEGIN:VEVENT
DTSTART;TZID=America/New_York:20241130T100000
DTEND;TZID=America/New_York:20241130T170000
DTSTAMP:20260425T211348
CREATED:20240910T200721Z
LAST-MODIFIED:20241112T171113Z
UID:10002349-1732960800-1732986000@brookslibraryvt.org
SUMMARY:Friends of the Library Book Sale Kick Off
DESCRIPTION:The Friends of the Library’s Annual Book Sale will begin on Friday\, November 29th and Saturday\, November 30th. Remainders will be available through the end of the year during regular library hours. \nMost items will be $2 or less and you will have the opportunity to purchase raffle tickets for some fabulous literary-themed gift baskets. \nProceeds from the sale support the patrons of the Brooks Memorial Library by funding programming\, museum\, passes\, and much more!
URL:https://brookslibraryvt.org/event/friends-of-the-library-book-sale-kick-off/2024-11-30/
LOCATION:Brooks Memorial Library\, 224 Main Street\, Brattleboro\, VT\, 05301\, United States
CATEGORIES:Adults,Children & Families,General
ATTACH;FMTTYPE=image/png:https://eadn-wc04-3360218.nxedge.io/wp-content/uploads/2024/09/Book-sale-newsletter-social-mediaInstagram-Post-e1725998886220.png
GEO:42.8553213;-72.5599024
X-APPLE-STRUCTURED-LOCATION;VALUE=URI;X-ADDRESS=Brooks Memorial Library 224 Main Street Brattleboro VT 05301 United States;X-APPLE-RADIUS=500;X-TITLE=224 Main Street:geo:-72.5599024,42.8553213
END:VEVENT
END:VCALENDAR