BEGIN:VCALENDAR
VERSION:2.0
PRODID:-//Brooks Memorial Library - Brattleboro VT - ECPv6.15.17.1//NONSGML v1.0//EN
CALSCALE:GREGORIAN
METHOD:PUBLISH
X-ORIGINAL-URL:https://brookslibraryvt.org
X-WR-CALDESC:Events for Brooks Memorial Library - Brattleboro VT
REFRESH-INTERVAL;VALUE=DURATION:PT1H
X-Robots-Tag:noindex
X-PUBLISHED-TTL:PT1H
BEGIN:VTIMEZONE
TZID:America/New_York
BEGIN:DAYLIGHT
TZOFFSETFROM:-0500
TZOFFSETTO:-0400
TZNAME:EDT
DTSTART:20230312T070000
END:DAYLIGHT
BEGIN:STANDARD
TZOFFSETFROM:-0400
TZOFFSETTO:-0500
TZNAME:EST
DTSTART:20231105T060000
END:STANDARD
BEGIN:DAYLIGHT
TZOFFSETFROM:-0500
TZOFFSETTO:-0400
TZNAME:EDT
DTSTART:20240310T070000
END:DAYLIGHT
BEGIN:STANDARD
TZOFFSETFROM:-0400
TZOFFSETTO:-0500
TZNAME:EST
DTSTART:20241103T060000
END:STANDARD
BEGIN:DAYLIGHT
TZOFFSETFROM:-0500
TZOFFSETTO:-0400
TZNAME:EDT
DTSTART:20250309T070000
END:DAYLIGHT
BEGIN:STANDARD
TZOFFSETFROM:-0400
TZOFFSETTO:-0500
TZNAME:EST
DTSTART:20251102T060000
END:STANDARD
END:VTIMEZONE
BEGIN:VEVENT
DTSTART;TZID=America/New_York:20241202T183000
DTEND;TZID=America/New_York:20241202T193000
DTSTAMP:20260425T144443
CREATED:20241121T010213Z
LAST-MODIFIED:20241121T010213Z
UID:10003559-1733164200-1733167800@brookslibraryvt.org
SUMMARY:Saving Money and Surviving the Holidays Financially
DESCRIPTION:In this class\,  you’ll learn practical strategies to manage your finances and avoid holiday debt while enjoying the season. From budgeting tips to smart shopping hacks\, we’ll help you navigate the holiday frenzy with confidence and financial peace of mind.  Presented by Southeastern Vermont Community Action (SEVCA) and Mascoma Bank.  \nThis class is FREE. Dinner is provided from 6 PM.  Registration is required.
URL:https://brookslibraryvt.org/event/saving-money-and-surviving-the-holidays-financially/
LOCATION:Meeting Room A – Community Meeting Room\, 224 Main Street\, Brattleboro\, VT\, 05301\, United States
CATEGORIES:Adults,General
ATTACH;FMTTYPE=image/png:https://eadn-wc04-3360218.nxedge.io/wp-content/uploads/2024/11/Saving-Money-and-Surviving-the-Holidays-event-calendar-1600-x-900-px-1.png
ORGANIZER;CN="Brooks Memorial Library":MAILTO:outreach@brookslibraryvt.org
GEO:42.8553213;-72.5599024
X-APPLE-STRUCTURED-LOCATION;VALUE=URI;X-ADDRESS=Meeting Room A – Community Meeting Room 224 Main Street Brattleboro VT 05301 United States;X-APPLE-RADIUS=500;X-TITLE=224 Main Street:geo:-72.5599024,42.8553213
END:VEVENT
BEGIN:VEVENT
DTSTART;TZID=America/New_York:20241204T173000
DTEND;TZID=America/New_York:20241204T193000
DTSTAMP:20260425T144443
CREATED:20241120T192914Z
LAST-MODIFIED:20241120T193035Z
UID:10003468-1733333400-1733340600@brookslibraryvt.org
SUMMARY:CANCELED - Community Conversations: How Do State Policies Work for Brattleboro?
DESCRIPTION:As the Brattleboro Legislative Delegation gears up for the start of a new biennium in January\, we want to talk to folks in Brattleboro about the issues that matter to you and we expect to be diving deep into this winter. Topics will include healthcare\, education\, climate change\, and housing. Please join your Vermont Legislators\, hear from experts\, and share your experiences. \nThese conversations are happening on the 1st and 3rd Wednesdays in November and December. (11/6\, 11/20\, 12/4 and 12/18)
URL:https://brookslibraryvt.org/event/community-conversations-how-do-state-policies-work-for-brattleboro-4/
LOCATION:Meeting Room A – Community Meeting Room\, 224 Main Street\, Brattleboro\, VT\, 05301\, United States
CATEGORIES:Adults,General
ATTACH;FMTTYPE=image/jpeg:https://eadn-wc04-3360218.nxedge.io/wp-content/uploads/2022/12/vermont-seal.jpg
GEO:42.8553213;-72.5599024
X-APPLE-STRUCTURED-LOCATION;VALUE=URI;X-ADDRESS=Meeting Room A – Community Meeting Room 224 Main Street Brattleboro VT 05301 United States;X-APPLE-RADIUS=500;X-TITLE=224 Main Street:geo:-72.5599024,42.8553213
END:VEVENT
BEGIN:VEVENT
DTSTART;TZID=America/New_York:20241207T110000
DTEND;TZID=America/New_York:20241207T130000
DTSTAMP:20260425T144443
CREATED:20241016T185958Z
LAST-MODIFIED:20241114T164445Z
UID:10003472-1733569200-1733576400@brookslibraryvt.org
SUMMARY:350Vermont - Don't Burn Our Future: Clean Power Now!
DESCRIPTION:“Don’t Burn Our Future: Clean Power Now!” \nIn these moments of great political uncertainty\, getting organized is more important than ever. Learn about the opportunities we have to take action over the next year toward clean and just energy and creating the future we want to see. Folks will come away with clear next steps for action and further ways to get involved. \nPizza will be provided. Childcare available (please let us know on the RSVP form by 11/30). All are welcome to come! Please RSVP here. \n 
URL:https://brookslibraryvt.org/event/350vermont-dont-burn-our-future-clean-power-now/
LOCATION:Meeting Room A – Community Meeting Room\, 224 Main Street\, Brattleboro\, VT\, 05301\, United States
CATEGORIES:Adults,General
ATTACH;FMTTYPE=image/png:https://eadn-wc04-3360218.nxedge.io/wp-content/uploads/2024/10/350VTLogo-2018_285_29.png
ORGANIZER;CN="350Vermont":MAILTO:organizers@350vt.org
GEO:42.8553213;-72.5599024
X-APPLE-STRUCTURED-LOCATION;VALUE=URI;X-ADDRESS=Meeting Room A – Community Meeting Room 224 Main Street Brattleboro VT 05301 United States;X-APPLE-RADIUS=500;X-TITLE=224 Main Street:geo:-72.5599024,42.8553213
END:VEVENT
BEGIN:VEVENT
DTSTART;TZID=America/New_York:20241218T173000
DTEND;TZID=America/New_York:20241218T193000
DTSTAMP:20260425T144443
CREATED:20241012T134100Z
LAST-MODIFIED:20241031T150753Z
UID:10003469-1734543000-1734550200@brookslibraryvt.org
SUMMARY:Community Conversations: How Do State Policies Work for Brattleboro?
DESCRIPTION:As the Brattleboro Legislative Delegation gears up for the start of a new biennium in January\, we want to talk to folks in Brattleboro about the issues that matter to you and we expect to be diving deep into this winter. Topics will include healthcare\, education\, climate change\, and housing. Please join your Vermont Legislators\, hear from experts\, and share your experiences. \nThese conversations are happening on the 1st and 3rd Wednesdays in November and December. (11/6\, 11/20\, 12/4 and 12/18)
URL:https://brookslibraryvt.org/event/community-conversations-how-do-state-policies-work-for-brattleboro/2024-12-18/
LOCATION:Meeting Room A – Community Meeting Room\, 224 Main Street\, Brattleboro\, VT\, 05301\, United States
CATEGORIES:Adults,General
ATTACH;FMTTYPE=image/jpeg:https://eadn-wc04-3360218.nxedge.io/wp-content/uploads/2022/12/vermont-seal.jpg
GEO:42.8553213;-72.5599024
X-APPLE-STRUCTURED-LOCATION;VALUE=URI;X-ADDRESS=Meeting Room A – Community Meeting Room 224 Main Street Brattleboro VT 05301 United States;X-APPLE-RADIUS=500;X-TITLE=224 Main Street:geo:-72.5599024,42.8553213
END:VEVENT
BEGIN:VEVENT
DTSTART;TZID=America/New_York:20241223T190000
DTEND;TZID=America/New_York:20241223T203000
DTSTAMP:20260425T144443
CREATED:20241119T011618Z
LAST-MODIFIED:20250409T202119Z
UID:10003500-1734980400-1734985800@brookslibraryvt.org
SUMMARY:Green Carnation Reading Group
DESCRIPTION:Discussions of books by and for queer people. For more information\, please visit the Green Carnation Reading Group Facebook page.
URL:https://brookslibraryvt.org/event/green-carnation-book-group/2024-12-23/
LOCATION:Meeting Room D – Quiet Reading Room\, 224 Main Street\, Brattleboro\, VT\, 05301\, United States
CATEGORIES:Adults,General,Teens
ATTACH;FMTTYPE=image/jpeg:https://eadn-wc04-3360218.nxedge.io/wp-content/uploads/2024/11/439240485_122098227206294656_4239700080493349576_n-e1731978675948.jpg
ORGANIZER;CN="Green Carnation - Timothy Williams":MAILTO:readtiph6890@gmail.com
GEO:42.8553213;-72.5599024
X-APPLE-STRUCTURED-LOCATION;VALUE=URI;X-ADDRESS=Meeting Room D – Quiet Reading Room 224 Main Street Brattleboro VT 05301 United States;X-APPLE-RADIUS=500;X-TITLE=224 Main Street:geo:-72.5599024,42.8553213
END:VEVENT
END:VCALENDAR