BEGIN:VCALENDAR
VERSION:2.0
PRODID:-//Brooks Memorial Library - Brattleboro VT - ECPv6.15.17.1//NONSGML v1.0//EN
CALSCALE:GREGORIAN
METHOD:PUBLISH
X-ORIGINAL-URL:https://brookslibraryvt.org
X-WR-CALDESC:Events for Brooks Memorial Library - Brattleboro VT
REFRESH-INTERVAL;VALUE=DURATION:PT1H
X-Robots-Tag:noindex
X-PUBLISHED-TTL:PT1H
BEGIN:VTIMEZONE
TZID:America/New_York
BEGIN:DAYLIGHT
TZOFFSETFROM:-0500
TZOFFSETTO:-0400
TZNAME:EDT
DTSTART:20240310T070000
END:DAYLIGHT
BEGIN:STANDARD
TZOFFSETFROM:-0400
TZOFFSETTO:-0500
TZNAME:EST
DTSTART:20241103T060000
END:STANDARD
BEGIN:DAYLIGHT
TZOFFSETFROM:-0500
TZOFFSETTO:-0400
TZNAME:EDT
DTSTART:20250309T070000
END:DAYLIGHT
BEGIN:STANDARD
TZOFFSETFROM:-0400
TZOFFSETTO:-0500
TZNAME:EST
DTSTART:20251102T060000
END:STANDARD
BEGIN:DAYLIGHT
TZOFFSETFROM:-0500
TZOFFSETTO:-0400
TZNAME:EDT
DTSTART:20260308T070000
END:DAYLIGHT
BEGIN:STANDARD
TZOFFSETFROM:-0400
TZOFFSETTO:-0500
TZNAME:EST
DTSTART:20261101T060000
END:STANDARD
END:VTIMEZONE
BEGIN:VEVENT
DTSTART;TZID=America/New_York:20250802T130000
DTEND;TZID=America/New_York:20250802T160000
DTSTAMP:20260424T010331
CREATED:20250103T195250Z
LAST-MODIFIED:20251204T220811Z
UID:10003828-1754139600-1754150400@brookslibraryvt.org
SUMMARY:Brattleboro in Stitches
DESCRIPTION:Bring a work in progress to sew\, knit\, crochet\, embroider\, or mend. Sewing machines\, irons\, and companionship will be provided.
URL:https://brookslibraryvt.org/event/brattleboro-in-stitches-6/2025-08-02/
LOCATION:Meeting Room A – Community Meeting Room\, 224 Main Street\, Brattleboro\, VT\, 05301\, United States
CATEGORIES:Adults,Children & Families,General
ATTACH;FMTTYPE=image/png:https://eadn-wc04-3360218.nxedge.io/wp-content/uploads/2023/03/Brattleboro-in-Stitches-Event-Calendar2.png
ORGANIZER;CN="Brooks Memorial Library":MAILTO:outreach@brookslibraryvt.org
GEO:42.8553213;-72.5599024
X-APPLE-STRUCTURED-LOCATION;VALUE=URI;X-ADDRESS=Meeting Room A – Community Meeting Room 224 Main Street Brattleboro VT 05301 United States;X-APPLE-RADIUS=500;X-TITLE=224 Main Street:geo:-72.5599024,42.8553213
END:VEVENT
BEGIN:VEVENT
DTSTART;TZID=America/New_York:20250805T180000
DTEND;TZID=America/New_York:20250805T204500
DTSTAMP:20260424T010331
CREATED:20250205T200216Z
LAST-MODIFIED:20251204T183206Z
UID:10003927-1754416800-1754426700@brookslibraryvt.org
SUMMARY:Mineralogical Society
DESCRIPTION:Join the Brattleboro Mineralogical Society to discuss Minerals and other Geological topics!
URL:https://brookslibraryvt.org/event/mineralogical-society-4/2025-08-05/
LOCATION:Meeting Room A – Community Meeting Room\, 224 Main Street\, Brattleboro\, VT\, 05301\, United States
CATEGORIES:Adults,General
ATTACH;FMTTYPE=image/png:https://eadn-wc04-3360218.nxedge.io/wp-content/uploads/2021/12/MineralogicalSociety.png
ORGANIZER;CN="Robert Clements - Mineralogical Society":MAILTO:rwc2esj@comcast.net
GEO:42.8553213;-72.5599024
X-APPLE-STRUCTURED-LOCATION;VALUE=URI;X-ADDRESS=Meeting Room A – Community Meeting Room 224 Main Street Brattleboro VT 05301 United States;X-APPLE-RADIUS=500;X-TITLE=224 Main Street:geo:-72.5599024,42.8553213
END:VEVENT
BEGIN:VEVENT
DTSTART;TZID=America/New_York:20250809T130000
DTEND;TZID=America/New_York:20250809T160000
DTSTAMP:20260424T010331
CREATED:20250103T195250Z
LAST-MODIFIED:20251204T220811Z
UID:10003829-1754744400-1754755200@brookslibraryvt.org
SUMMARY:Brattleboro in Stitches
DESCRIPTION:Bring a work in progress to sew\, knit\, crochet\, embroider\, or mend. Sewing machines\, irons\, and companionship will be provided.
URL:https://brookslibraryvt.org/event/brattleboro-in-stitches-6/2025-08-09/
LOCATION:Meeting Room A – Community Meeting Room\, 224 Main Street\, Brattleboro\, VT\, 05301\, United States
CATEGORIES:Adults,Children & Families,General
ATTACH;FMTTYPE=image/png:https://eadn-wc04-3360218.nxedge.io/wp-content/uploads/2023/03/Brattleboro-in-Stitches-Event-Calendar2.png
ORGANIZER;CN="Brooks Memorial Library":MAILTO:outreach@brookslibraryvt.org
GEO:42.8553213;-72.5599024
X-APPLE-STRUCTURED-LOCATION;VALUE=URI;X-ADDRESS=Meeting Room A – Community Meeting Room 224 Main Street Brattleboro VT 05301 United States;X-APPLE-RADIUS=500;X-TITLE=224 Main Street:geo:-72.5599024,42.8553213
END:VEVENT
BEGIN:VEVENT
DTSTART;TZID=America/New_York:20250816T103000
DTEND;TZID=America/New_York:20250816T121500
DTSTAMP:20260424T010331
CREATED:20250812T181834Z
LAST-MODIFIED:20250813T171910Z
UID:10004455-1755340200-1755346500@brookslibraryvt.org
SUMMARY:One Million Rising Resistance Gathering
DESCRIPTION:Join us for a One Million Rising Resistance Gathering. At this local community gathering\, attendees will stand in community together\, ready to take action. They will participate in a lively discussion addressing the real time threat America is facing as we quickly shift away from our democratic values and into an authoritarian regime. We will talk through ways our local community can take action and help stop this through noncooperation techniques.  \n**A core principle behind all Indivisible events is a commitment to nonviolent action. We expect all participants to seek to de-escalate any potential confrontation with those who disagree with our values. We expect hosts to ensure all participants in your event uphold this commitment. We recommend all participants review our safety and security resource before your event: https://indivisi.org/safety**
URL:https://brookslibraryvt.org/event/one-million-rising-resistance-gathering/
LOCATION:Meeting Room A – Community Meeting Room\, 224 Main Street\, Brattleboro\, VT\, 05301\, United States
CATEGORIES:Adults,General
ATTACH;FMTTYPE=image/jpeg:https://eadn-wc04-3360218.nxedge.io/wp-content/uploads/2025/08/one_million_rising.logo_.jpg
ORGANIZER;CN="Keane Southard":MAILTO:keane.southard@hotmail.com
GEO:42.8553213;-72.5599024
X-APPLE-STRUCTURED-LOCATION;VALUE=URI;X-ADDRESS=Meeting Room A – Community Meeting Room 224 Main Street Brattleboro VT 05301 United States;X-APPLE-RADIUS=500;X-TITLE=224 Main Street:geo:-72.5599024,42.8553213
END:VEVENT
BEGIN:VEVENT
DTSTART;TZID=America/New_York:20250816T130000
DTEND;TZID=America/New_York:20250816T160000
DTSTAMP:20260424T010331
CREATED:20250103T195250Z
LAST-MODIFIED:20251204T220811Z
UID:10003830-1755349200-1755360000@brookslibraryvt.org
SUMMARY:Brattleboro in Stitches
DESCRIPTION:Bring a work in progress to sew\, knit\, crochet\, embroider\, or mend. Sewing machines\, irons\, and companionship will be provided.
URL:https://brookslibraryvt.org/event/brattleboro-in-stitches-6/2025-08-16/
LOCATION:Meeting Room A – Community Meeting Room\, 224 Main Street\, Brattleboro\, VT\, 05301\, United States
CATEGORIES:Adults,Children & Families,General
ATTACH;FMTTYPE=image/png:https://eadn-wc04-3360218.nxedge.io/wp-content/uploads/2023/03/Brattleboro-in-Stitches-Event-Calendar2.png
ORGANIZER;CN="Brooks Memorial Library":MAILTO:outreach@brookslibraryvt.org
GEO:42.8553213;-72.5599024
X-APPLE-STRUCTURED-LOCATION;VALUE=URI;X-ADDRESS=Meeting Room A – Community Meeting Room 224 Main Street Brattleboro VT 05301 United States;X-APPLE-RADIUS=500;X-TITLE=224 Main Street:geo:-72.5599024,42.8553213
END:VEVENT
BEGIN:VEVENT
DTSTART;TZID=America/New_York:20250818T160000
DTEND;TZID=America/New_York:20250818T173000
DTSTAMP:20260424T010331
CREATED:20250725T164027Z
LAST-MODIFIED:20250729T172028Z
UID:10004446-1755532800-1755538200@brookslibraryvt.org
SUMMARY:Introduction to Buddhist Mindfulness Meditation
DESCRIPTION:This offering will be lead by Bhante Rathana\, a Buddhist monk originally from Sri Lanka and currently residing at Serenity Central of New England in Jacksonville\, Vermont. He has been dedicated to the path of Dhamma since the age of 13\, and his journey includes over two decades of monastic training\, study\, and teaching in Sri Lanka and the United States.\n  \n\nAt these sessions\, Bhante will be offering practical guidance in   breathing meditation (ānāpānasati)\, loving-kindness meditation (mettā bhāvanā)\, and walking meditation\, rooted in the original teachings of the Buddha as preserved in the Pāli Canon. His approach draws directly from early Buddhist texts\, focusing on mindfulness\, compassion\, and inner peace.\n  \n\nWith gentle\, step-by-step instruction\, Bhante aims to help participants develop calm\, clarity\, and deeper awareness—whether you are new to meditation or wish to strengthen your practice.
URL:https://brookslibraryvt.org/event/green-mountain-meditation-center/
LOCATION:Meeting Room A – Community Meeting Room\, 224 Main Street\, Brattleboro\, VT\, 05301\, United States
CATEGORIES:Adults,General
ATTACH;FMTTYPE=image/jpeg:https://eadn-wc04-3360218.nxedge.io/wp-content/uploads/2025/07/513707710_122175108476357187_1881501774102188897_n.jpg
ORGANIZER;CN="Green Mountain Meditation Center":MAILTO:GreenMountainMonk@gmail.com
GEO:42.8553213;-72.5599024
X-APPLE-STRUCTURED-LOCATION;VALUE=URI;X-ADDRESS=Meeting Room A – Community Meeting Room 224 Main Street Brattleboro VT 05301 United States;X-APPLE-RADIUS=500;X-TITLE=224 Main Street:geo:-72.5599024,42.8553213
END:VEVENT
BEGIN:VEVENT
DTSTART;TZID=America/New_York:20250818T190000
DTEND;TZID=America/New_York:20250818T203000
DTSTAMP:20260424T010331
CREATED:20250708T205133Z
LAST-MODIFIED:20250712T142027Z
UID:10003729-1755543600-1755549000@brookslibraryvt.org
SUMMARY:Sci-Fi Reading Group
DESCRIPTION:The Sci-Fi Reading Group will meet in the Quiet Reading Room from 7:00pm – 8:30pm to discuss Hammajang Luck by Makana Yamamoto! \nEdie is done with crime. Eight years behind bars changes a person—costs them too much time with too many of the people who need them most. \nAnd it’s all Angel’s fault. She sold Edie out in what should have been the greatest moment of their lives. Instead\, Edie was shipped off to the icy prison planet spinning far below the soaring skybridges and neon catacombs of Kepler space station—of home—to spend the best part of a decade alone. \nBut then a chance for early parole appears out of nowhere and Edie steps into the pallid sunlight to find none other than Angel waiting—and she has an offer. \nOne last job. One last deal. One last target. The trillionaire tech god they failed to bring down last time. There’s just one thing Edie needs to do—trust Angel again—which also happens to be the last thing Edie wants to do. What could possibly go all hammajang about this plan? \nThe Sci-Fi Reading Group meets the third Monday of every month and is open to curious minds\, whether or not they’ve read this month’s selection.
URL:https://brookslibraryvt.org/event/sci-fi-reading-group-2-7/
LOCATION:Meeting Room D – Quiet Reading Room\, 224 Main Street\, Brattleboro\, VT\, 05301\, United States
CATEGORIES:Adults,General,Teens
ATTACH;FMTTYPE=image/png:https://eadn-wc04-3360218.nxedge.io/wp-content/uploads/2025/07/AUG25-Icon.png
ORGANIZER;CN="Brooks Memorial Library":MAILTO:outreach@brookslibraryvt.org
GEO:42.8553213;-72.5599024
X-APPLE-STRUCTURED-LOCATION;VALUE=URI;X-ADDRESS=Meeting Room D – Quiet Reading Room 224 Main Street Brattleboro VT 05301 United States;X-APPLE-RADIUS=500;X-TITLE=224 Main Street:geo:-72.5599024,42.8553213
END:VEVENT
BEGIN:VEVENT
DTSTART;TZID=America/New_York:20250820T190000
DTEND;TZID=America/New_York:20250820T203000
DTSTAMP:20260424T010331
CREATED:20250811T155832Z
LAST-MODIFIED:20250811T155832Z
UID:10004454-1755716400-1755721800@brookslibraryvt.org
SUMMARY:Exploring Oaxaca\, Mexico - Travel Fever Tours
DESCRIPTION:A look at the food and culture of Oaxaca\, Mexico\, with slide show and presentation by long-time Oaxaca resident Mimi Marchev. Mimi is a retired SIT staff member.
URL:https://brookslibraryvt.org/event/exploring-oaxaca-mexico-travel-fever-tours/
LOCATION:Meeting Room A – Community Meeting Room\, 224 Main Street\, Brattleboro\, VT\, 05301\, United States
CATEGORIES:Adults,General
ATTACH;FMTTYPE=image/jpeg:https://eadn-wc04-3360218.nxedge.io/wp-content/uploads/2025/08/PXL_20250117_174846121.PORTRAIT-b-scaled.jpg
ORGANIZER;CN="Travel Fever Tours LLC":MAILTO:service@travelfevertours.com
GEO:42.8553213;-72.5599024
X-APPLE-STRUCTURED-LOCATION;VALUE=URI;X-ADDRESS=Meeting Room A – Community Meeting Room 224 Main Street Brattleboro VT 05301 United States;X-APPLE-RADIUS=500;X-TITLE=224 Main Street:geo:-72.5599024,42.8553213
END:VEVENT
BEGIN:VEVENT
DTSTART;TZID=America/New_York:20250823T103000
DTEND;TZID=America/New_York:20250823T123000
DTSTAMP:20260424T010331
CREATED:20250609T221434Z
LAST-MODIFIED:20250717T151040Z
UID:10004250-1755945000-1755952200@brookslibraryvt.org
SUMMARY:Illustration for Science! Workshop III: Local Botanicals
DESCRIPTION:THIS WORKSHOP IS FULL. PLEASE CONTACT US TO JOIN THE WAITLIST. \nWorkshop III: Local Botanicals — Saturday\, August 23 \nExplore the fascinating world of plants in this botanical drawing and watercolor workshop\, presented in collaboration with The River Gallery School. With an emphasis on observation\, participants will learn to study and sketch the details of local plants\, understanding their unique characteristics and importance. These drawings may contribute to scientific research\, especially in plant identification and conservation efforts. \n  \nIllustration for Science!\nSummer of Community Science Art Workshop Series\nAdult Summer Reading Program \nWorkshop I: Butterflies + Moths — Saturday\, July 19 \nWorkshop II: Birds — Saturday\, July 26 \nWorkshop III: Local Botanicals — Saturday\, August 23 \nJoin us for a series of three nature-inspired classes designed for adults and youth ages 15 and up. These hour-and-a-half workshops will focus on the skill of close observation\, a vital gift of drawing from life\, which connects the visual arts with the sciences. Each workshop provides an opportunity to explore the natural world while learning to create detailed illustrations that could contribute to community science projects. \nThroughout these workshops\, the emphasis is on learning how to see the natural world through a new lens. Drawing from observation will enhance participants’ attention to detail\, fostering a deeper connection between art and science while contributing to the understanding of our local environment. \nParticipants are welcome to attend one or all workshops\, and all sessions are free. \nRegistration is required. Please contact the Circulation Desk (in person\, 802-254-5290\, circ@brookslibraryvt.org) to register by Monday\, August 18.
URL:https://brookslibraryvt.org/event/illustration-for-science-workshop-i-butterflies-moths-3/
LOCATION:Meeting Room A – Community Meeting Room\, 224 Main Street\, Brattleboro\, VT\, 05301\, United States
CATEGORIES:Adults,General
ATTACH;FMTTYPE=image/png:https://eadn-wc04-3360218.nxedge.io/wp-content/uploads/2025/06/Illustration-for-Science-Calendar-940-x-788-px1.png
ORGANIZER;CN="Brooks Memorial Library":MAILTO:outreach@brookslibraryvt.org
GEO:42.8553213;-72.5599024
X-APPLE-STRUCTURED-LOCATION;VALUE=URI;X-ADDRESS=Meeting Room A – Community Meeting Room 224 Main Street Brattleboro VT 05301 United States;X-APPLE-RADIUS=500;X-TITLE=224 Main Street:geo:-72.5599024,42.8553213
END:VEVENT
BEGIN:VEVENT
DTSTART;TZID=America/New_York:20250823T130000
DTEND;TZID=America/New_York:20250823T160000
DTSTAMP:20260424T010331
CREATED:20250103T195250Z
LAST-MODIFIED:20251204T220811Z
UID:10003831-1755954000-1755964800@brookslibraryvt.org
SUMMARY:Brattleboro in Stitches
DESCRIPTION:Bring a work in progress to sew\, knit\, crochet\, embroider\, or mend. Sewing machines\, irons\, and companionship will be provided.
URL:https://brookslibraryvt.org/event/brattleboro-in-stitches-6/2025-08-23/
LOCATION:Meeting Room A – Community Meeting Room\, 224 Main Street\, Brattleboro\, VT\, 05301\, United States
CATEGORIES:Adults,Children & Families,General
ATTACH;FMTTYPE=image/png:https://eadn-wc04-3360218.nxedge.io/wp-content/uploads/2023/03/Brattleboro-in-Stitches-Event-Calendar2.png
ORGANIZER;CN="Brooks Memorial Library":MAILTO:outreach@brookslibraryvt.org
GEO:42.8553213;-72.5599024
X-APPLE-STRUCTURED-LOCATION;VALUE=URI;X-ADDRESS=Meeting Room A – Community Meeting Room 224 Main Street Brattleboro VT 05301 United States;X-APPLE-RADIUS=500;X-TITLE=224 Main Street:geo:-72.5599024,42.8553213
END:VEVENT
BEGIN:VEVENT
DTSTART;TZID=America/New_York:20250825T180000
DTEND;TZID=America/New_York:20250825T200000
DTSTAMP:20260424T010331
CREATED:20250819T211908Z
LAST-MODIFIED:20250819T211908Z
UID:10004456-1756144800-1756152000@brookslibraryvt.org
SUMMARY:One Million Rising Resistance Gathering
DESCRIPTION:Join us for a One Million Rising Resistance Gathering. At this local community gathering attendees will stand in community together\, ready to take action. They will participate in a lively discussion addressing the real time threat America is facing as we quickly shift away from our democratic values and into an authoritarian regime. We will talk through ways our local community can take action and help stop this through noncooperation techniques.
URL:https://brookslibraryvt.org/event/one-million-rising-resistance-gathering-2/
LOCATION:Meeting Room A – Community Meeting Room\, 224 Main Street\, Brattleboro\, VT\, 05301\, United States
CATEGORIES:Adults,General
ATTACH;FMTTYPE=image/jpeg:https://eadn-wc04-3360218.nxedge.io/wp-content/uploads/2025/08/one_million_rising.logo_.jpg
ORGANIZER;CN="Keane Southard":MAILTO:keane.southard@hotmail.com
GEO:42.8553213;-72.5599024
X-APPLE-STRUCTURED-LOCATION;VALUE=URI;X-ADDRESS=Meeting Room A – Community Meeting Room 224 Main Street Brattleboro VT 05301 United States;X-APPLE-RADIUS=500;X-TITLE=224 Main Street:geo:-72.5599024,42.8553213
END:VEVENT
BEGIN:VEVENT
DTSTART;TZID=America/New_York:20250825T190000
DTEND;TZID=America/New_York:20250825T203000
DTSTAMP:20260424T010331
CREATED:20241119T011618Z
LAST-MODIFIED:20250409T202119Z
UID:10003508-1756148400-1756153800@brookslibraryvt.org
SUMMARY:Green Carnation Reading Group
DESCRIPTION:Discussions of books by and for queer people. For more information\, please visit the Green Carnation Reading Group Facebook page.
URL:https://brookslibraryvt.org/event/green-carnation-book-group/2025-08-25/
LOCATION:Meeting Room D – Quiet Reading Room\, 224 Main Street\, Brattleboro\, VT\, 05301\, United States
CATEGORIES:Adults,General,Teens
ATTACH;FMTTYPE=image/jpeg:https://eadn-wc04-3360218.nxedge.io/wp-content/uploads/2024/11/439240485_122098227206294656_4239700080493349576_n-e1731978675948.jpg
ORGANIZER;CN="Green Carnation - Timothy Williams":MAILTO:readtiph6890@gmail.com
GEO:42.8553213;-72.5599024
X-APPLE-STRUCTURED-LOCATION;VALUE=URI;X-ADDRESS=Meeting Room D – Quiet Reading Room 224 Main Street Brattleboro VT 05301 United States;X-APPLE-RADIUS=500;X-TITLE=224 Main Street:geo:-72.5599024,42.8553213
END:VEVENT
BEGIN:VEVENT
DTSTART;TZID=America/New_York:20250827T190000
DTEND;TZID=America/New_York:20250827T203000
DTSTAMP:20260424T010331
CREATED:20250726T170720Z
LAST-MODIFIED:20250726T180539Z
UID:10004449-1756321200-1756326600@brookslibraryvt.org
SUMMARY:APRIL OSSMANN: CALL & RESPONSE READINGS FROM WE – joined by local poet Tim Mayo
DESCRIPTION:“WE\,” a collection of poems by April Ossmann\, will be shared in a call and response reading on Wednesday evening\, 08/27\, in Brooks Memorial Library’s Main Reading Room. Ossmann will also sign copies of her book WE. \nWE seeks what unites us\, how to change our perceptions to heal families\, friendships\, and country of incivility and villainization by practicing greater compassion\, by seeing past egos to souls. Ossmann will read from WE\, share stories of being a bridge\, and invite audience participation with short (2-minute) personal stories of positive interactions with people you know or met: fellow shoppers\, travelers\, service providers\, neighbors\, etc.\, whose politics may differ from yours\, but with whom you shared a moment of mutual humanity.  Please come prepared to share. \nApril Ossmann is the author of We (Red Hen Press\, 2025) and Event Boundaries and Anxious Music\, recipient of a VAC Creation Grant\, and former director of Alice James Books\, and an independent editor at: www.aprilossmann.com \nOssmann will be joined by local poet and friend Tim Mayo who will read poems from his collection Notes to the Mental Hospital Timekeeper and talk a bit about his work in a mental hospital.  Mayo will end by reading some poems from his new manuscript Muscles Memories of Love and Disaster.  \nTim Mayo’s poems have received seven Pushcart Prize nominations. His second volume of poems\, Thesaurus of Separation (Phoenicia Publishing\, Montréal\, 2016) was a finalist for the 2017 Montaigne Medal and for the Eric Hoffer Book Award. His subsequent chapbook\, Notes to the Mental Hospital Timekeeper (Kelsay Books\, 2019) won Honorable Mention in the 2020 Eric Hoffer Chapbook contest. He works at the Brattleboro Retreat and is a founding member of the Brattleboro Literary Festival Author Committee.  For more information:  http://www.tim-mayo.net \nByway Books will have publications from both authors for sale.
URL:https://brookslibraryvt.org/event/april-ossmann-call-response-readings-from-we-joined-by-local-poet-tim-mayo/
LOCATION:Main Reading Room
CATEGORIES:Adults,General
ATTACH;FMTTYPE=image/png:https://eadn-wc04-3360218.nxedge.io/wp-content/uploads/2025/07/April-Ossman-Tim-Mayo.png
GEO:42.8553213;-72.5599024
END:VEVENT
BEGIN:VEVENT
DTSTART;TZID=America/New_York:20250830T130000
DTEND;TZID=America/New_York:20250830T160000
DTSTAMP:20260424T010331
CREATED:20250103T195250Z
LAST-MODIFIED:20251204T220811Z
UID:10003832-1756558800-1756569600@brookslibraryvt.org
SUMMARY:Brattleboro in Stitches
DESCRIPTION:Bring a work in progress to sew\, knit\, crochet\, embroider\, or mend. Sewing machines\, irons\, and companionship will be provided.
URL:https://brookslibraryvt.org/event/brattleboro-in-stitches-6/2025-08-30/
LOCATION:Meeting Room A – Community Meeting Room\, 224 Main Street\, Brattleboro\, VT\, 05301\, United States
CATEGORIES:Adults,Children & Families,General
ATTACH;FMTTYPE=image/png:https://eadn-wc04-3360218.nxedge.io/wp-content/uploads/2023/03/Brattleboro-in-Stitches-Event-Calendar2.png
ORGANIZER;CN="Brooks Memorial Library":MAILTO:outreach@brookslibraryvt.org
GEO:42.8553213;-72.5599024
X-APPLE-STRUCTURED-LOCATION;VALUE=URI;X-ADDRESS=Meeting Room A – Community Meeting Room 224 Main Street Brattleboro VT 05301 United States;X-APPLE-RADIUS=500;X-TITLE=224 Main Street:geo:-72.5599024,42.8553213
END:VEVENT
END:VCALENDAR