BEGIN:VCALENDAR
VERSION:2.0
PRODID:-//Brooks Memorial Library - Brattleboro VT - ECPv6.15.17.1//NONSGML v1.0//EN
CALSCALE:GREGORIAN
METHOD:PUBLISH
X-WR-CALNAME:Brooks Memorial Library - Brattleboro VT
X-ORIGINAL-URL:https://brookslibraryvt.org
X-WR-CALDESC:Events for Brooks Memorial Library - Brattleboro VT
REFRESH-INTERVAL;VALUE=DURATION:PT1H
X-Robots-Tag:noindex
X-PUBLISHED-TTL:PT1H
BEGIN:VTIMEZONE
TZID:America/New_York
BEGIN:DAYLIGHT
TZOFFSETFROM:-0500
TZOFFSETTO:-0400
TZNAME:EDT
DTSTART:20240310T070000
END:DAYLIGHT
BEGIN:STANDARD
TZOFFSETFROM:-0400
TZOFFSETTO:-0500
TZNAME:EST
DTSTART:20241103T060000
END:STANDARD
BEGIN:DAYLIGHT
TZOFFSETFROM:-0500
TZOFFSETTO:-0400
TZNAME:EDT
DTSTART:20250309T070000
END:DAYLIGHT
BEGIN:STANDARD
TZOFFSETFROM:-0400
TZOFFSETTO:-0500
TZNAME:EST
DTSTART:20251102T060000
END:STANDARD
BEGIN:DAYLIGHT
TZOFFSETFROM:-0500
TZOFFSETTO:-0400
TZNAME:EDT
DTSTART:20260308T070000
END:DAYLIGHT
BEGIN:STANDARD
TZOFFSETFROM:-0400
TZOFFSETTO:-0500
TZNAME:EST
DTSTART:20261101T060000
END:STANDARD
END:VTIMEZONE
BEGIN:VEVENT
DTSTART;TZID=America/New_York:20250324T101500
DTEND;TZID=America/New_York:20250324T113000
DTSTAMP:20260424T181850
CREATED:20250303T222124Z
LAST-MODIFIED:20250611T173820Z
UID:10004035-1742811300-1742815800@brookslibraryvt.org
SUMMARY:Multigenerational Civics Class
DESCRIPTION:Who has power over us? What power do we have to create the world around us? The Vermont Village School welcomes villagers of all ages to participate in a people’s Civics class with us this spring at Brooks Memorial Library. We will be untangling the different institutions that exert power over us\, past and present\, official and unofficial\, and brainstorming how we move forward together. \n\nJoin us Monday at 10:15am @ Brooks Memorial Library\, Brattleboro. This will be the first of a series–we will plan future gatherings based on collective interest and energy.
URL:https://brookslibraryvt.org/event/multigenerational-civics-class/2025-03-24/
LOCATION:Meeting Room A – Community Meeting Room\, 224 Main Street\, Brattleboro\, VT\, 05301\, United States
CATEGORIES:Adults,Children & Families,General
ATTACH;FMTTYPE=image/jpeg:https://eadn-wc04-3360218.nxedge.io/wp-content/uploads/2025/03/VVS-Scrapbook30-scaled.jpg
ORGANIZER;CN="Vermont Village School":MAILTO:shayonye@gmail.com
GEO:42.8553213;-72.5599024
X-APPLE-STRUCTURED-LOCATION;VALUE=URI;X-ADDRESS=Meeting Room A – Community Meeting Room 224 Main Street Brattleboro VT 05301 United States;X-APPLE-RADIUS=500;X-TITLE=224 Main Street:geo:-72.5599024,42.8553213
END:VEVENT
BEGIN:VEVENT
DTSTART;TZID=America/New_York:20250324T190000
DTEND;TZID=America/New_York:20250324T203000
DTSTAMP:20260424T181850
CREATED:20241119T011618Z
LAST-MODIFIED:20250409T202119Z
UID:10003503-1742842800-1742848200@brookslibraryvt.org
SUMMARY:Green Carnation Reading Group
DESCRIPTION:Discussions of books by and for queer people. For more information\, please visit the Green Carnation Reading Group Facebook page.
URL:https://brookslibraryvt.org/event/green-carnation-book-group/2025-03-24/
LOCATION:Meeting Room D – Quiet Reading Room\, 224 Main Street\, Brattleboro\, VT\, 05301\, United States
CATEGORIES:Adults,General,Teens
ATTACH;FMTTYPE=image/jpeg:https://eadn-wc04-3360218.nxedge.io/wp-content/uploads/2024/11/439240485_122098227206294656_4239700080493349576_n-e1731978675948.jpg
ORGANIZER;CN="Green Carnation - Timothy Williams":MAILTO:readtiph6890@gmail.com
GEO:42.8553213;-72.5599024
X-APPLE-STRUCTURED-LOCATION;VALUE=URI;X-ADDRESS=Meeting Room D – Quiet Reading Room 224 Main Street Brattleboro VT 05301 United States;X-APPLE-RADIUS=500;X-TITLE=224 Main Street:geo:-72.5599024,42.8553213
END:VEVENT
BEGIN:VEVENT
DTSTART;TZID=America/New_York:20250326T133000
DTEND;TZID=America/New_York:20250326T143000
DTSTAMP:20260424T181850
CREATED:20250226T205853Z
LAST-MODIFIED:20250226T205905Z
UID:10004018-1742995800-1742999400@brookslibraryvt.org
SUMMARY:Lifelong Learning - Families First
DESCRIPTION:Lifelong Learning provides ongoing educational opportunities for adults with developmental disabilities. Participants become experts in areas of interest and share their knowledge with peers!
URL:https://brookslibraryvt.org/event/lifelong-learning-families-first-3/
LOCATION:Mezzanine Conference Room\, 224 Main Street\, Brattleboro\, VT\, 05301\, United States
CATEGORIES:Adults
ATTACH;FMTTYPE=image/jpeg:https://eadn-wc04-3360218.nxedge.io/wp-content/uploads/2025/02/th.jpg
ORGANIZER;CN="Families First - Lifelong Learning":MAILTO:Sarah.Duprey@lincolnstreetinc.org
GEO:42.8553213;-72.5599024
X-APPLE-STRUCTURED-LOCATION;VALUE=URI;X-ADDRESS=Mezzanine Conference Room 224 Main Street Brattleboro VT 05301 United States;X-APPLE-RADIUS=500;X-TITLE=224 Main Street:geo:-72.5599024,42.8553213
END:VEVENT
BEGIN:VEVENT
DTSTART;TZID=America/New_York:20250326T180000
DTEND;TZID=America/New_York:20250326T200000
DTSTAMP:20260424T181850
CREATED:20250127T201519Z
LAST-MODIFIED:20260318T154411Z
UID:10003890-1743012000-1743019200@brookslibraryvt.org
SUMMARY:Brattleboro 250 Planning Sessions
DESCRIPTION:Come and connect with others who are interested in working on plans to commemorate the 250th anniversary of the founding of the United States in 2026. \nThis monthly meeting space on the 4th Wednesdays is dedicated for those who would like the opportunity to connect\, collaborate\, and work on projects that align with Vermont’s 250th Anniversary Commission’s mission to “…inspire all Vermonters to learn from the history\, legacy\, and context of the past to build strong Vermont communities for the future.” \nThe space is being hosted by Brooks Memorial Library\, Vermont Independent Media (The Commons) and Windham World Affairs Council\, with support from the Vermont Humanities Council. We are already working together on a collaboration entitled\, ‘Examining American Identity and Leadership in a Changing World – and have joined America 250\, a national initiative asking communities to plan for how to commemorate the 250th year of the signing of the Declaration of Independence. Its mission is to provide opportunities for all Americans to pause and reflect on our nation’s past & present\, honor the contributions of all Americans\, and look to the future we want to create for the next generation and beyond.
URL:https://brookslibraryvt.org/event/brattleboro-250-planning-sessions/2025-03-26/
LOCATION:Meeting Room A – Community Meeting Room\, 224 Main Street\, Brattleboro\, VT\, 05301\, United States
CATEGORIES:Adults,General
ATTACH;FMTTYPE=image/png:https://eadn-wc04-3360218.nxedge.io/wp-content/uploads/2025/01/Screenshot-2025-03-08-162012.png
ORGANIZER;CN="Brattleboro 250":MAILTO:windhamworldaffairscouncil@gmail.com
GEO:42.8553213;-72.5599024
X-APPLE-STRUCTURED-LOCATION;VALUE=URI;X-ADDRESS=Meeting Room A – Community Meeting Room 224 Main Street Brattleboro VT 05301 United States;X-APPLE-RADIUS=500;X-TITLE=224 Main Street:geo:-72.5599024,42.8553213
END:VEVENT
BEGIN:VEVENT
DTSTART;TZID=America/New_York:20250329T130000
DTEND;TZID=America/New_York:20250329T160000
DTSTAMP:20260424T181850
CREATED:20250103T195250Z
LAST-MODIFIED:20251204T220811Z
UID:10003810-1743253200-1743264000@brookslibraryvt.org
SUMMARY:Brattleboro in Stitches
DESCRIPTION:Bring a work in progress to sew\, knit\, crochet\, embroider\, or mend. Sewing machines\, irons\, and companionship will be provided.
URL:https://brookslibraryvt.org/event/brattleboro-in-stitches-6/2025-03-29/
LOCATION:Meeting Room A – Community Meeting Room\, 224 Main Street\, Brattleboro\, VT\, 05301\, United States
CATEGORIES:Adults,Children & Families,General
ATTACH;FMTTYPE=image/png:https://eadn-wc04-3360218.nxedge.io/wp-content/uploads/2023/03/Brattleboro-in-Stitches-Event-Calendar2.png
ORGANIZER;CN="Brooks Memorial Library":MAILTO:outreach@brookslibraryvt.org
GEO:42.8553213;-72.5599024
X-APPLE-STRUCTURED-LOCATION;VALUE=URI;X-ADDRESS=Meeting Room A – Community Meeting Room 224 Main Street Brattleboro VT 05301 United States;X-APPLE-RADIUS=500;X-TITLE=224 Main Street:geo:-72.5599024,42.8553213
END:VEVENT
END:VCALENDAR