BEGIN:VCALENDAR
VERSION:2.0
PRODID:-//Brooks Memorial Library - Brattleboro VT - ECPv6.15.17.1//NONSGML v1.0//EN
CALSCALE:GREGORIAN
METHOD:PUBLISH
X-WR-CALNAME:Brooks Memorial Library - Brattleboro VT
X-ORIGINAL-URL:https://brookslibraryvt.org
X-WR-CALDESC:Events for Brooks Memorial Library - Brattleboro VT
REFRESH-INTERVAL;VALUE=DURATION:PT1H
X-Robots-Tag:noindex
X-PUBLISHED-TTL:PT1H
BEGIN:VTIMEZONE
TZID:America/New_York
BEGIN:DAYLIGHT
TZOFFSETFROM:-0500
TZOFFSETTO:-0400
TZNAME:EDT
DTSTART:20240310T070000
END:DAYLIGHT
BEGIN:STANDARD
TZOFFSETFROM:-0400
TZOFFSETTO:-0500
TZNAME:EST
DTSTART:20241103T060000
END:STANDARD
BEGIN:DAYLIGHT
TZOFFSETFROM:-0500
TZOFFSETTO:-0400
TZNAME:EDT
DTSTART:20250309T070000
END:DAYLIGHT
BEGIN:STANDARD
TZOFFSETFROM:-0400
TZOFFSETTO:-0500
TZNAME:EST
DTSTART:20251102T060000
END:STANDARD
BEGIN:DAYLIGHT
TZOFFSETFROM:-0500
TZOFFSETTO:-0400
TZNAME:EDT
DTSTART:20260308T070000
END:DAYLIGHT
BEGIN:STANDARD
TZOFFSETFROM:-0400
TZOFFSETTO:-0500
TZNAME:EST
DTSTART:20261101T060000
END:STANDARD
END:VTIMEZONE
BEGIN:VEVENT
DTSTART;TZID=America/New_York:20250707T180000
DTEND;TZID=America/New_York:20250707T193000
DTSTAMP:20260424T064303
CREATED:20250522T172310Z
LAST-MODIFIED:20250628T154720Z
UID:10004228-1751911200-1751916600@brookslibraryvt.org
SUMMARY:Speak up: Empowering Patients in Healthcare
DESCRIPTION:Join us to explore the critical role of self-advocacy in the healthcare process\, as well as strategies to enhance communication with medical providers. The workshop is free and open to the public. \nThis program is presented by The Center for Solace\, formerly Brattleboro Area Hospice.
URL:https://brookslibraryvt.org/event/self-advocacy-as-a-healthcare-consumer/
LOCATION:Meeting Room A – Community Meeting Room\, 224 Main Street\, Brattleboro\, VT\, 05301\, United States
CATEGORIES:Adults,General
ATTACH;FMTTYPE=image/jpeg:https://eadn-wc04-3360218.nxedge.io/wp-content/uploads/2025/05/SOLACErgb.jpg
ORGANIZER;CN="Center for Solace":MAILTO:info@cfsolace.org
GEO:42.8553213;-72.5599024
X-APPLE-STRUCTURED-LOCATION;VALUE=URI;X-ADDRESS=Meeting Room A – Community Meeting Room 224 Main Street Brattleboro VT 05301 United States;X-APPLE-RADIUS=500;X-TITLE=224 Main Street:geo:-72.5599024,42.8553213
END:VEVENT
BEGIN:VEVENT
DTSTART;TZID=America/New_York:20250708T180000
DTEND;TZID=America/New_York:20250708T191500
DTSTAMP:20260424T064303
CREATED:20250428T163325Z
LAST-MODIFIED:20250428T163325Z
UID:10004202-1751997600-1752002100@brookslibraryvt.org
SUMMARY:Exploring the Afterlife: Learning from Experts and Personal Experiences
DESCRIPTION:Have you had a near-death experience or communicated with a deceased loved one through a medium? Have you contemplated the possibility of reincarnation or had an experience about a past life? Do you wonder what awaits us in the afterlife? Western culture tends to dismiss or even disparage paranormal phenomena. But evidence is available to answer many questions about the afterlife. \nIn this five-part evening series on Tuesdays from June 17th to July 15th\, we will do three things: 1) read books by experts on near-death experiences\, scientific instruments and experiments in paranormal research\, out-of-body experiences\, and the work of reputable mediums; 2) raise questions and concerns about the evening’s topic; and 3) share personal experiences of paranormal phenomena in a safe environment. Each participant will choose a book from a provided list to report on. Participants are strongly encouraged to attend all sessions. \nThe group will be led by hospice chaplain and former social worker Diane Southard and Valerie Abrahamsen\, author of Paranormal: A New Testament Scholar Looks at the Afterlife (2015). \nParticipants are encouraged to contact Valerie at www.wisdomwordsppf.org/contact/ as soon as possible to obtain the book list and additional information. Adults over 18 are invited!
URL:https://brookslibraryvt.org/event/exploring-the-afterlife-learning-from-experts-and-personal-experiences/2025-07-08/
LOCATION:Meeting Room D – Quiet Reading Room\, 224 Main Street\, Brattleboro\, VT\, 05301\, United States
CATEGORIES:Adults,General
ATTACH;FMTTYPE=image/jpeg:https://eadn-wc04-3360218.nxedge.io/wp-content/uploads/2025/04/heaven.jpg
GEO:42.8553213;-72.5599024
X-APPLE-STRUCTURED-LOCATION;VALUE=URI;X-ADDRESS=Meeting Room D – Quiet Reading Room 224 Main Street Brattleboro VT 05301 United States;X-APPLE-RADIUS=500;X-TITLE=224 Main Street:geo:-72.5599024,42.8553213
END:VEVENT
BEGIN:VEVENT
DTSTART;TZID=America/New_York:20250712T110000
DTEND;TZID=America/New_York:20250712T150000
DTSTAMP:20260424T064304
CREATED:20250626T193013Z
LAST-MODIFIED:20250626T193714Z
UID:10004426-1752318000-1752332400@brookslibraryvt.org
SUMMARY:Vermont Butterfly Atlas Workshop & Butterfly Bioblitz
DESCRIPTION:The Brattleboro and Guilford Conservation Commissions\, Bonnyvale Environmental Education Center (BEEC)\, and Brooks Memorial Library are presenting an exciting opportunity to participate in community science! \nJoin Dana Williams from the Vermont Center for Ecostudies for a fun-filled day of learning about the butterflies of Windham County and how you can contribute to the Vermont Butterfly Atlas. Volunteers are needed to help search fields and fens\, mountains and meadows\, and even their own backyards to document the status of Vermont’s butterflies. Your efforts will help scientists detect changes in butterfly populations and provide essential information to protect butterflies and preserve their habitat. \nVermont Butterfly Atlas Workshop\n11am at Brooks Memorial Library \nThis indoor workshop will introduce the Vermont Butterfly Atlas and teach us how to observe and identify butterflies in the wild and report our sightings using eButterfly and iNaturalist. The Vermont Butterfly Atlas has already documented four species new or rediscovered in the state! Learn about community science field work and conservation efforts\, and ask questions about the finer points of butterfly identification and natural history. \nButterfly Bioblitz\n12:30pm at Hogle Wildlife Sanctuary (entrance at Eaton Avenue\, Brattleboro) \nDiscover the fascinating world of butterflying by joining an expedition at our local wildlife sanctuary. This hands-on exploration will help us survey the butterfly and insect populations and identify host plants and anything interesting we encounter. We will investigate the trail and meadows for butterflies nectaring or using a host plant (egg-laying or caterpillars feeding). Searching for butterflies in the field is a great way to spend time with other nature lovers and get motivated to document the butterflies in the field. \nFor the bioblitz\, please bring: \n\nwater and sun protection\na smartphone/camera or binoculars if you have them\nyour questions and curiosity!\n\nThese events are part of the Brooks Memorial Library’s “Summer of Community Science” Adult Summer Reading program. \nNo registration is required and you may attend one or both events. Free and open to all ages. \nUpdates will be posted on the Brooks Memorial Library website and Facebook page. \n  \n \nDana Williams is the Community Science Coordinator at the Vermont Center for Ecostudies\, where she helps community members contribute to conservation efforts across the state of Vermont. Previously\, she worked in nature education for all ages as the programs director at Williamstown Rural Lands\, a small land trust in Massachusetts. She holds a PhD in Ecology and Evolutionary Biology from the University of California\, Los Angeles\, where she researched the social relationships of animals. \n  \n           
URL:https://brookslibraryvt.org/event/vermont-butterfly-atlas-workshop-butterfly-bioblitz-2/
LOCATION:Meeting Room A – Community Meeting Room\, 224 Main Street\, Brattleboro\, VT\, 05301\, United States
CATEGORIES:Adults,Children & Families,General
ATTACH;FMTTYPE=image/png:https://eadn-wc04-3360218.nxedge.io/wp-content/uploads/2025/06/Vermont-Butterfly-Atlas-Vermont-Atlas-of-Life.png
ORGANIZER;CN="Brooks Memorial Library":MAILTO:outreach@brookslibraryvt.org
GEO:42.8553213;-72.5599024
X-APPLE-STRUCTURED-LOCATION;VALUE=URI;X-ADDRESS=Meeting Room A – Community Meeting Room 224 Main Street Brattleboro VT 05301 United States;X-APPLE-RADIUS=500;X-TITLE=224 Main Street:geo:-72.5599024,42.8553213
END:VEVENT
BEGIN:VEVENT
DTSTART;TZID=America/New_York:20250712T130000
DTEND;TZID=America/New_York:20250712T160000
DTSTAMP:20260424T064304
CREATED:20250103T195250Z
LAST-MODIFIED:20251204T220811Z
UID:10003825-1752325200-1752336000@brookslibraryvt.org
SUMMARY:Brattleboro in Stitches
DESCRIPTION:Bring a work in progress to sew\, knit\, crochet\, embroider\, or mend. Sewing machines\, irons\, and companionship will be provided.
URL:https://brookslibraryvt.org/event/brattleboro-in-stitches-6/2025-07-12/
LOCATION:Meeting Room A – Community Meeting Room\, 224 Main Street\, Brattleboro\, VT\, 05301\, United States
CATEGORIES:Adults,Children & Families,General
ATTACH;FMTTYPE=image/png:https://eadn-wc04-3360218.nxedge.io/wp-content/uploads/2023/03/Brattleboro-in-Stitches-Event-Calendar2.png
ORGANIZER;CN="Brooks Memorial Library":MAILTO:outreach@brookslibraryvt.org
GEO:42.8553213;-72.5599024
X-APPLE-STRUCTURED-LOCATION;VALUE=URI;X-ADDRESS=Meeting Room A – Community Meeting Room 224 Main Street Brattleboro VT 05301 United States;X-APPLE-RADIUS=500;X-TITLE=224 Main Street:geo:-72.5599024,42.8553213
END:VEVENT
END:VCALENDAR