BEGIN:VCALENDAR
VERSION:2.0
PRODID:-//Brooks Memorial Library - Brattleboro VT - ECPv6.15.17.1//NONSGML v1.0//EN
CALSCALE:GREGORIAN
METHOD:PUBLISH
X-WR-CALNAME:Brooks Memorial Library - Brattleboro VT
X-ORIGINAL-URL:https://brookslibraryvt.org
X-WR-CALDESC:Events for Brooks Memorial Library - Brattleboro VT
REFRESH-INTERVAL;VALUE=DURATION:PT1H
X-Robots-Tag:noindex
X-PUBLISHED-TTL:PT1H
BEGIN:VTIMEZONE
TZID:America/New_York
BEGIN:DAYLIGHT
TZOFFSETFROM:-0500
TZOFFSETTO:-0400
TZNAME:EDT
DTSTART:20240310T070000
END:DAYLIGHT
BEGIN:STANDARD
TZOFFSETFROM:-0400
TZOFFSETTO:-0500
TZNAME:EST
DTSTART:20241103T060000
END:STANDARD
BEGIN:DAYLIGHT
TZOFFSETFROM:-0500
TZOFFSETTO:-0400
TZNAME:EDT
DTSTART:20250309T070000
END:DAYLIGHT
BEGIN:STANDARD
TZOFFSETFROM:-0400
TZOFFSETTO:-0500
TZNAME:EST
DTSTART:20251102T060000
END:STANDARD
BEGIN:DAYLIGHT
TZOFFSETFROM:-0500
TZOFFSETTO:-0400
TZNAME:EDT
DTSTART:20260308T070000
END:DAYLIGHT
BEGIN:STANDARD
TZOFFSETFROM:-0400
TZOFFSETTO:-0500
TZNAME:EST
DTSTART:20261101T060000
END:STANDARD
END:VTIMEZONE
BEGIN:VEVENT
DTSTART;TZID=America/New_York:20250714T163000
DTEND;TZID=America/New_York:20250714T174500
DTSTAMP:20260424T085713
CREATED:20250606T161635Z
LAST-MODIFIED:20250630T221339Z
UID:10004244-1752510600-1752515100@brookslibraryvt.org
SUMMARY:Vermont Environmental Justice Law Public Meeting
DESCRIPTION:All are invited to this public information meeting held by the Agency of Natural Resources (ANR) Civil Rights and Environmental Justice Unit (CREJU)  to discuss the Environmental Benefits Spending Guidance (EBSG). \nVermont’s Environmental Justice Law (VT EJ Law) from 2022 requires the Agency to develop guidance – the EBSG – to help designated Vermont state agencies to report on the investments that support communities\, especially those most affected by environmental issues. \nThe guidance explains how agencies should document and share information about the investments that result in environmental benefits for Environmental Justice Focus Populations. The EBSG does not tell each agency what investments they should make. \nThe EBSG is mainly for state agencies that need to follow the VT EJ Law\, however\, the law requires a public comment period. The EBSG is also a resource for anyone interested in how environmental benefits are reported.  ANR’s CREJU encourages the public to share their feedback on this document.  This will be one of two in-person meetings this summer to do that.
URL:https://brookslibraryvt.org/event/vermont-environmental-justice-law-public-meeting/
LOCATION:Meeting Room A – Community Meeting Room\, 224 Main Street\, Brattleboro\, VT\, 05301\, United States
CATEGORIES:Adults,General
ATTACH;FMTTYPE=image/jpeg:https://eadn-wc04-3360218.nxedge.io/wp-content/uploads/2025/06/vt-naturalresources.jpeg
ORGANIZER;CN="State of vermont Agency of Natural resources%2C Civil Rights and Environmental Justice Unit":MAILTO:ANR.EJCoordinator@vermont.gov
GEO:42.8553213;-72.5599024
X-APPLE-STRUCTURED-LOCATION;VALUE=URI;X-ADDRESS=Meeting Room A – Community Meeting Room 224 Main Street Brattleboro VT 05301 United States;X-APPLE-RADIUS=500;X-TITLE=224 Main Street:geo:-72.5599024,42.8553213
END:VEVENT
BEGIN:VEVENT
DTSTART;TZID=America/New_York:20250715T180000
DTEND;TZID=America/New_York:20250715T191500
DTSTAMP:20260424T085713
CREATED:20250428T163325Z
LAST-MODIFIED:20250428T163325Z
UID:10004203-1752602400-1752606900@brookslibraryvt.org
SUMMARY:Exploring the Afterlife: Learning from Experts and Personal Experiences
DESCRIPTION:Have you had a near-death experience or communicated with a deceased loved one through a medium? Have you contemplated the possibility of reincarnation or had an experience about a past life? Do you wonder what awaits us in the afterlife? Western culture tends to dismiss or even disparage paranormal phenomena. But evidence is available to answer many questions about the afterlife. \nIn this five-part evening series on Tuesdays from June 17th to July 15th\, we will do three things: 1) read books by experts on near-death experiences\, scientific instruments and experiments in paranormal research\, out-of-body experiences\, and the work of reputable mediums; 2) raise questions and concerns about the evening’s topic; and 3) share personal experiences of paranormal phenomena in a safe environment. Each participant will choose a book from a provided list to report on. Participants are strongly encouraged to attend all sessions. \nThe group will be led by hospice chaplain and former social worker Diane Southard and Valerie Abrahamsen\, author of Paranormal: A New Testament Scholar Looks at the Afterlife (2015). \nParticipants are encouraged to contact Valerie at www.wisdomwordsppf.org/contact/ as soon as possible to obtain the book list and additional information. Adults over 18 are invited!
URL:https://brookslibraryvt.org/event/exploring-the-afterlife-learning-from-experts-and-personal-experiences/2025-07-15/
LOCATION:Meeting Room D – Quiet Reading Room\, 224 Main Street\, Brattleboro\, VT\, 05301\, United States
CATEGORIES:Adults,General
ATTACH;FMTTYPE=image/jpeg:https://eadn-wc04-3360218.nxedge.io/wp-content/uploads/2025/04/heaven.jpg
GEO:42.8553213;-72.5599024
X-APPLE-STRUCTURED-LOCATION;VALUE=URI;X-ADDRESS=Meeting Room D – Quiet Reading Room 224 Main Street Brattleboro VT 05301 United States;X-APPLE-RADIUS=500;X-TITLE=224 Main Street:geo:-72.5599024,42.8553213
END:VEVENT
BEGIN:VEVENT
DTSTART;TZID=America/New_York:20250715T180000
DTEND;TZID=America/New_York:20250715T200000
DTSTAMP:20260424T085713
CREATED:20250630T173518Z
LAST-MODIFIED:20250630T214517Z
UID:10004243-1752602400-1752609600@brookslibraryvt.org
SUMMARY:Brattleboro Housing Providers - Renter Feedback Session
DESCRIPTION:Brattleboro Renters! We want to hear from you. \nThis event is hosted by a collaborative group of non-profit and private Brattleboro Housing Providers and will be facilitated by Rachel Trill\, from Interaction. It is an opportunity to discuss some ideas that have the potential to improve resident and building safety\, the pros and cons of these ideas and the steps needed to implement them.  If you are a Brattleboro renter and are interested in this topic\, we want to hear from you. This event is open to the public with priority given to renters.  Brought to you by: \n\nBrattleboro Housing Partnership\nHousing Providers Alliance of Southern Vermont\nM&S Development\nWindham & Windsor Housing Trust
URL:https://brookslibraryvt.org/event/brattleboro-housing-providers-renter-feedback-session/
LOCATION:Meeting Room A – Community Meeting Room\, 224 Main Street\, Brattleboro\, VT\, 05301\, United States
CATEGORIES:Adults,General
ATTACH;FMTTYPE=image/jpeg:https://eadn-wc04-3360218.nxedge.io/wp-content/uploads/2025/06/lease-renting-contract-residential-tenant-concept-scaled.jpg
ORGANIZER;CN="Windham & Windsor Housing Trust":MAILTO:ebridgewater@homemattershere.org
GEO:42.8553213;-72.5599024
X-APPLE-STRUCTURED-LOCATION;VALUE=URI;X-ADDRESS=Meeting Room A – Community Meeting Room 224 Main Street Brattleboro VT 05301 United States;X-APPLE-RADIUS=500;X-TITLE=224 Main Street:geo:-72.5599024,42.8553213
END:VEVENT
BEGIN:VEVENT
DTSTART;TZID=America/New_York:20250716T180000
DTEND;TZID=America/New_York:20250716T193000
DTSTAMP:20260424T085713
CREATED:20250714T192347Z
LAST-MODIFIED:20250714T192347Z
UID:10004438-1752688800-1752694200@brookslibraryvt.org
SUMMARY:Report-back from the Global March to Gaza
DESCRIPTION:On June 13th\, thousands of people from across the globe gathered in Cairo to march to the border with Gaza and break the Israeli siege and genocide against the people of Gaza…or at least they tried to. The Egyptian regime came down hard on organizers and participants\, thwarting their efforts\, subjecting them to surveillance\, arrests\, beatings\, kidnappings\, and deportation\, preventing them from even peaceably assembling in Cairo. \nBrattleboro resident Fhar Miess was part of the US contingent of the Global March to Gaza and will report back on his experiences there and lessons for organizing in repressive conditions that seem headed our way here. Sumer Mobarak from Washington DC and Lana Bilbo from Kaua’i for Palestine and the Hawaii pod of JVP will also be joining remotely to share their experiences with the March. \nFhar’s blog post reflecting on the Global March to Gaza is here. \nThis is a hybrid event. Masks are requested in-person. \nZoom link will be shared with registrants before the event. Registration can be found here.
URL:https://brookslibraryvt.org/event/report-back-from-the-global-march-to-gaza/
LOCATION:Meeting Room A – Community Meeting Room\, 224 Main Street\, Brattleboro\, VT\, 05301\, United States
CATEGORIES:Adults,General
ATTACH;FMTTYPE=image/png:https://eadn-wc04-3360218.nxedge.io/wp-content/uploads/2025/07/GMTG.png
ORGANIZER;CN="Southern Vermont for Palestine / Jewish Voice for Peace VT/NH":MAILTO:info@sovt4palestine.org
GEO:42.8553213;-72.5599024
X-APPLE-STRUCTURED-LOCATION;VALUE=URI;X-ADDRESS=Meeting Room A – Community Meeting Room 224 Main Street Brattleboro VT 05301 United States;X-APPLE-RADIUS=500;X-TITLE=224 Main Street:geo:-72.5599024,42.8553213
END:VEVENT
BEGIN:VEVENT
DTSTART;TZID=America/New_York:20250719T103000
DTEND;TZID=America/New_York:20250719T120000
DTSTAMP:20260424T085713
CREATED:20250609T214914Z
LAST-MODIFIED:20250717T151003Z
UID:10004248-1752921000-1752926400@brookslibraryvt.org
SUMMARY:Illustration for Science! Workshop I: Butterflies + Moths
DESCRIPTION:THIS WORKSHOP IS FULL. PLEASE CONTACT US TO JOIN THE WAITLIST. \nWorkshop I: Butterflies + Moths — Saturday\, July 19 \nIn this drawing and watercolor workshop presented in collaboration with The River Gallery School\, we will explore the delicate beauty of butterflies and moths\, learning to capture their intricate patterns and structures through careful observation. Participants will develop a deeper understanding of these creatures’ forms and behaviors\, which are essential for community science projects tracking species populations. \n  \nIllustration for Science!\nSummer of Community Science Art Workshop Series\nAdult Summer Reading Program \nWorkshop I: Butterflies + Moths — Saturday\, July 19 \nWorkshop II: Birds — Saturday\, July 26 \nWorkshop III: Local Botanicals — Saturday\, August 23 \nJoin us for a series of three nature-inspired classes designed for adults and youth ages 15 and up. These hour-and-a-half workshops will focus on the skill of close observation\, a vital gift of drawing from life\, which connects the visual arts with the sciences. Each workshop provides an opportunity to explore the natural world while learning to create detailed illustrations that could contribute to community science projects. \nThroughout these workshops\, the emphasis is on learning how to see the natural world through a new lens. Drawing from observation will enhance participants’ attention to detail\, fostering a deeper connection between art and science while contributing to the understanding of our local environment. \nParticipants are welcome to attend one or all workshops\, and all sessions are free. \nRegistration is required. Please contact the Circulation Desk (in person\, 802-254-5290\, circ@brookslibraryvt.org) to register by Monday\, July 14.
URL:https://brookslibraryvt.org/event/illustration-for-science-workshop-i-butterflies-moths/
LOCATION:Meeting Room A – Community Meeting Room\, 224 Main Street\, Brattleboro\, VT\, 05301\, United States
CATEGORIES:Adults,General
ATTACH;FMTTYPE=image/png:https://eadn-wc04-3360218.nxedge.io/wp-content/uploads/2025/06/Illustration-for-Science-Calendar-940-x-788-px1.png
ORGANIZER;CN="Brooks Memorial Library":MAILTO:outreach@brookslibraryvt.org
GEO:42.8553213;-72.5599024
X-APPLE-STRUCTURED-LOCATION;VALUE=URI;X-ADDRESS=Meeting Room A – Community Meeting Room 224 Main Street Brattleboro VT 05301 United States;X-APPLE-RADIUS=500;X-TITLE=224 Main Street:geo:-72.5599024,42.8553213
END:VEVENT
BEGIN:VEVENT
DTSTART;TZID=America/New_York:20250719T130000
DTEND;TZID=America/New_York:20250719T160000
DTSTAMP:20260424T085713
CREATED:20250103T195250Z
LAST-MODIFIED:20251204T220811Z
UID:10003826-1752930000-1752940800@brookslibraryvt.org
SUMMARY:Brattleboro in Stitches
DESCRIPTION:Bring a work in progress to sew\, knit\, crochet\, embroider\, or mend. Sewing machines\, irons\, and companionship will be provided.
URL:https://brookslibraryvt.org/event/brattleboro-in-stitches-6/2025-07-19/
LOCATION:Meeting Room A – Community Meeting Room\, 224 Main Street\, Brattleboro\, VT\, 05301\, United States
CATEGORIES:Adults,Children & Families,General
ATTACH;FMTTYPE=image/png:https://eadn-wc04-3360218.nxedge.io/wp-content/uploads/2023/03/Brattleboro-in-Stitches-Event-Calendar2.png
ORGANIZER;CN="Brooks Memorial Library":MAILTO:outreach@brookslibraryvt.org
GEO:42.8553213;-72.5599024
X-APPLE-STRUCTURED-LOCATION;VALUE=URI;X-ADDRESS=Meeting Room A – Community Meeting Room 224 Main Street Brattleboro VT 05301 United States;X-APPLE-RADIUS=500;X-TITLE=224 Main Street:geo:-72.5599024,42.8553213
END:VEVENT
END:VCALENDAR