BEGIN:VCALENDAR
VERSION:2.0
PRODID:-//Brooks Memorial Library - Brattleboro VT - ECPv6.15.17.1//NONSGML v1.0//EN
CALSCALE:GREGORIAN
METHOD:PUBLISH
X-ORIGINAL-URL:https://brookslibraryvt.org
X-WR-CALDESC:Events for Brooks Memorial Library - Brattleboro VT
REFRESH-INTERVAL;VALUE=DURATION:PT1H
X-Robots-Tag:noindex
X-PUBLISHED-TTL:PT1H
BEGIN:VTIMEZONE
TZID:America/New_York
BEGIN:DAYLIGHT
TZOFFSETFROM:-0500
TZOFFSETTO:-0400
TZNAME:EDT
DTSTART:20250309T070000
END:DAYLIGHT
BEGIN:STANDARD
TZOFFSETFROM:-0400
TZOFFSETTO:-0500
TZNAME:EST
DTSTART:20251102T060000
END:STANDARD
BEGIN:DAYLIGHT
TZOFFSETFROM:-0500
TZOFFSETTO:-0400
TZNAME:EDT
DTSTART:20260308T070000
END:DAYLIGHT
BEGIN:STANDARD
TZOFFSETFROM:-0400
TZOFFSETTO:-0500
TZNAME:EST
DTSTART:20261101T060000
END:STANDARD
BEGIN:DAYLIGHT
TZOFFSETFROM:-0500
TZOFFSETTO:-0400
TZNAME:EDT
DTSTART:20270314T070000
END:DAYLIGHT
BEGIN:STANDARD
TZOFFSETFROM:-0400
TZOFFSETTO:-0500
TZNAME:EST
DTSTART:20271107T060000
END:STANDARD
END:VTIMEZONE
BEGIN:VEVENT
DTSTART;TZID=America/New_York:20260121T183000
DTEND;TZID=America/New_York:20260121T203000
DTSTAMP:20260423T175217
CREATED:20260113T192516Z
LAST-MODIFIED:20260318T153435Z
UID:10005222-1769020200-1769027400@brookslibraryvt.org
SUMMARY:Entrepreneurs of Brattleboro
DESCRIPTION:This is a regular gathering of entrepreneurs in Brattleboro & surrounding areas – for networking and connections.
URL:https://brookslibraryvt.org/event/entrepreneurs-of-brattleboro/2026-01-21/
LOCATION:Meeting Room A – Community Meeting Room\, 224 Main Street\, Brattleboro\, VT\, 05301\, United States
CATEGORIES:Adults,General
ATTACH;FMTTYPE=image/jpeg:https://eadn-wc04-3360218.nxedge.io/wp-content/uploads/2026/01/Entrepreneurs-of-Brattleboro-.jpg
ORGANIZER;CN="Entrepreneurs of Brattleboro":MAILTO:sheadedtint@gmail.com
GEO:42.8553213;-72.5599024
X-APPLE-STRUCTURED-LOCATION;VALUE=URI;X-ADDRESS=Meeting Room A – Community Meeting Room 224 Main Street Brattleboro VT 05301 United States;X-APPLE-RADIUS=500;X-TITLE=224 Main Street:geo:-72.5599024,42.8553213
END:VEVENT
BEGIN:VEVENT
DTSTART;TZID=America/New_York:20260123T140000
DTEND;TZID=America/New_York:20260123T170000
DTSTAMP:20260423T175217
CREATED:20260113T173926Z
LAST-MODIFIED:20260113T174441Z
UID:10005219-1769176800-1769187600@brookslibraryvt.org
SUMMARY:Vermont Workers Center Sponsored Government Benefits Enrollment/Info Session for Government Benefits (SNAP and Medicaid)
DESCRIPTION:The Workers Center is sponsoring an informational walk-in session for those interested in applying for SNAP (food benefits) and Medicaid enrollment. Assistance will be provided. \nVolunteers available between 2 – 5 PM on January 23;  and\,  2 – 4 :30PM on February 6th – both events are happening in the Community Room.
URL:https://brookslibraryvt.org/event/vermont-workers-center-sponsored-government-benefits-enrollment-info-session-for-government-benefits-snap-and-medicaid/2026-01-23/
LOCATION:Meeting Room A – Community Meeting Room\, 224 Main Street\, Brattleboro\, VT\, 05301\, United States
CATEGORIES:Adults,General
ATTACH;FMTTYPE=image/png:https://eadn-wc04-3360218.nxedge.io/wp-content/uploads/2026/01/VWC-Logo-with-name_trans-2.png
ORGANIZER;CN="Vermont Workers Center":MAILTO:fourcatshoover@gmail.com
GEO:42.8553213;-72.5599024
X-APPLE-STRUCTURED-LOCATION;VALUE=URI;X-ADDRESS=Meeting Room A – Community Meeting Room 224 Main Street Brattleboro VT 05301 United States;X-APPLE-RADIUS=500;X-TITLE=224 Main Street:geo:-72.5599024,42.8553213
END:VEVENT
BEGIN:VEVENT
DTSTART;TZID=America/New_York:20260124T110000
DTEND;TZID=America/New_York:20260124T120000
DTSTAMP:20260423T175217
CREATED:20251210T203822Z
LAST-MODIFIED:20251210T204310Z
UID:10004988-1769252400-1769256000@brookslibraryvt.org
SUMMARY:SilverCircus - by NECCA
DESCRIPTION:Strengthen balance and build social connection\, all while playing and connecting to your inner child with SilverCircus by the New England Center for Circus Arts (NECCA). These circus classes are designed for older adults and are welcome to all mobility and cognitive levels. We will work with each student where they are at\, while fostering a supportive and playful group dynamic. Activities will challenge the brain and the body\, and will be scaled up and down to be the perfect challenge for each participant.\nIt is not too late to join the circus! Join us at Brattleboro Memorial Library at 11am on the 2nd and 4th Saturdays in January through May (01/10\, 01/24\, 02/14\, 02/28\, 03/14\, 03/28\, 04/11\, 04/25\, 05/09\, and 05/23).
URL:https://brookslibraryvt.org/event/silvercircus-by-necca-2/2026-01-24/
LOCATION:Meeting Room A – Community Meeting Room\, 224 Main Street\, Brattleboro\, VT\, 05301\, United States
CATEGORIES:Adults,General
ATTACH;FMTTYPE=image/png:https://eadn-wc04-3360218.nxedge.io/wp-content/uploads/2025/12/Copy-of-Copy-of-SilverCircus-Changes-Event-Flyer-Template-1-LinkedIn-Post-1.png
ORGANIZER;CN="NECCA":MAILTO:info@necenterforcircusarts.org
GEO:42.8553213;-72.5599024
X-APPLE-STRUCTURED-LOCATION;VALUE=URI;X-ADDRESS=Meeting Room A – Community Meeting Room 224 Main Street Brattleboro VT 05301 United States;X-APPLE-RADIUS=500;X-TITLE=224 Main Street:geo:-72.5599024,42.8553213
END:VEVENT
BEGIN:VEVENT
DTSTART;TZID=America/New_York:20260124T130000
DTEND;TZID=America/New_York:20260124T160000
DTSTAMP:20260423T175217
CREATED:20250103T195250Z
LAST-MODIFIED:20251204T220811Z
UID:10004918-1769259600-1769270400@brookslibraryvt.org
SUMMARY:Brattleboro in Stitches
DESCRIPTION:Bring a work in progress to sew\, knit\, crochet\, embroider\, or mend. Sewing machines\, irons\, and companionship will be provided.
URL:https://brookslibraryvt.org/event/brattleboro-in-stitches-6/2026-01-24/
LOCATION:Meeting Room A – Community Meeting Room\, 224 Main Street\, Brattleboro\, VT\, 05301\, United States
CATEGORIES:Adults,Children & Families,General
ATTACH;FMTTYPE=image/png:https://eadn-wc04-3360218.nxedge.io/wp-content/uploads/2023/03/Brattleboro-in-Stitches-Event-Calendar2.png
ORGANIZER;CN="Brooks Memorial Library":MAILTO:outreach@brookslibraryvt.org
GEO:42.8553213;-72.5599024
X-APPLE-STRUCTURED-LOCATION;VALUE=URI;X-ADDRESS=Meeting Room A – Community Meeting Room 224 Main Street Brattleboro VT 05301 United States;X-APPLE-RADIUS=500;X-TITLE=224 Main Street:geo:-72.5599024,42.8553213
END:VEVENT
END:VCALENDAR