BEGIN:VCALENDAR
VERSION:2.0
PRODID:-//Brooks Memorial Library - Brattleboro VT - ECPv6.15.17.1//NONSGML v1.0//EN
CALSCALE:GREGORIAN
METHOD:PUBLISH
X-ORIGINAL-URL:https://brookslibraryvt.org
X-WR-CALDESC:Events for Brooks Memorial Library - Brattleboro VT
REFRESH-INTERVAL;VALUE=DURATION:PT1H
X-Robots-Tag:noindex
X-PUBLISHED-TTL:PT1H
BEGIN:VTIMEZONE
TZID:America/New_York
BEGIN:DAYLIGHT
TZOFFSETFROM:-0500
TZOFFSETTO:-0400
TZNAME:EDT
DTSTART:20250309T070000
END:DAYLIGHT
BEGIN:STANDARD
TZOFFSETFROM:-0400
TZOFFSETTO:-0500
TZNAME:EST
DTSTART:20251102T060000
END:STANDARD
BEGIN:DAYLIGHT
TZOFFSETFROM:-0500
TZOFFSETTO:-0400
TZNAME:EDT
DTSTART:20260308T070000
END:DAYLIGHT
BEGIN:STANDARD
TZOFFSETFROM:-0400
TZOFFSETTO:-0500
TZNAME:EST
DTSTART:20261101T060000
END:STANDARD
BEGIN:DAYLIGHT
TZOFFSETFROM:-0500
TZOFFSETTO:-0400
TZNAME:EDT
DTSTART:20270314T070000
END:DAYLIGHT
BEGIN:STANDARD
TZOFFSETFROM:-0400
TZOFFSETTO:-0500
TZNAME:EST
DTSTART:20271107T060000
END:STANDARD
END:VTIMEZONE
BEGIN:VEVENT
DTSTART;TZID=America/New_York:20260323T173000
DTEND;TZID=America/New_York:20260323T190000
DTSTAMP:20260423T153012
CREATED:20260314T181952Z
LAST-MODIFIED:20260314T184327Z
UID:10005210-1774287000-1774292400@brookslibraryvt.org
SUMMARY:Financial Empowerment
DESCRIPTION:Financial Discussion and Q & A with representatives from SEVCA and Mascoma Bank \nThese FREE classes are being held on the 4th Mondays of the month throughout 2026\, with different topics for each session and peer support encouraged throughout. A light meal will be served at 5:30PM; the discussion starts at 6:00 PM. \nIn March\, the focus is on credit reports. Participants will be offered support for receiving\, understanding\, and checking their credit reports and for ensuring that they are correct.   \nRegistration is required. To sign-up\, you can call (802-254-5290)\, stop by the circulation desk\, or email us at circ@brookslibraryvt.org
URL:https://brookslibraryvt.org/event/financial-empowerment-7/
LOCATION:Meeting Room A – Community Meeting Room\, 224 Main Street\, Brattleboro\, VT\, 05301\, United States
CATEGORIES:Adults,General,Teens
ATTACH;FMTTYPE=image/png:https://eadn-wc04-3360218.nxedge.io/wp-content/uploads/2026/01/3.23-ig-post.png
GEO:42.8553213;-72.5599024
X-APPLE-STRUCTURED-LOCATION;VALUE=URI;X-ADDRESS=Meeting Room A – Community Meeting Room 224 Main Street Brattleboro VT 05301 United States;X-APPLE-RADIUS=500;X-TITLE=224 Main Street:geo:-72.5599024,42.8553213
END:VEVENT
BEGIN:VEVENT
DTSTART;TZID=America/New_York:20260323T180000
DTEND;TZID=America/New_York:20260323T193000
DTSTAMP:20260423T153012
CREATED:20260305T170320Z
LAST-MODIFIED:20260305T170330Z
UID:10005454-1774288800-1774294200@brookslibraryvt.org
SUMMARY:Community Conversation on Restorative Practices:
DESCRIPTION:More people are talking about restorative practices and looking for more accountability after people have been harmed. Interaction provides restorative practices programs\, but how do restorative practices navigate big feelings? \nJoin Community Substance Use Response (CSUR) and Interaction for a community conversation about restorative practices\, with a focus on understanding feelings and needs. Together\, we’ll explore how naming what’s underneath our reactions can build connection\, support healing\, and strengthen our community. All are welcome. \nSnacks provided before the event. Monday\, March 23rd\, 6:00-7:30\, Main floor. For more information contact Robin at (802) 275-7232 or CSUR802VT@gmail.com
URL:https://brookslibraryvt.org/event/community-conversation-on-restorative-practices/
LOCATION:Main Reading Room
CATEGORIES:Adults,General
ATTACH;FMTTYPE=image/png:https://eadn-wc04-3360218.nxedge.io/wp-content/uploads/2026/03/CSUR-logo-for-event-1.png
ORGANIZER;CN="Community Substance Use Response (CSUR)":MAILTO: jjohnston@turningpointwc.org
GEO:42.8553213;-72.5599024
END:VEVENT
BEGIN:VEVENT
DTSTART;TZID=America/New_York:20260323T190000
DTEND;TZID=America/New_York:20260323T203000
DTSTAMP:20260423T153012
CREATED:20241119T011618Z
LAST-MODIFIED:20250409T202119Z
UID:10003515-1774292400-1774297800@brookslibraryvt.org
SUMMARY:Green Carnation Reading Group
DESCRIPTION:Discussions of books by and for queer people. For more information\, please visit the Green Carnation Reading Group Facebook page.
URL:https://brookslibraryvt.org/event/green-carnation-book-group/2026-03-23/
LOCATION:Meeting Room D – Quiet Reading Room\, 224 Main Street\, Brattleboro\, VT\, 05301\, United States
CATEGORIES:Adults,General,Teens
ATTACH;FMTTYPE=image/jpeg:https://eadn-wc04-3360218.nxedge.io/wp-content/uploads/2024/11/439240485_122098227206294656_4239700080493349576_n-e1731978675948.jpg
ORGANIZER;CN="Green Carnation - Timothy Williams":MAILTO:readtiph6890@gmail.com
GEO:42.8553213;-72.5599024
X-APPLE-STRUCTURED-LOCATION;VALUE=URI;X-ADDRESS=Meeting Room D – Quiet Reading Room 224 Main Street Brattleboro VT 05301 United States;X-APPLE-RADIUS=500;X-TITLE=224 Main Street:geo:-72.5599024,42.8553213
END:VEVENT
BEGIN:VEVENT
DTSTART;TZID=America/New_York:20260324T190000
DTEND;TZID=America/New_York:20260324T204500
DTSTAMP:20260423T153012
CREATED:20251226T220205Z
LAST-MODIFIED:20260112T194849Z
UID:10005136-1774378800-1774385100@brookslibraryvt.org
SUMMARY:Food\, Ecosystems and Community: Lessons from Nature
DESCRIPTION:Join Edible Brattleboro for a winter workshop series exploring the living systems at the heart of a community food forest. Together\, we’ll learn how to create regenerative\, resilient landscapes-where soil\, plants\, and people work together in mutually supportive relationships. \nThe series features nationally recognized speakers Didi Pershouse and Dave Jacke. Didi is an author\, educator\, and policy strategist\, whose work focuses on living soils\, carbon cycles\, and the role of soil health in resilient ecosystems and communities. Dave Jacke is co-author of Edible Food Forest Gardens and a leading voice in permaculture and ecological design. Jacke will present two talks exploring forest gardening as a model for home and community landscapes\, and how ecosystem principles-such as diversity\, cooperation\, and interdependence-can inform resilient social structures. Together\, these speakers bring deep ecological insight and practical wisdom rooted in nature based systems. \nWhether you’re cultivating a backyard\, tending a shared green space\, or simply interested in how ecosystems sustain life\, this series offers insight\, inspiration\, and actionable ideas for nurturing landscapes that grow\, adapt\, and nourish for generations. \nSpeaker Schedule: \n– Tuesday\, January 13 | 7:00 PM\nDidi Pershouse — Author • Educator • Policy Strategist\nSoil as a Living System: How Healthy Soil Supports Ecosystems and Communities \nAn exploration of soil biology and the critical role living soils play in climate resilience\, food systems\, and community health. \n-Tuesday\, February 10 | 7:00 PM\nDave Jacke — Co-author of Edible Forest Gardens\nGardening Like a Forest: Ecosystem Mimicry for Homes and Communities \nHealthy forests maintain\, fertilize\, and renew themselves\, naturally.  Wouldn’t you like to grow an abundant food-producing ecosystem like this in your back yard or neighborhood? You can! Edible forest gardens mimic the structure and function of natural forests while growing food\, fuel\, fiber\, fodder\, fertilizers\, pharmaceuticals\, and fun. We can meet our own needs and regenerate healthy landscapes\, communities\, and ecosystems at the same time.  We will dive into the vision of forest gardening\, a little history\, some science\, a few living examples\, and a sampling of some useful perennial edibles you can use in your own gardens. \n-Tuesday\, March 10 | 7:00 PM\nDave Jacke\nEcosystem Social Structures \nFunctional social interactions between species lie at the core of healthy ecosystems.  Understanding species and community niches\, interspecies relationships\, food webs\, guilds\, polycultures\, and the principles that undergird these structures greatly improves our ability to design and manage healthy forest gardens—and healthy human societies! \n-Tuesday\, March 24th | 7:00 PM \nRicky Baruch and Deb Habib — Founders of Seeds of Solidarity in Orange MA\, with over three decades of experience gardening\, farming and teaching widely.\nGrow Food Everywhere! \nCelebrate spring with this engaging presentation and inspiration for abundant gardens to come. Appropriate for both beginning and experienced gardeners\, you will gain ideas for building rich\, living soil with local resources and regenerative no-till methods. Learn from presenter experience and interactive conversation as you gather practical ideas for low maintenance and climate resilient methods that grow healthy soil and nourishing food for home or community\, and in all settings. \n 
URL:https://brookslibraryvt.org/event/food-ecosystems-and-community-lessons-from-a-food-forest/2026-03-24/
LOCATION:Meeting Room A – Community Meeting Room\, 224 Main Street\, Brattleboro\, VT\, 05301\, United States
CATEGORIES:Adults,General
ATTACH;FMTTYPE=image/png:https://eadn-wc04-3360218.nxedge.io/wp-content/uploads/2025/12/Edible-logo.png
ORGANIZER;CN="Edible Brattleboro":MAILTO:ediblebrattleboro@gmail.com
GEO:42.8553213;-72.5599024
X-APPLE-STRUCTURED-LOCATION;VALUE=URI;X-ADDRESS=Meeting Room A – Community Meeting Room 224 Main Street Brattleboro VT 05301 United States;X-APPLE-RADIUS=500;X-TITLE=224 Main Street:geo:-72.5599024,42.8553213
END:VEVENT
BEGIN:VEVENT
DTSTART;TZID=America/New_York:20260325T170000
DTEND;TZID=America/New_York:20260325T190000
DTSTAMP:20260423T153012
CREATED:20260309T184208Z
LAST-MODIFIED:20260309T185220Z
UID:10005456-1774458000-1774465200@brookslibraryvt.org
SUMMARY:Public Art Open House
DESCRIPTION:Join the Brattleboro Town Arts Committee in the Main Reading Room at the Brooks Memorial Library on Wednesday\, March 25 from 5 to 7 PM for a Public Art Open House. Learn about the Town and Cultural Plans\, explore potential sites for public art\, including possible projects for the Library\, and share your ideas for art in Brattleboro. Refreshments provided.
URL:https://brookslibraryvt.org/event/public-art-open-house/
LOCATION:Main Reading Room
CATEGORIES:Adults,General
ATTACH;FMTTYPE=image/jpeg:https://eadn-wc04-3360218.nxedge.io/wp-content/uploads/2026/03/0325-Public-Art-Open-House-Event-Image.jpg
ORGANIZER;CN="Brattleboro Town Arts Committee":MAILTO:brattleboroartscommittee@gmail.com
GEO:42.8553213;-72.5599024
END:VEVENT
BEGIN:VEVENT
DTSTART;TZID=America/New_York:20260325T173000
DTEND;TZID=America/New_York:20260325T183000
DTSTAMP:20260423T153012
CREATED:20251129T170820Z
LAST-MODIFIED:20251129T171322Z
UID:10004703-1774459800-1774463400@brookslibraryvt.org
SUMMARY:Brattleboro Outing Club Board Meeting
DESCRIPTION:Monthly Meeting of the Brattleboro Outing Club Board of Directors
URL:https://brookslibraryvt.org/event/brattleboro-outing-club-board-meeting/2026-03-25/
LOCATION:Meeting Room B – Mezzanine Room\, Main Street 224\, Brattleboro\, Vermont\, 05301\, United States
CATEGORIES:Adults,General
ATTACH;FMTTYPE=image/png:https://eadn-wc04-3360218.nxedge.io/wp-content/uploads/2025/11/blueboclogo.png
ORGANIZER;CN="Brattleboro Outing Club - Jay Jacobowitz":MAILTO:jay@retailinsights.com
GEO:42.8553213;-72.5599024
X-APPLE-STRUCTURED-LOCATION;VALUE=URI;X-ADDRESS=Meeting Room B – Mezzanine Room Main Street 224 Brattleboro Vermont 05301 United States;X-APPLE-RADIUS=500;X-TITLE=Main Street 224:geo:-72.5599024,42.8553213
END:VEVENT
BEGIN:VEVENT
DTSTART;TZID=America/New_York:20260325T180000
DTEND;TZID=America/New_York:20260325T200000
DTSTAMP:20260423T153012
CREATED:20250127T201519Z
LAST-MODIFIED:20260318T154411Z
UID:10003902-1774461600-1774468800@brookslibraryvt.org
SUMMARY:Brattleboro 250 Planning Sessions
DESCRIPTION:Come and connect with others who are interested in working on plans to commemorate the 250th anniversary of the founding of the United States in 2026. \nThis monthly meeting space on the 4th Wednesdays is dedicated for those who would like the opportunity to connect\, collaborate\, and work on projects that align with Vermont’s 250th Anniversary Commission’s mission to “…inspire all Vermonters to learn from the history\, legacy\, and context of the past to build strong Vermont communities for the future.” \nThe space is being hosted by Brooks Memorial Library\, Vermont Independent Media (The Commons) and Windham World Affairs Council\, with support from the Vermont Humanities Council. We are already working together on a collaboration entitled\, ‘Examining American Identity and Leadership in a Changing World – and have joined America 250\, a national initiative asking communities to plan for how to commemorate the 250th year of the signing of the Declaration of Independence. Its mission is to provide opportunities for all Americans to pause and reflect on our nation’s past & present\, honor the contributions of all Americans\, and look to the future we want to create for the next generation and beyond.
URL:https://brookslibraryvt.org/event/brattleboro-250-planning-sessions/2026-03-25/
LOCATION:Meeting Room A – Community Meeting Room\, 224 Main Street\, Brattleboro\, VT\, 05301\, United States
CATEGORIES:Adults,General
ATTACH;FMTTYPE=image/png:https://eadn-wc04-3360218.nxedge.io/wp-content/uploads/2025/01/Screenshot-2025-03-08-162012.png
ORGANIZER;CN="Brattleboro 250":MAILTO:windhamworldaffairscouncil@gmail.com
GEO:42.8553213;-72.5599024
X-APPLE-STRUCTURED-LOCATION;VALUE=URI;X-ADDRESS=Meeting Room A – Community Meeting Room 224 Main Street Brattleboro VT 05301 United States;X-APPLE-RADIUS=500;X-TITLE=224 Main Street:geo:-72.5599024,42.8553213
END:VEVENT
BEGIN:VEVENT
DTSTART;TZID=America/New_York:20260327T133000
DTEND;TZID=America/New_York:20260327T170000
DTSTAMP:20260423T153012
CREATED:20260303T235000Z
LAST-MODIFIED:20260310T175226Z
UID:10005451-1774618200-1774630800@brookslibraryvt.org
SUMMARY:Enrolling for Medicaid and SNAP Benefits: Need Help?
DESCRIPTION:Are you confused about the new SNAP requirements? Do you need help signing up for SNAP or Medicaid? Have you been cut off SNAP or Medicaid or had benefits reduced? Do you need help paying for Medicare premiums or co-pays? The Vermont Workers’ Center is holding open hours at the Brooks Memorial Library Community Room on March 13 and March 27 from 2-4:30 PM to help people understand and navigate these programs. We’ll have information about Medicaid\, Medicare\, and the SNAP work requirements and exemptions\, and can work with people on submitting applications and other paperwork. \nBrooks Memorial Library is located at 224 Main Street\, Brattleboro. Community Room is on the second floor and is handicap accessible. For questions or more information\, email windham@workerscenter.org or call (802) 257-4436.
URL:https://brookslibraryvt.org/event/enrolling-for-medicaid-and-snap-benefits-need-help/
LOCATION:Meeting Room A – Community Meeting Room\, 224 Main Street\, Brattleboro\, VT\, 05301\, United States
CATEGORIES:Adults,General
ATTACH;FMTTYPE=image/png:https://eadn-wc04-3360218.nxedge.io/wp-content/uploads/2026/01/VWC-Logo-with-name_trans-2.png
ORGANIZER;CN="Vermont Workers Center":MAILTO:fourcatshoover@gmail.com
GEO:42.8553213;-72.5599024
X-APPLE-STRUCTURED-LOCATION;VALUE=URI;X-ADDRESS=Meeting Room A – Community Meeting Room 224 Main Street Brattleboro VT 05301 United States;X-APPLE-RADIUS=500;X-TITLE=224 Main Street:geo:-72.5599024,42.8553213
END:VEVENT
BEGIN:VEVENT
DTSTART;TZID=America/New_York:20260328T110000
DTEND;TZID=America/New_York:20260328T120000
DTSTAMP:20260423T153012
CREATED:20251210T203822Z
LAST-MODIFIED:20251210T204310Z
UID:10004992-1774695600-1774699200@brookslibraryvt.org
SUMMARY:SilverCircus - by NECCA
DESCRIPTION:Strengthen balance and build social connection\, all while playing and connecting to your inner child with SilverCircus by the New England Center for Circus Arts (NECCA). These circus classes are designed for older adults and are welcome to all mobility and cognitive levels. We will work with each student where they are at\, while fostering a supportive and playful group dynamic. Activities will challenge the brain and the body\, and will be scaled up and down to be the perfect challenge for each participant.\nIt is not too late to join the circus! Join us at Brattleboro Memorial Library at 11am on the 2nd and 4th Saturdays in January through May (01/10\, 01/24\, 02/14\, 02/28\, 03/14\, 03/28\, 04/11\, 04/25\, 05/09\, and 05/23).
URL:https://brookslibraryvt.org/event/silvercircus-by-necca-2/2026-03-28/
LOCATION:Meeting Room A – Community Meeting Room\, 224 Main Street\, Brattleboro\, VT\, 05301\, United States
CATEGORIES:Adults,General
ATTACH;FMTTYPE=image/png:https://eadn-wc04-3360218.nxedge.io/wp-content/uploads/2025/12/Copy-of-Copy-of-SilverCircus-Changes-Event-Flyer-Template-1-LinkedIn-Post-1.png
ORGANIZER;CN="NECCA":MAILTO:info@necenterforcircusarts.org
GEO:42.8553213;-72.5599024
X-APPLE-STRUCTURED-LOCATION;VALUE=URI;X-ADDRESS=Meeting Room A – Community Meeting Room 224 Main Street Brattleboro VT 05301 United States;X-APPLE-RADIUS=500;X-TITLE=224 Main Street:geo:-72.5599024,42.8553213
END:VEVENT
BEGIN:VEVENT
DTSTART;TZID=America/New_York:20260328T130000
DTEND;TZID=America/New_York:20260328T160000
DTSTAMP:20260423T153012
CREATED:20250103T195250Z
LAST-MODIFIED:20251204T220811Z
UID:10004927-1774702800-1774713600@brookslibraryvt.org
SUMMARY:Brattleboro in Stitches
DESCRIPTION:Bring a work in progress to sew\, knit\, crochet\, embroider\, or mend. Sewing machines\, irons\, and companionship will be provided.
URL:https://brookslibraryvt.org/event/brattleboro-in-stitches-6/2026-03-28/
LOCATION:Meeting Room A – Community Meeting Room\, 224 Main Street\, Brattleboro\, VT\, 05301\, United States
CATEGORIES:Adults,Children & Families,General
ATTACH;FMTTYPE=image/png:https://eadn-wc04-3360218.nxedge.io/wp-content/uploads/2023/03/Brattleboro-in-Stitches-Event-Calendar2.png
ORGANIZER;CN="Brooks Memorial Library":MAILTO:outreach@brookslibraryvt.org
GEO:42.8553213;-72.5599024
X-APPLE-STRUCTURED-LOCATION;VALUE=URI;X-ADDRESS=Meeting Room A – Community Meeting Room 224 Main Street Brattleboro VT 05301 United States;X-APPLE-RADIUS=500;X-TITLE=224 Main Street:geo:-72.5599024,42.8553213
END:VEVENT
END:VCALENDAR