BEGIN:VCALENDAR
VERSION:2.0
PRODID:-//Brooks Memorial Library - Brattleboro VT - ECPv6.15.17.1//NONSGML v1.0//EN
CALSCALE:GREGORIAN
METHOD:PUBLISH
X-ORIGINAL-URL:https://brookslibraryvt.org
X-WR-CALDESC:Events for Brooks Memorial Library - Brattleboro VT
REFRESH-INTERVAL;VALUE=DURATION:PT1H
X-Robots-Tag:noindex
X-PUBLISHED-TTL:PT1H
BEGIN:VTIMEZONE
TZID:America/New_York
BEGIN:DAYLIGHT
TZOFFSETFROM:-0500
TZOFFSETTO:-0400
TZNAME:EDT
DTSTART:20250309T070000
END:DAYLIGHT
BEGIN:STANDARD
TZOFFSETFROM:-0400
TZOFFSETTO:-0500
TZNAME:EST
DTSTART:20251102T060000
END:STANDARD
BEGIN:DAYLIGHT
TZOFFSETFROM:-0500
TZOFFSETTO:-0400
TZNAME:EDT
DTSTART:20260308T070000
END:DAYLIGHT
BEGIN:STANDARD
TZOFFSETFROM:-0400
TZOFFSETTO:-0500
TZNAME:EST
DTSTART:20261101T060000
END:STANDARD
BEGIN:DAYLIGHT
TZOFFSETFROM:-0500
TZOFFSETTO:-0400
TZNAME:EDT
DTSTART:20270314T070000
END:DAYLIGHT
BEGIN:STANDARD
TZOFFSETFROM:-0400
TZOFFSETTO:-0500
TZNAME:EST
DTSTART:20271107T060000
END:STANDARD
END:VTIMEZONE
BEGIN:VEVENT
DTSTART;TZID=America/New_York:20260601T180000
DTEND;TZID=America/New_York:20260601T200000
DTSTAMP:20260423T170500
CREATED:20260221T173042Z
LAST-MODIFIED:20260221T214632Z
UID:10005358-1780336800-1780344000@brookslibraryvt.org
SUMMARY:Windham County Democratic Committee
DESCRIPTION:Monthly Meeting of the Windham County Democratic Committee
URL:https://brookslibraryvt.org/event/windham-county-democratic-committee/2026-06-01/
LOCATION:Meeting Room A – Community Meeting Room\, 224 Main Street\, Brattleboro\, VT\, 05301\, United States
CATEGORIES:Adults,General
ATTACH;FMTTYPE=image/png:https://eadn-wc04-3360218.nxedge.io/wp-content/uploads/2026/02/Windham-County-Democratic-Committee-1.png
ORGANIZER;CN="Windham County Democratic Committee":MAILTO:sbrowneng.vt@gmail.com
GEO:42.8553213;-72.5599024
X-APPLE-STRUCTURED-LOCATION;VALUE=URI;X-ADDRESS=Meeting Room A – Community Meeting Room 224 Main Street Brattleboro VT 05301 United States;X-APPLE-RADIUS=500;X-TITLE=224 Main Street:geo:-72.5599024,42.8553213
END:VEVENT
BEGIN:VEVENT
DTSTART;TZID=America/New_York:20260602T180000
DTEND;TZID=America/New_York:20260602T204500
DTSTAMP:20260423T170500
CREATED:20251204T183229Z
LAST-MODIFIED:20251204T183229Z
UID:10004738-1780423200-1780433100@brookslibraryvt.org
SUMMARY:Mineralogical Society
DESCRIPTION:Join the Brattleboro Mineralogical Society to discuss Minerals and other Geological topics!
URL:https://brookslibraryvt.org/event/mineralogical-society-5/2026-06-02/
LOCATION:Meeting Room A – Community Meeting Room\, 224 Main Street\, Brattleboro\, VT\, 05301\, United States
CATEGORIES:Adults,General
ATTACH;FMTTYPE=image/png:https://eadn-wc04-3360218.nxedge.io/wp-content/uploads/2021/12/MineralogicalSociety.png
ORGANIZER;CN="Robert Clements - Mineralogical Society":MAILTO:rwc2esj@comcast.net
GEO:42.8553213;-72.5599024
X-APPLE-STRUCTURED-LOCATION;VALUE=URI;X-ADDRESS=Meeting Room A – Community Meeting Room 224 Main Street Brattleboro VT 05301 United States;X-APPLE-RADIUS=500;X-TITLE=224 Main Street:geo:-72.5599024,42.8553213
END:VEVENT
BEGIN:VEVENT
DTSTART;TZID=America/New_York:20260603T153000
DTEND;TZID=America/New_York:20260603T170000
DTSTAMP:20260423T170500
CREATED:20251209T165606Z
LAST-MODIFIED:20260404T174735Z
UID:10005603-1780500600-1780506000@brookslibraryvt.org
SUMMARY:Vermont Pastel Society
DESCRIPTION:pastel painting
URL:https://brookslibraryvt.org/event/vermont-pastel-society-3/2026-06-03/
LOCATION:Meeting Room A – Community Meeting Room\, 224 Main Street\, Brattleboro\, VT\, 05301\, United States
CATEGORIES:Adults,General
ATTACH;FMTTYPE=image/jpeg:https://eadn-wc04-3360218.nxedge.io/wp-content/uploads/2025/09/cropped-Vermont-Pastel-Society-Banner-2.jpg
ORGANIZER;CN="Vermont Pastel Society":MAILTO:mjpeakeART@gmail.com
GEO:42.8553213;-72.5599024
X-APPLE-STRUCTURED-LOCATION;VALUE=URI;X-ADDRESS=Meeting Room A – Community Meeting Room 224 Main Street Brattleboro VT 05301 United States;X-APPLE-RADIUS=500;X-TITLE=224 Main Street:geo:-72.5599024,42.8553213
END:VEVENT
BEGIN:VEVENT
DTSTART;TZID=America/New_York:20260603T180000
DTEND;TZID=America/New_York:20260603T200000
DTSTAMP:20260423T170500
CREATED:20251014T220933Z
LAST-MODIFIED:20251014T220933Z
UID:10004590-1780509600-1780516800@brookslibraryvt.org
SUMMARY:A Lifeline for Difficult Times:  The Taking Solace Series
DESCRIPTION:Starting this November\, Center for Solace (formerly Brattleboro Area Hospice) & Brooks Memorial Library\nare inspired to begin an 8-month collaboration on the first Wednesday of each month\, from 6-8 pm. \nCome join us for a wide range of conversations\non tender topics\, from Death Cafes\, to film & discussion nights\,\nspeaker panels\, a climate-grief dialogue\, and more. \nTogether we’ll explore some of the challenges of being alive in our time.\nFor instance\, how might we navigate illness\, caregiving\, or loss?\nOr beyond that\, face a much broader anguish for our fragile planet itself?\nBecause we know that at least one form of solace\nstems from staying connected. \nTo quote poet David Whyte\, “Solace is not meant to be\nan answer\, but an invitation\, through the door of pain and difficulty\,\nto the depth of suffering and simultaneous beauty in the world\nthat the strategic mind by itself cannot grasp or make sense of.”   \nWe begin November 5th from 6-8pm\nwith a Death Cafe in the Community Room. \nAnd to find out about further topics\, please follow\nCenter for Solace or Brooks Memorial Library on Facebook:\ncenterforsolace.org\, or brookslibraryvt.org.
URL:https://brookslibraryvt.org/event/a-lifeline-for-difficult-times-the-taking-solace-series/2026-06-03/
LOCATION:Meeting Room A – Community Meeting Room\, 224 Main Street\, Brattleboro\, VT\, 05301\, United States
CATEGORIES:Adults,General
ATTACH;FMTTYPE=image/png:https://eadn-wc04-3360218.nxedge.io/wp-content/uploads/2025/09/logo-wide-2-scaled.png
ORGANIZER;CN="Center for Solace":MAILTO:info@cfsolace.org
GEO:42.8553213;-72.5599024
X-APPLE-STRUCTURED-LOCATION;VALUE=URI;X-ADDRESS=Meeting Room A – Community Meeting Room 224 Main Street Brattleboro VT 05301 United States;X-APPLE-RADIUS=500;X-TITLE=224 Main Street:geo:-72.5599024,42.8553213
END:VEVENT
BEGIN:VEVENT
DTSTART;TZID=America/New_York:20260606T103000
DTEND;TZID=America/New_York:20260606T120000
DTSTAMP:20260423T170500
CREATED:20251212T202121Z
LAST-MODIFIED:20251212T202121Z
UID:10005060-1780741800-1780747200@brookslibraryvt.org
SUMMARY:Community Conversations with Brattleboro State Legislators
DESCRIPTION:As the Brattleboro Legislative Delegation gears up for the start of a new legislative session in January\, these monthly sessions are an opportunity to meet the Brattleboro Representatives and discuss issues that matter to you. Topics will include healthcare\, education\, climate change\, and housing. All are welcome to join your Vermont Legislators\, hear from experts\, and share your experiences. \nThese conversations are scheduled monthly on the 1st Saturdays from 10:30 AM – 12 PM. (Scheduled dates: 2/7\, 3/7\, 4/4\, 5/2\, and 6/6.)
URL:https://brookslibraryvt.org/event/community-conversations-with-brattleboro-state-legislators-3/2026-06-06/
LOCATION:Main Reading Room
CATEGORIES:Adults,General
ATTACH;FMTTYPE=image/jpeg:https://eadn-wc04-3360218.nxedge.io/wp-content/uploads/2025/12/vermont-seal.jpg
ORGANIZER;CN="Representative Ian Goodnow":MAILTO:igoodnow@leg.state.vt.us
GEO:42.8553213;-72.5599024
END:VEVENT
BEGIN:VEVENT
DTSTART;TZID=America/New_York:20260606T130000
DTEND;TZID=America/New_York:20260606T160000
DTSTAMP:20260423T170500
CREATED:20250103T195250Z
LAST-MODIFIED:20251204T220811Z
UID:10004937-1780750800-1780761600@brookslibraryvt.org
SUMMARY:Brattleboro in Stitches
DESCRIPTION:Bring a work in progress to sew\, knit\, crochet\, embroider\, or mend. Sewing machines\, irons\, and companionship will be provided.
URL:https://brookslibraryvt.org/event/brattleboro-in-stitches-6/2026-06-06/
LOCATION:Meeting Room A – Community Meeting Room\, 224 Main Street\, Brattleboro\, VT\, 05301\, United States
CATEGORIES:Adults,Children & Families,General
ATTACH;FMTTYPE=image/png:https://eadn-wc04-3360218.nxedge.io/wp-content/uploads/2023/03/Brattleboro-in-Stitches-Event-Calendar2.png
ORGANIZER;CN="Brooks Memorial Library":MAILTO:outreach@brookslibraryvt.org
GEO:42.8553213;-72.5599024
X-APPLE-STRUCTURED-LOCATION;VALUE=URI;X-ADDRESS=Meeting Room A – Community Meeting Room 224 Main Street Brattleboro VT 05301 United States;X-APPLE-RADIUS=500;X-TITLE=224 Main Street:geo:-72.5599024,42.8553213
END:VEVENT
END:VCALENDAR