BEGIN:VCALENDAR
VERSION:2.0
PRODID:-//Brooks Memorial Library - Brattleboro VT - ECPv6.15.17.1//NONSGML v1.0//EN
CALSCALE:GREGORIAN
METHOD:PUBLISH
X-WR-CALNAME:Brooks Memorial Library - Brattleboro VT
X-ORIGINAL-URL:https://brookslibraryvt.org
X-WR-CALDESC:Events for Brooks Memorial Library - Brattleboro VT
REFRESH-INTERVAL;VALUE=DURATION:PT1H
X-Robots-Tag:noindex
X-PUBLISHED-TTL:PT1H
BEGIN:VTIMEZONE
TZID:America/New_York
BEGIN:DAYLIGHT
TZOFFSETFROM:-0500
TZOFFSETTO:-0400
TZNAME:EDT
DTSTART:20240310T070000
END:DAYLIGHT
BEGIN:STANDARD
TZOFFSETFROM:-0400
TZOFFSETTO:-0500
TZNAME:EST
DTSTART:20241103T060000
END:STANDARD
BEGIN:DAYLIGHT
TZOFFSETFROM:-0500
TZOFFSETTO:-0400
TZNAME:EDT
DTSTART:20250309T070000
END:DAYLIGHT
BEGIN:STANDARD
TZOFFSETFROM:-0400
TZOFFSETTO:-0500
TZNAME:EST
DTSTART:20251102T060000
END:STANDARD
BEGIN:DAYLIGHT
TZOFFSETFROM:-0500
TZOFFSETTO:-0400
TZNAME:EDT
DTSTART:20260308T070000
END:DAYLIGHT
BEGIN:STANDARD
TZOFFSETFROM:-0400
TZOFFSETTO:-0500
TZNAME:EST
DTSTART:20261101T060000
END:STANDARD
END:VTIMEZONE
BEGIN:VEVENT
DTSTART;TZID=America/New_York:20250602T101500
DTEND;TZID=America/New_York:20250602T113000
DTSTAMP:20260424T042225
CREATED:20250303T222124Z
LAST-MODIFIED:20250611T173820Z
UID:10004045-1748859300-1748863800@brookslibraryvt.org
SUMMARY:Multigenerational Civics Class
DESCRIPTION:Who has power over us? What power do we have to create the world around us? The Vermont Village School welcomes villagers of all ages to participate in a people’s Civics class with us this spring at Brooks Memorial Library. We will be untangling the different institutions that exert power over us\, past and present\, official and unofficial\, and brainstorming how we move forward together. \n\nJoin us Monday at 10:15am @ Brooks Memorial Library\, Brattleboro. This will be the first of a series–we will plan future gatherings based on collective interest and energy.
URL:https://brookslibraryvt.org/event/multigenerational-civics-class/2025-06-02/
LOCATION:Meeting Room A – Community Meeting Room\, 224 Main Street\, Brattleboro\, VT\, 05301\, United States
CATEGORIES:Adults,Children & Families,General
ATTACH;FMTTYPE=image/jpeg:https://eadn-wc04-3360218.nxedge.io/wp-content/uploads/2025/03/VVS-Scrapbook30-scaled.jpg
ORGANIZER;CN="Vermont Village School":MAILTO:shayonye@gmail.com
GEO:42.8553213;-72.5599024
X-APPLE-STRUCTURED-LOCATION;VALUE=URI;X-ADDRESS=Meeting Room A – Community Meeting Room 224 Main Street Brattleboro VT 05301 United States;X-APPLE-RADIUS=500;X-TITLE=224 Main Street:geo:-72.5599024,42.8553213
END:VEVENT
BEGIN:VEVENT
DTSTART;TZID=America/New_York:20250604T103000
DTEND;TZID=America/New_York:20250604T110000
DTSTAMP:20260424T042225
CREATED:20241209T213420Z
LAST-MODIFIED:20251020T171452Z
UID:10003602-1749033000-1749034800@brookslibraryvt.org
SUMMARY:Rhyme Time
DESCRIPTION:Join us on Wednesday mornings @ 10:30 am for 30 minutes of stories\, songs\, and fun! \nRhyme Time is for kids 5 & under and their caregivers. \nFree and open to the public. \n  \n 
URL:https://brookslibraryvt.org/event/rhyme-time-8/2025-06-04/
LOCATION:Meeting Room A – Community Meeting Room\, 224 Main Street\, Brattleboro\, VT\, 05301\, United States
CATEGORIES:Children & Families
ATTACH;FMTTYPE=image/png:https://eadn-wc04-3360218.nxedge.io/wp-content/uploads/2024/01/New-2-CLJ.png
ORGANIZER;CN="BML Children's Room":MAILTO:cr@brookslibraryvt.org
GEO:42.8553213;-72.5599024
X-APPLE-STRUCTURED-LOCATION;VALUE=URI;X-ADDRESS=Meeting Room A – Community Meeting Room 224 Main Street Brattleboro VT 05301 United States;X-APPLE-RADIUS=500;X-TITLE=224 Main Street:geo:-72.5599024,42.8553213
END:VEVENT
BEGIN:VEVENT
DTSTART;TZID=America/New_York:20250604T183000
DTEND;TZID=America/New_York:20250604T200000
DTSTAMP:20260424T042225
CREATED:20250506T164957Z
LAST-MODIFIED:20250605T140610Z
UID:10004217-1749061800-1749067200@brookslibraryvt.org
SUMMARY:Rapid Reviews - Adult Summer Reading Program Kick-Off
DESCRIPTION:We are kicking off the Adult Summer Reading Program with Rapid Reviews of 50 books in 50 minutes! Experience a wide range of book recommendations from our well-read library staff to get ready for a spectacular summer of reading. \nEllen Martyn (Circulation)\, Jeanne Walsh (Information Services)\, Lindsay Bellville (Children’s Room)\, Anna Monders (Accounts)\, and Max Newirth (Teen Services) will review some of their all-time favorites. \nEach reviewer will give 60-second reviews of each book and you will have the opportunity to check out these books right away! Cookies and milk will be served. All ages are welcome. \nCheck out the list of books reviewed here: Rapid Reviews – June 4\, 2025.
URL:https://brookslibraryvt.org/event/rapid-reviews-adult-summer-reading-program-kick-off/
LOCATION:Main Reading Room
CATEGORIES:Adults,Children & Families,General
ATTACH;FMTTYPE=image/png:https://eadn-wc04-3360218.nxedge.io/wp-content/uploads/2025/05/2025-Adult-Summer-Reading-Challenge-Card1-e1747337992583.png
ORGANIZER;CN="Brooks Memorial Library":MAILTO:outreach@brookslibraryvt.org
GEO:42.8553213;-72.5599024
END:VEVENT
BEGIN:VEVENT
DTSTART;TZID=America/New_York:20250605T150000
DTEND;TZID=America/New_York:20250605T170000
DTSTAMP:20260424T042225
CREATED:20241209T214655Z
LAST-MODIFIED:20250830T194519Z
UID:10003639-1749135600-1749142800@brookslibraryvt.org
SUMMARY:LEGO-Palooza
DESCRIPTION:Join us on the first Thursday of every month after school from 3-5pm to play with LEGOs! \nWe provide the LEGOs. You build. Do not bring your own LEGOs. \nChildren cannot keep LEGOs\, but if there is enough room\, we will display them in the window. \nFree and open to the public!
URL:https://brookslibraryvt.org/event/lego-palooza-4/2025-06-05/
LOCATION:Meeting Room A – Community Meeting Room\, 224 Main Street\, Brattleboro\, VT\, 05301\, United States
CATEGORIES:Children & Families,General
ATTACH;FMTTYPE=image/png:https://eadn-wc04-3360218.nxedge.io/wp-content/uploads/2023/01/Untitled-design4.png
ORGANIZER;CN="BML Children's Room":MAILTO:cr@brookslibraryvt.org
GEO:42.8553213;-72.5599024
X-APPLE-STRUCTURED-LOCATION;VALUE=URI;X-ADDRESS=Meeting Room A – Community Meeting Room 224 Main Street Brattleboro VT 05301 United States;X-APPLE-RADIUS=500;X-TITLE=224 Main Street:geo:-72.5599024,42.8553213
END:VEVENT
BEGIN:VEVENT
DTSTART;TZID=America/New_York:20250607T130000
DTEND;TZID=America/New_York:20250607T160000
DTSTAMP:20260424T042225
CREATED:20250103T195250Z
LAST-MODIFIED:20251204T220811Z
UID:10003820-1749301200-1749312000@brookslibraryvt.org
SUMMARY:Brattleboro in Stitches
DESCRIPTION:Bring a work in progress to sew\, knit\, crochet\, embroider\, or mend. Sewing machines\, irons\, and companionship will be provided.
URL:https://brookslibraryvt.org/event/brattleboro-in-stitches-6/2025-06-07/
LOCATION:Meeting Room A – Community Meeting Room\, 224 Main Street\, Brattleboro\, VT\, 05301\, United States
CATEGORIES:Adults,Children & Families,General
ATTACH;FMTTYPE=image/png:https://eadn-wc04-3360218.nxedge.io/wp-content/uploads/2023/03/Brattleboro-in-Stitches-Event-Calendar2.png
ORGANIZER;CN="Brooks Memorial Library":MAILTO:outreach@brookslibraryvt.org
GEO:42.8553213;-72.5599024
X-APPLE-STRUCTURED-LOCATION;VALUE=URI;X-ADDRESS=Meeting Room A – Community Meeting Room 224 Main Street Brattleboro VT 05301 United States;X-APPLE-RADIUS=500;X-TITLE=224 Main Street:geo:-72.5599024,42.8553213
END:VEVENT
BEGIN:VEVENT
DTSTART;TZID=America/New_York:20250609T101500
DTEND;TZID=America/New_York:20250609T113000
DTSTAMP:20260424T042225
CREATED:20250303T222124Z
LAST-MODIFIED:20250611T173820Z
UID:10004046-1749464100-1749468600@brookslibraryvt.org
SUMMARY:Multigenerational Civics Class
DESCRIPTION:Who has power over us? What power do we have to create the world around us? The Vermont Village School welcomes villagers of all ages to participate in a people’s Civics class with us this spring at Brooks Memorial Library. We will be untangling the different institutions that exert power over us\, past and present\, official and unofficial\, and brainstorming how we move forward together. \n\nJoin us Monday at 10:15am @ Brooks Memorial Library\, Brattleboro. This will be the first of a series–we will plan future gatherings based on collective interest and energy.
URL:https://brookslibraryvt.org/event/multigenerational-civics-class/2025-06-09/
LOCATION:Meeting Room A – Community Meeting Room\, 224 Main Street\, Brattleboro\, VT\, 05301\, United States
CATEGORIES:Adults,Children & Families,General
ATTACH;FMTTYPE=image/jpeg:https://eadn-wc04-3360218.nxedge.io/wp-content/uploads/2025/03/VVS-Scrapbook30-scaled.jpg
ORGANIZER;CN="Vermont Village School":MAILTO:shayonye@gmail.com
GEO:42.8553213;-72.5599024
X-APPLE-STRUCTURED-LOCATION;VALUE=URI;X-ADDRESS=Meeting Room A – Community Meeting Room 224 Main Street Brattleboro VT 05301 United States;X-APPLE-RADIUS=500;X-TITLE=224 Main Street:geo:-72.5599024,42.8553213
END:VEVENT
BEGIN:VEVENT
DTSTART;TZID=America/New_York:20250611T103000
DTEND;TZID=America/New_York:20250611T110000
DTSTAMP:20260424T042225
CREATED:20241209T213420Z
LAST-MODIFIED:20251020T171452Z
UID:10003603-1749637800-1749639600@brookslibraryvt.org
SUMMARY:Rhyme Time
DESCRIPTION:Join us on Wednesday mornings @ 10:30 am for 30 minutes of stories\, songs\, and fun! \nRhyme Time is for kids 5 & under and their caregivers. \nFree and open to the public. \n  \n 
URL:https://brookslibraryvt.org/event/rhyme-time-8/2025-06-11/
LOCATION:Meeting Room A – Community Meeting Room\, 224 Main Street\, Brattleboro\, VT\, 05301\, United States
CATEGORIES:Children & Families
ATTACH;FMTTYPE=image/png:https://eadn-wc04-3360218.nxedge.io/wp-content/uploads/2024/01/New-2-CLJ.png
ORGANIZER;CN="BML Children's Room":MAILTO:cr@brookslibraryvt.org
GEO:42.8553213;-72.5599024
X-APPLE-STRUCTURED-LOCATION;VALUE=URI;X-ADDRESS=Meeting Room A – Community Meeting Room 224 Main Street Brattleboro VT 05301 United States;X-APPLE-RADIUS=500;X-TITLE=224 Main Street:geo:-72.5599024,42.8553213
END:VEVENT
BEGIN:VEVENT
DTSTART;TZID=America/New_York:20250612T180000
DTEND;TZID=America/New_York:20250612T200000
DTSTAMP:20260424T042225
CREATED:20250514T211138Z
LAST-MODIFIED:20250522T193953Z
UID:10004225-1749751200-1749758400@brookslibraryvt.org
SUMMARY:What's Cooking at Brooks?
DESCRIPTION:The Friends of Brooks Memorial Library invite you to join us for a special after hours spring party where guests will explore the Library of Things collection by experiencing live cooking demonstrations and enjoying a grand selection of sweet and savory treats and refreshments. \nThe Library of Things is a collection of non-traditional items which can be borrowed from the library\, such as kitchen and gardening tools\, technology and electronics\, memory kits\, and even a telescope! \nTake home some seeds for the garden and vote on new items to purchase for the Library of Things! \nAdmission is by donation. Everyone is welcome. \n 
URL:https://brookslibraryvt.org/event/whats-cooking-at-brooks/
LOCATION:Brooks Memorial Library\, 224 Main Street\, Brattleboro\, VT\, 05301\, United States
CATEGORIES:Adults,Children & Families,General
ATTACH;FMTTYPE=image/png:https://eadn-wc04-3360218.nxedge.io/wp-content/uploads/2025/05/Spring-Party-Friends-2025-e1747942779568.png
GEO:42.8553213;-72.5599024
X-APPLE-STRUCTURED-LOCATION;VALUE=URI;X-ADDRESS=Brooks Memorial Library 224 Main Street Brattleboro VT 05301 United States;X-APPLE-RADIUS=500;X-TITLE=224 Main Street:geo:-72.5599024,42.8553213
END:VEVENT
BEGIN:VEVENT
DTSTART;TZID=America/New_York:20250614T130000
DTEND;TZID=America/New_York:20250614T160000
DTSTAMP:20260424T042225
CREATED:20250103T195250Z
LAST-MODIFIED:20251204T220811Z
UID:10003821-1749906000-1749916800@brookslibraryvt.org
SUMMARY:Brattleboro in Stitches
DESCRIPTION:Bring a work in progress to sew\, knit\, crochet\, embroider\, or mend. Sewing machines\, irons\, and companionship will be provided.
URL:https://brookslibraryvt.org/event/brattleboro-in-stitches-6/2025-06-14/
LOCATION:Meeting Room A – Community Meeting Room\, 224 Main Street\, Brattleboro\, VT\, 05301\, United States
CATEGORIES:Adults,Children & Families,General
ATTACH;FMTTYPE=image/png:https://eadn-wc04-3360218.nxedge.io/wp-content/uploads/2023/03/Brattleboro-in-Stitches-Event-Calendar2.png
ORGANIZER;CN="Brooks Memorial Library":MAILTO:outreach@brookslibraryvt.org
GEO:42.8553213;-72.5599024
X-APPLE-STRUCTURED-LOCATION;VALUE=URI;X-ADDRESS=Meeting Room A – Community Meeting Room 224 Main Street Brattleboro VT 05301 United States;X-APPLE-RADIUS=500;X-TITLE=224 Main Street:geo:-72.5599024,42.8553213
END:VEVENT
BEGIN:VEVENT
DTSTART;TZID=America/New_York:20250618T103000
DTEND;TZID=America/New_York:20250618T110000
DTSTAMP:20260424T042225
CREATED:20241209T213420Z
LAST-MODIFIED:20251020T171452Z
UID:10003604-1750242600-1750244400@brookslibraryvt.org
SUMMARY:Rhyme Time
DESCRIPTION:Join us on Wednesday mornings @ 10:30 am for 30 minutes of stories\, songs\, and fun! \nRhyme Time is for kids 5 & under and their caregivers. \nFree and open to the public. \n  \n 
URL:https://brookslibraryvt.org/event/rhyme-time-8/2025-06-18/
LOCATION:Meeting Room A – Community Meeting Room\, 224 Main Street\, Brattleboro\, VT\, 05301\, United States
CATEGORIES:Children & Families
ATTACH;FMTTYPE=image/png:https://eadn-wc04-3360218.nxedge.io/wp-content/uploads/2024/01/New-2-CLJ.png
ORGANIZER;CN="BML Children's Room":MAILTO:cr@brookslibraryvt.org
GEO:42.8553213;-72.5599024
X-APPLE-STRUCTURED-LOCATION;VALUE=URI;X-ADDRESS=Meeting Room A – Community Meeting Room 224 Main Street Brattleboro VT 05301 United States;X-APPLE-RADIUS=500;X-TITLE=224 Main Street:geo:-72.5599024,42.8553213
END:VEVENT
BEGIN:VEVENT
DTSTART;TZID=America/New_York:20250621T130000
DTEND;TZID=America/New_York:20250621T160000
DTSTAMP:20260424T042225
CREATED:20250103T195250Z
LAST-MODIFIED:20251204T220811Z
UID:10003822-1750510800-1750521600@brookslibraryvt.org
SUMMARY:Brattleboro in Stitches
DESCRIPTION:Bring a work in progress to sew\, knit\, crochet\, embroider\, or mend. Sewing machines\, irons\, and companionship will be provided.
URL:https://brookslibraryvt.org/event/brattleboro-in-stitches-6/2025-06-21/
LOCATION:Meeting Room A – Community Meeting Room\, 224 Main Street\, Brattleboro\, VT\, 05301\, United States
CATEGORIES:Adults,Children & Families,General
ATTACH;FMTTYPE=image/png:https://eadn-wc04-3360218.nxedge.io/wp-content/uploads/2023/03/Brattleboro-in-Stitches-Event-Calendar2.png
ORGANIZER;CN="Brooks Memorial Library":MAILTO:outreach@brookslibraryvt.org
GEO:42.8553213;-72.5599024
X-APPLE-STRUCTURED-LOCATION;VALUE=URI;X-ADDRESS=Meeting Room A – Community Meeting Room 224 Main Street Brattleboro VT 05301 United States;X-APPLE-RADIUS=500;X-TITLE=224 Main Street:geo:-72.5599024,42.8553213
END:VEVENT
BEGIN:VEVENT
DTSTART;TZID=America/New_York:20250623T150000
DTEND;TZID=America/New_York:20250623T150000
DTSTAMP:20260424T042225
CREATED:20250617T185204Z
LAST-MODIFIED:20250620T155640Z
UID:10004400-1750690800-1750690800@brookslibraryvt.org
SUMMARY:Monday Movie Matinees- Sonic The Hedgehog 3
DESCRIPTION:Join us at a NEW TIME\, 3PM\, for our Monday Movie Matinee: Sonic The Hedgehog 3!
URL:https://brookslibraryvt.org/event/monday-movie-matinees-sonic-the-hedgehog-3/
LOCATION:VT
CATEGORIES:Children & Families
ATTACH;FMTTYPE=image/png:https://eadn-wc04-3360218.nxedge.io/wp-content/uploads/2022/07/Movie-Matinee-graphic.png
ORGANIZER;CN="BML Children's Room":MAILTO:cr@brookslibraryvt.org
END:VEVENT
BEGIN:VEVENT
DTSTART;TZID=America/New_York:20250624T103000
DTEND;TZID=America/New_York:20250624T233000
DTSTAMP:20260424T042225
CREATED:20250617T160527Z
LAST-MODIFIED:20250624T165908Z
UID:10004336-1750761000-1750807800@brookslibraryvt.org
SUMMARY:ON THE COMMONS-Sing & Dance with Robin
DESCRIPTION:For Ages 0-5 and their caregivers\, held on the Brattleboro Commons. \nThis lovely class is an enriching musical experience for toddlers and preschoolers\, designed to support healthy cognitive\, physical\, and social development. Children will sing\, clap\, stomp\, dance\, and play along with the curriculum of traditional and modern folk songs. Parents will be encouraged to fully sing and participate with their child in the class. \nOn rainy days\, Sing & Dance will be held in the BML Community Meeting Room.
URL:https://brookslibraryvt.org/event/on-the-common-sing-dance-with-robin/2025-06-24/
LOCATION:VT
CATEGORIES:Children & Families
ATTACH;FMTTYPE=image/png:https://eadn-wc04-3360218.nxedge.io/wp-content/uploads/2024/06/Sing-Dance-with-Robin-on-the-COMMONS.png
ORGANIZER;CN="BML Children's Room":MAILTO:cr@brookslibraryvt.org
END:VEVENT
BEGIN:VEVENT
DTSTART;TZID=America/New_York:20250625T103000
DTEND;TZID=America/New_York:20250625T110000
DTSTAMP:20260424T042225
CREATED:20241209T213420Z
LAST-MODIFIED:20251020T171452Z
UID:10003605-1750847400-1750849200@brookslibraryvt.org
SUMMARY:Rhyme Time
DESCRIPTION:Join us on Wednesday mornings @ 10:30 am for 30 minutes of stories\, songs\, and fun! \nRhyme Time is for kids 5 & under and their caregivers. \nFree and open to the public. \n  \n 
URL:https://brookslibraryvt.org/event/rhyme-time-8/2025-06-25/
LOCATION:Meeting Room A – Community Meeting Room\, 224 Main Street\, Brattleboro\, VT\, 05301\, United States
CATEGORIES:Children & Families
ATTACH;FMTTYPE=image/png:https://eadn-wc04-3360218.nxedge.io/wp-content/uploads/2024/01/New-2-CLJ.png
ORGANIZER;CN="BML Children's Room":MAILTO:cr@brookslibraryvt.org
GEO:42.8553213;-72.5599024
X-APPLE-STRUCTURED-LOCATION;VALUE=URI;X-ADDRESS=Meeting Room A – Community Meeting Room 224 Main Street Brattleboro VT 05301 United States;X-APPLE-RADIUS=500;X-TITLE=224 Main Street:geo:-72.5599024,42.8553213
END:VEVENT
BEGIN:VEVENT
DTSTART;TZID=America/New_York:20250625T150000
DTEND;TZID=America/New_York:20250625T160000
DTSTAMP:20260424T042225
CREATED:20250626T170338Z
LAST-MODIFIED:20250702T184426Z
UID:10004430-1750863600-1750867200@brookslibraryvt.org
SUMMARY:Board Gaming Guild: SUMMER SESSION
DESCRIPTION:This summer\, come join the fun as the Board Gaming Guild returns for Summer Reading Program! \nDrop in for a rousing hour of gaming! Splendor\, Kingdomino\, 5-Minute Dungeon\, and more! Play the games we have on hand\, or bring your own. \nEvery Wednesday at 3pm. Stop by to have a great time playing board games in the Children’s Room! \nAges 8 and up. No sign up required!
URL:https://brookslibraryvt.org/event/board-gaming-guild-summer-session/2025-06-25/
LOCATION:Children’s Room\, 224 Main Street\, Brattleboro\, VT\, 05301\, United States
CATEGORIES:Children & Families
ATTACH;FMTTYPE=image/png:https://eadn-wc04-3360218.nxedge.io/wp-content/uploads/2025/06/Board-Gaming-Guild-CALENDAR-.png
ORGANIZER;CN="BML Children's Room":MAILTO:cr@brookslibraryvt.org
GEO:42.8553213;-72.5599024
X-APPLE-STRUCTURED-LOCATION;VALUE=URI;X-ADDRESS=Children’s Room 224 Main Street Brattleboro VT 05301 United States;X-APPLE-RADIUS=500;X-TITLE=224 Main Street:geo:-72.5599024,42.8553213
END:VEVENT
BEGIN:VEVENT
DTSTART;TZID=America/New_York:20250626T103000
DTEND;TZID=America/New_York:20250626T110000
DTSTAMP:20260424T042225
CREATED:20250617T181504Z
LAST-MODIFIED:20250620T154734Z
UID:10004394-1750933800-1750935600@brookslibraryvt.org
SUMMARY:RETREAT FARM- Storytime in the Sun
DESCRIPTION:Join Brooks Memorial Library at Retreat Farm for storytime as part of our Summer Reading Program! \nThursdays at 10:30am\, come for the stories\, stay for the goats! Free and open to all ages. Bring your own blanket or chair.
URL:https://brookslibraryvt.org/event/retreat-farm-storytime-in-the-sun/2025-06-26/
LOCATION:VT
CATEGORIES:Children & Families
ATTACH;FMTTYPE=image/png:https://eadn-wc04-3360218.nxedge.io/wp-content/uploads/2025/06/Retreat-Farm-CALENDAR.png
ORGANIZER;CN="BML Children's Room":MAILTO:cr@brookslibraryvt.org
END:VEVENT
BEGIN:VEVENT
DTSTART;TZID=America/New_York:20250626T130000
DTEND;TZID=America/New_York:20250626T170000
DTSTAMP:20260424T042225
CREATED:20250606T142920Z
LAST-MODIFIED:20250617T154246Z
UID:10004238-1750942800-1750957200@brookslibraryvt.org
SUMMARY:LEGO-Palooza Summer Session
DESCRIPTION:Join us for these SPECIAL SUMMER SESSIONS of LEGO-Palooza every Thursday this summer from 1:00 pm to 5:00 pm. \nCome build something fun with the library’s LEGOs and get a chance to see them on display. FREE! \n  \nLEGO-palooza happens from 3:00 to 5:00 pm on the first Thursday of the month with occasional special sessions during school breaks and the summer. \nFor more information\, call 802-254-5290 ext. 1210
URL:https://brookslibraryvt.org/event/lego-palooza-summer-session-2/2025-06-26/
LOCATION:Meeting Room A – Community Meeting Room\, 224 Main Street\, Brattleboro\, VT\, 05301\, United States
CATEGORIES:Children & Families,General
ATTACH;FMTTYPE=image/png:https://eadn-wc04-3360218.nxedge.io/wp-content/uploads/2024/06/LEGO-palooza-SUMMER-session.png
ORGANIZER;CN="BML Children's Room":MAILTO:cr@brookslibraryvt.org
GEO:42.8553213;-72.5599024
X-APPLE-STRUCTURED-LOCATION;VALUE=URI;X-ADDRESS=Meeting Room A – Community Meeting Room 224 Main Street Brattleboro VT 05301 United States;X-APPLE-RADIUS=500;X-TITLE=224 Main Street:geo:-72.5599024,42.8553213
END:VEVENT
BEGIN:VEVENT
DTSTART;TZID=America/New_York:20250628T110000
DTEND;TZID=America/New_York:20250628T150000
DTSTAMP:20260424T042225
CREATED:20250611T174708Z
LAST-MODIFIED:20250626T192801Z
UID:10004251-1751108400-1751122800@brookslibraryvt.org
SUMMARY:Vermont Butterfly Atlas Workshop & Butterfly Bioblitz
DESCRIPTION:The Brattleboro and Guilford Conservation Commissions\, Bonnyvale Environmental Education Center (BEEC)\, and Brooks Memorial Library are presenting an exciting opportunity to participate in community science! \nJoin Dana Williams from the Vermont Center for Ecostudies for a fun-filled day of learning about the butterflies of Windham County and how you can contribute to the Vermont Butterfly Atlas. Volunteers are needed to help search fields and fens\, mountains and meadows\, and even their own backyards to document the status of Vermont’s butterflies. Your efforts will help scientists detect changes in butterfly populations and provide essential information to protect butterflies and preserve their habitat. \nVermont Butterfly Atlas Workshop\n11am at Brooks Memorial Library \nThis indoor workshop will introduce the Vermont Butterfly Atlas and teach us how to observe and identify butterflies in the wild and report our sightings using eButterfly and iNaturalist. The Vermont Butterfly Atlas has already documented four species new or rediscovered in the state! Learn about community science field work and conservation efforts\, and ask questions about the finer points of butterfly identification and natural history. \nButterfly Bioblitz\n12:30pm at Hogle Wildlife Sanctuary (entrance at Eaton Avenue\, Brattleboro) \nDiscover the fascinating world of butterflying by joining an expedition at our local wildlife sanctuary. This hands-on exploration will help us survey the butterfly and insect populations and identify host plants and anything interesting we encounter. We will investigate the trail and meadows for butterflies nectaring or using a host plant (egg-laying or caterpillars feeding). Searching for butterflies in the field is a great way to spend time with other nature lovers and get motivated to document the butterflies in the field. \nFor the bioblitz\, please bring: \n\nwater and sun protection\na smartphone/camera or binoculars if you have them\nyour questions and curiosity!\n\nThese events are part of the Brooks Memorial Library’s “Summer of Community Science” Adult Summer Reading program. \nNo registration is required and you may attend one or both events. Free and open to all ages. \nButterflies prefer warm and sunny weather. There will be a rain date of Saturday\, July 12th. Updates will be posted on the Brooks Memorial Library website and Facebook page. \n  \n \nDana Williams is the Community Science Coordinator at the Vermont Center for Ecostudies\, where she helps community members contribute to conservation efforts across the state of Vermont. Previously\, she worked in nature education for all ages as the programs director at Williamstown Rural Lands\, a small land trust in Massachusetts. She holds a PhD in Ecology and Evolutionary Biology from the University of California\, Los Angeles\, where she researched the social relationships of animals. \n  \n           
URL:https://brookslibraryvt.org/event/vermont-butterfly-atlas-workshop-butterfly-bioblitz/
LOCATION:Meeting Room A – Community Meeting Room\, 224 Main Street\, Brattleboro\, VT\, 05301\, United States
CATEGORIES:Adults,Children & Families,General
ATTACH;FMTTYPE=image/png:https://eadn-wc04-3360218.nxedge.io/wp-content/uploads/2025/06/Your-paragraph-text-1350-x-1350-px.png
ORGANIZER;CN="Brooks Memorial Library":MAILTO:outreach@brookslibraryvt.org
GEO:42.8553213;-72.5599024
X-APPLE-STRUCTURED-LOCATION;VALUE=URI;X-ADDRESS=Meeting Room A – Community Meeting Room 224 Main Street Brattleboro VT 05301 United States;X-APPLE-RADIUS=500;X-TITLE=224 Main Street:geo:-72.5599024,42.8553213
END:VEVENT
BEGIN:VEVENT
DTSTART;TZID=America/New_York:20250628T130000
DTEND;TZID=America/New_York:20250628T160000
DTSTAMP:20260424T042225
CREATED:20250103T195250Z
LAST-MODIFIED:20251204T220811Z
UID:10003823-1751115600-1751126400@brookslibraryvt.org
SUMMARY:Brattleboro in Stitches
DESCRIPTION:Bring a work in progress to sew\, knit\, crochet\, embroider\, or mend. Sewing machines\, irons\, and companionship will be provided.
URL:https://brookslibraryvt.org/event/brattleboro-in-stitches-6/2025-06-28/
LOCATION:Meeting Room A – Community Meeting Room\, 224 Main Street\, Brattleboro\, VT\, 05301\, United States
CATEGORIES:Adults,Children & Families,General
ATTACH;FMTTYPE=image/png:https://eadn-wc04-3360218.nxedge.io/wp-content/uploads/2023/03/Brattleboro-in-Stitches-Event-Calendar2.png
ORGANIZER;CN="Brooks Memorial Library":MAILTO:outreach@brookslibraryvt.org
GEO:42.8553213;-72.5599024
X-APPLE-STRUCTURED-LOCATION;VALUE=URI;X-ADDRESS=Meeting Room A – Community Meeting Room 224 Main Street Brattleboro VT 05301 United States;X-APPLE-RADIUS=500;X-TITLE=224 Main Street:geo:-72.5599024,42.8553213
END:VEVENT
BEGIN:VEVENT
DTSTART;TZID=America/New_York:20250630T150000
DTEND;TZID=America/New_York:20250630T150000
DTSTAMP:20260424T042225
CREATED:20250617T190707Z
LAST-MODIFIED:20250630T153210Z
UID:10004406-1751295600-1751295600@brookslibraryvt.org
SUMMARY:Monday Movie Matinees- The Super Mario Bros Movie
DESCRIPTION:Join us at a NEW TIME\, 3 PM\, for our Monday Movie Matinee: The Super Mario Bros Movie!
URL:https://brookslibraryvt.org/event/monday-movie-matinees-the-super-mario-bros-movie/
LOCATION:VT
CATEGORIES:Children & Families
ATTACH;FMTTYPE=image/png:https://eadn-wc04-3360218.nxedge.io/wp-content/uploads/2022/07/Movie-Matinee-graphic.png
ORGANIZER;CN="BML Children's Room":MAILTO:cr@brookslibraryvt.org
END:VEVENT
END:VCALENDAR