BEGIN:VCALENDAR
VERSION:2.0
PRODID:-//Brooks Memorial Library - Brattleboro VT - ECPv6.15.17.1//NONSGML v1.0//EN
CALSCALE:GREGORIAN
METHOD:PUBLISH
X-ORIGINAL-URL:https://brookslibraryvt.org
X-WR-CALDESC:Events for Brooks Memorial Library - Brattleboro VT
REFRESH-INTERVAL;VALUE=DURATION:PT1H
X-Robots-Tag:noindex
X-PUBLISHED-TTL:PT1H
BEGIN:VTIMEZONE
TZID:America/New_York
BEGIN:DAYLIGHT
TZOFFSETFROM:-0500
TZOFFSETTO:-0400
TZNAME:EDT
DTSTART:20240310T070000
END:DAYLIGHT
BEGIN:STANDARD
TZOFFSETFROM:-0400
TZOFFSETTO:-0500
TZNAME:EST
DTSTART:20241103T060000
END:STANDARD
BEGIN:DAYLIGHT
TZOFFSETFROM:-0500
TZOFFSETTO:-0400
TZNAME:EDT
DTSTART:20250309T070000
END:DAYLIGHT
BEGIN:STANDARD
TZOFFSETFROM:-0400
TZOFFSETTO:-0500
TZNAME:EST
DTSTART:20251102T060000
END:STANDARD
BEGIN:DAYLIGHT
TZOFFSETFROM:-0500
TZOFFSETTO:-0400
TZNAME:EDT
DTSTART:20260308T070000
END:DAYLIGHT
BEGIN:STANDARD
TZOFFSETFROM:-0400
TZOFFSETTO:-0500
TZNAME:EST
DTSTART:20261101T060000
END:STANDARD
END:VTIMEZONE
BEGIN:VEVENT
DTSTART;TZID=America/New_York:20251101T110000
DTEND;TZID=America/New_York:20251101T123000
DTSTAMP:20260423T181405
CREATED:20251024T222701Z
LAST-MODIFIED:20251024T222701Z
UID:10004620-1761994800-1762000200@brookslibraryvt.org
SUMMARY:First Meeting of the Kids Fishing Club
DESCRIPTION:
URL:https://brookslibraryvt.org/event/first-meeting-of-the-kids-fishing-club/
LOCATION:Meeting Room A – Community Meeting Room\, 224 Main Street\, Brattleboro\, VT\, 05301\, United States
CATEGORIES:Children & Families,General
ORGANIZER;CN="Kids Fishing Club":MAILTO:jeffdiehl@gmail.com
GEO:42.8553213;-72.5599024
X-APPLE-STRUCTURED-LOCATION;VALUE=URI;X-ADDRESS=Meeting Room A – Community Meeting Room 224 Main Street Brattleboro VT 05301 United States;X-APPLE-RADIUS=500;X-TITLE=224 Main Street:geo:-72.5599024,42.8553213
END:VEVENT
BEGIN:VEVENT
DTSTART;TZID=America/New_York:20251101T130000
DTEND;TZID=America/New_York:20251101T160000
DTSTAMP:20260423T181405
CREATED:20250103T195250Z
LAST-MODIFIED:20251204T220811Z
UID:10003841-1762002000-1762012800@brookslibraryvt.org
SUMMARY:Brattleboro in Stitches
DESCRIPTION:Bring a work in progress to sew\, knit\, crochet\, embroider\, or mend. Sewing machines\, irons\, and companionship will be provided.
URL:https://brookslibraryvt.org/event/brattleboro-in-stitches-6/2025-11-01/
LOCATION:Meeting Room A – Community Meeting Room\, 224 Main Street\, Brattleboro\, VT\, 05301\, United States
CATEGORIES:Adults,Children & Families,General
ATTACH;FMTTYPE=image/png:https://eadn-wc04-3360218.nxedge.io/wp-content/uploads/2023/03/Brattleboro-in-Stitches-Event-Calendar2.png
ORGANIZER;CN="Brooks Memorial Library":MAILTO:outreach@brookslibraryvt.org
GEO:42.8553213;-72.5599024
X-APPLE-STRUCTURED-LOCATION;VALUE=URI;X-ADDRESS=Meeting Room A – Community Meeting Room 224 Main Street Brattleboro VT 05301 United States;X-APPLE-RADIUS=500;X-TITLE=224 Main Street:geo:-72.5599024,42.8553213
END:VEVENT
BEGIN:VEVENT
DTSTART;TZID=America/New_York:20251103T160000
DTEND;TZID=America/New_York:20251103T170000
DTSTAMP:20260423T181405
CREATED:20251021T150120Z
LAST-MODIFIED:20251021T150120Z
UID:10004615-1762185600-1762189200@brookslibraryvt.org
SUMMARY:BookMarked: A Book Club for Children and Tweens!- Into the Rapids Discussion
DESCRIPTION:Join us on Monday\, November 3rd at 4 pm to discuss Ann Braden’s novel\, Into the Rapids. We will work on generating some questions for Ann when she comes to visit on November 17th! BookMarked is intended for ages 8 and up. Please register at the Children’s Room desk or contact us by phone or email: \n\n\n\n\n(802) 254-5290 EXT 1210 \ncr@brookslibraryvt.org
URL:https://brookslibraryvt.org/event/bookmarked-a-book-club-for-children-and-tweens-into-the-rapids-discussion/
LOCATION:Meeting Room A – Community Meeting Room\, 224 Main Street\, Brattleboro\, VT\, 05301\, United States
CATEGORIES:Children & Families,Teens
ATTACH;FMTTYPE=image/png:https://eadn-wc04-3360218.nxedge.io/wp-content/uploads/2025/10/Into-the-Rapids-Facebook-Post.png
ORGANIZER;CN="BML Children's Room":MAILTO:cr@brookslibraryvt.org
GEO:42.8553213;-72.5599024
X-APPLE-STRUCTURED-LOCATION;VALUE=URI;X-ADDRESS=Meeting Room A – Community Meeting Room 224 Main Street Brattleboro VT 05301 United States;X-APPLE-RADIUS=500;X-TITLE=224 Main Street:geo:-72.5599024,42.8553213
END:VEVENT
BEGIN:VEVENT
DTSTART;TZID=America/New_York:20251104T133000
DTEND;TZID=America/New_York:20251104T140000
DTSTAMP:20260423T181405
CREATED:20250925T213117Z
LAST-MODIFIED:20250925T213117Z
UID:10004542-1762263000-1762264800@brookslibraryvt.org
SUMMARY:Clown Around Book: A Circus Book Reading for Kids
DESCRIPTION:Bring the little ones and enjoy circus themed children’s books read aloud by a real circus clown! A NECCA Vermont Circus Festival event supported in part by Vermont Humanities.
URL:https://brookslibraryvt.org/event/clown-around-book-a-circus-book-reading-for-kids/
LOCATION:Meeting Room A – Community Meeting Room\, 224 Main Street\, Brattleboro\, VT\, 05301\, United States
CATEGORIES:Children & Families,General
ATTACH;FMTTYPE=image/jpeg:https://eadn-wc04-3360218.nxedge.io/wp-content/uploads/2025/09/necca-vtcf-2025-general-marketing-Logo_Only-12-845x684-1.jpg
GEO:42.8553213;-72.5599024
X-APPLE-STRUCTURED-LOCATION;VALUE=URI;X-ADDRESS=Meeting Room A – Community Meeting Room 224 Main Street Brattleboro VT 05301 United States;X-APPLE-RADIUS=500;X-TITLE=224 Main Street:geo:-72.5599024,42.8553213
END:VEVENT
BEGIN:VEVENT
DTSTART;TZID=America/New_York:20251105T103000
DTEND;TZID=America/New_York:20251105T110000
DTSTAMP:20260423T181405
CREATED:20241209T213420Z
LAST-MODIFIED:20251020T171452Z
UID:10003624-1762338600-1762340400@brookslibraryvt.org
SUMMARY:Rhyme Time
DESCRIPTION:Join us on Wednesday mornings @ 10:30 am for 30 minutes of stories\, songs\, and fun! \nRhyme Time is for kids 5 & under and their caregivers. \nFree and open to the public. \n  \n 
URL:https://brookslibraryvt.org/event/rhyme-time-8/2025-11-05/
LOCATION:Meeting Room A – Community Meeting Room\, 224 Main Street\, Brattleboro\, VT\, 05301\, United States
CATEGORIES:Children & Families
ATTACH;FMTTYPE=image/png:https://eadn-wc04-3360218.nxedge.io/wp-content/uploads/2024/01/New-2-CLJ.png
ORGANIZER;CN="BML Children's Room":MAILTO:cr@brookslibraryvt.org
GEO:42.8553213;-72.5599024
X-APPLE-STRUCTURED-LOCATION;VALUE=URI;X-ADDRESS=Meeting Room A – Community Meeting Room 224 Main Street Brattleboro VT 05301 United States;X-APPLE-RADIUS=500;X-TITLE=224 Main Street:geo:-72.5599024,42.8553213
END:VEVENT
BEGIN:VEVENT
DTSTART;TZID=America/New_York:20251106T103000
DTEND;TZID=America/New_York:20251106T113000
DTSTAMP:20260423T181405
CREATED:20250827T184205Z
LAST-MODIFIED:20250827T184254Z
UID:10004479-1762425000-1762428600@brookslibraryvt.org
SUMMARY:Sing & Dance With Robin
DESCRIPTION:Designed for ages under 6- all ages welcome! Free and open to the public. \nThis lovely class is an enriching musical experience for toddlers and preschoolers\, designed to support healthy cognitive\, physical\, and social development. Children will sing\, clap\, stomp\, dance\, and play along with the curriculum of traditional and modern folk songs. Parents will be encouraged to fully sing and participate with their child in the class. \nSponsored by the Friends of Brooks Memorial Library.
URL:https://brookslibraryvt.org/event/sing-dance-with-robin-9/2025-11-06/
LOCATION:Meeting Room A – Community Meeting Room\, 224 Main Street\, Brattleboro\, VT\, 05301\, United States
CATEGORIES:Children & Families
ATTACH;FMTTYPE=image/jpeg:https://eadn-wc04-3360218.nxedge.io/wp-content/uploads/2025/08/thumbnail_image0011.jpg
ORGANIZER;CN="BML Children's Room":MAILTO:cr@brookslibraryvt.org
GEO:42.8553213;-72.5599024
X-APPLE-STRUCTURED-LOCATION;VALUE=URI;X-ADDRESS=Meeting Room A – Community Meeting Room 224 Main Street Brattleboro VT 05301 United States;X-APPLE-RADIUS=500;X-TITLE=224 Main Street:geo:-72.5599024,42.8553213
END:VEVENT
BEGIN:VEVENT
DTSTART;TZID=America/New_York:20251106T150000
DTEND;TZID=America/New_York:20251106T170000
DTSTAMP:20260423T181405
CREATED:20241209T214655Z
LAST-MODIFIED:20250830T194519Z
UID:10003644-1762441200-1762448400@brookslibraryvt.org
SUMMARY:LEGO-Palooza
DESCRIPTION:Join us on the first Thursday of every month after school from 3-5pm to play with LEGOs! \nWe provide the LEGOs. You build. Do not bring your own LEGOs. \nChildren cannot keep LEGOs\, but if there is enough room\, we will display them in the window. \nFree and open to the public!
URL:https://brookslibraryvt.org/event/lego-palooza-4/2025-11-06/
LOCATION:Meeting Room A – Community Meeting Room\, 224 Main Street\, Brattleboro\, VT\, 05301\, United States
CATEGORIES:Children & Families,General
ATTACH;FMTTYPE=image/png:https://eadn-wc04-3360218.nxedge.io/wp-content/uploads/2023/01/Untitled-design4.png
ORGANIZER;CN="BML Children's Room":MAILTO:cr@brookslibraryvt.org
GEO:42.8553213;-72.5599024
X-APPLE-STRUCTURED-LOCATION;VALUE=URI;X-ADDRESS=Meeting Room A – Community Meeting Room 224 Main Street Brattleboro VT 05301 United States;X-APPLE-RADIUS=500;X-TITLE=224 Main Street:geo:-72.5599024,42.8553213
END:VEVENT
BEGIN:VEVENT
DTSTART;TZID=America/New_York:20251108T130000
DTEND;TZID=America/New_York:20251108T160000
DTSTAMP:20260423T181405
CREATED:20250103T195250Z
LAST-MODIFIED:20251204T220811Z
UID:10003842-1762606800-1762617600@brookslibraryvt.org
SUMMARY:Brattleboro in Stitches
DESCRIPTION:Bring a work in progress to sew\, knit\, crochet\, embroider\, or mend. Sewing machines\, irons\, and companionship will be provided.
URL:https://brookslibraryvt.org/event/brattleboro-in-stitches-6/2025-11-08/
LOCATION:Meeting Room A – Community Meeting Room\, 224 Main Street\, Brattleboro\, VT\, 05301\, United States
CATEGORIES:Adults,Children & Families,General
ATTACH;FMTTYPE=image/png:https://eadn-wc04-3360218.nxedge.io/wp-content/uploads/2023/03/Brattleboro-in-Stitches-Event-Calendar2.png
ORGANIZER;CN="Brooks Memorial Library":MAILTO:outreach@brookslibraryvt.org
GEO:42.8553213;-72.5599024
X-APPLE-STRUCTURED-LOCATION;VALUE=URI;X-ADDRESS=Meeting Room A – Community Meeting Room 224 Main Street Brattleboro VT 05301 United States;X-APPLE-RADIUS=500;X-TITLE=224 Main Street:geo:-72.5599024,42.8553213
END:VEVENT
BEGIN:VEVENT
DTSTART;TZID=America/New_York:20251112T103000
DTEND;TZID=America/New_York:20251112T110000
DTSTAMP:20260423T181405
CREATED:20241209T213420Z
LAST-MODIFIED:20251020T171452Z
UID:10003625-1762943400-1762945200@brookslibraryvt.org
SUMMARY:Rhyme Time
DESCRIPTION:Join us on Wednesday mornings @ 10:30 am for 30 minutes of stories\, songs\, and fun! \nRhyme Time is for kids 5 & under and their caregivers. \nFree and open to the public. \n  \n 
URL:https://brookslibraryvt.org/event/rhyme-time-8/2025-11-12/
LOCATION:Meeting Room A – Community Meeting Room\, 224 Main Street\, Brattleboro\, VT\, 05301\, United States
CATEGORIES:Children & Families
ATTACH;FMTTYPE=image/png:https://eadn-wc04-3360218.nxedge.io/wp-content/uploads/2024/01/New-2-CLJ.png
ORGANIZER;CN="BML Children's Room":MAILTO:cr@brookslibraryvt.org
GEO:42.8553213;-72.5599024
X-APPLE-STRUCTURED-LOCATION;VALUE=URI;X-ADDRESS=Meeting Room A – Community Meeting Room 224 Main Street Brattleboro VT 05301 United States;X-APPLE-RADIUS=500;X-TITLE=224 Main Street:geo:-72.5599024,42.8553213
END:VEVENT
BEGIN:VEVENT
DTSTART;TZID=America/New_York:20251112T181500
DTEND;TZID=America/New_York:20251112T200000
DTSTAMP:20260423T181405
CREATED:20250904T143116Z
LAST-MODIFIED:20251031T201710Z
UID:10004485-1762971300-1762977600@brookslibraryvt.org
SUMMARY:Brattleboro Selectboard - FY27 Budget Listening Session
DESCRIPTION:The Brattleboro Selectboard will host a listening session on the FY27 budgeting process  in the Main Reading Room. This is an opportunity for the public to share their ideas directly with the Selectboard outside the typical meeting format. \nThis is an in-person event only; there will not be a Zoom or livestream option for this meeting. The session will be recorded and available to view at a later date on BCTV and BCTV’s YouTube channel. \nBackground for the listening session:\nA proposed FY27 General Fund Budget will be presented to the Selectboard during its regular meeting on Nov. 4. Then\, on Wednesday\, Nov. 12\, the Selectboard will hold its second listening session of the budget season at Brooks Memorial Library at 6:15 p.m. You can view the first listening session here or check the FY27 project page for updates. \nContinuation of the budget process:\nThe conversation will continue during Selectboard meetings throughout the remainder of 2025 and into early 2026. Future updates about the FY27 budget process will be available at Brattleboro.gov/fy27budget.
URL:https://brookslibraryvt.org/event/brattleboro-selectboard-fy27-budget-listening-session/
LOCATION:Main Reading Room
CATEGORIES:Adults,Children & Families,General
ATTACH;FMTTYPE=image/png:https://eadn-wc04-3360218.nxedge.io/wp-content/uploads/2025/09/Budget-Listening-Session.png
GEO:42.8553213;-72.5599024
END:VEVENT
BEGIN:VEVENT
DTSTART;TZID=America/New_York:20251113T103000
DTEND;TZID=America/New_York:20251113T113000
DTSTAMP:20260423T181405
CREATED:20251113T152241Z
LAST-MODIFIED:20251113T152242Z
UID:10004480-1763029800-1763033400@brookslibraryvt.org
SUMMARY:CANCELED - Sing & Dance With Robin
DESCRIPTION:SING AND DANCE WITH ROBIN WILL BE CANCELLED ON THURSDAY\, NOVEMBER 13TH. \n  \nDesigned for ages under 6- all ages welcome! Free and open to the public. \nThis lovely class is an enriching musical experience for toddlers and preschoolers\, designed to support healthy cognitive\, physical\, and social development. Children will sing\, clap\, stomp\, dance\, and play along with the curriculum of traditional and modern folk songs. Parents will be encouraged to fully sing and participate with their child in the class. \nSponsored by the Friends of Brooks Memorial Library.
URL:https://brookslibraryvt.org/event/sing-dance-with-robin-9-4/
LOCATION:Meeting Room A – Community Meeting Room\, 224 Main Street\, Brattleboro\, VT\, 05301\, United States
CATEGORIES:Children & Families
ATTACH;FMTTYPE=image/png:https://eadn-wc04-3360218.nxedge.io/wp-content/uploads/2025/09/SD-CANCELLED-or-RAIN-FACEBOOK.png
ORGANIZER;CN="BML Children's Room":MAILTO:cr@brookslibraryvt.org
GEO:42.8553213;-72.5599024
X-APPLE-STRUCTURED-LOCATION;VALUE=URI;X-ADDRESS=Meeting Room A – Community Meeting Room 224 Main Street Brattleboro VT 05301 United States;X-APPLE-RADIUS=500;X-TITLE=224 Main Street:geo:-72.5599024,42.8553213
END:VEVENT
BEGIN:VEVENT
DTSTART;TZID=America/New_York:20251115T130000
DTEND;TZID=America/New_York:20251115T160000
DTSTAMP:20260423T181405
CREATED:20250103T195250Z
LAST-MODIFIED:20251204T220811Z
UID:10003843-1763211600-1763222400@brookslibraryvt.org
SUMMARY:Brattleboro in Stitches
DESCRIPTION:Bring a work in progress to sew\, knit\, crochet\, embroider\, or mend. Sewing machines\, irons\, and companionship will be provided.
URL:https://brookslibraryvt.org/event/brattleboro-in-stitches-6/2025-11-15/
LOCATION:Meeting Room A – Community Meeting Room\, 224 Main Street\, Brattleboro\, VT\, 05301\, United States
CATEGORIES:Adults,Children & Families,General
ATTACH;FMTTYPE=image/png:https://eadn-wc04-3360218.nxedge.io/wp-content/uploads/2023/03/Brattleboro-in-Stitches-Event-Calendar2.png
ORGANIZER;CN="Brooks Memorial Library":MAILTO:outreach@brookslibraryvt.org
GEO:42.8553213;-72.5599024
X-APPLE-STRUCTURED-LOCATION;VALUE=URI;X-ADDRESS=Meeting Room A – Community Meeting Room 224 Main Street Brattleboro VT 05301 United States;X-APPLE-RADIUS=500;X-TITLE=224 Main Street:geo:-72.5599024,42.8553213
END:VEVENT
BEGIN:VEVENT
DTSTART;TZID=America/New_York:20251117T160000
DTEND;TZID=America/New_York:20251117T170000
DTSTAMP:20260423T181405
CREATED:20251021T150604Z
LAST-MODIFIED:20251021T150604Z
UID:10004616-1763395200-1763398800@brookslibraryvt.org
SUMMARY:BookMarked: A Bookclub for Children and Tweens!: Ann Braden Author Visit
DESCRIPTION:Join us on Monday\, November 17that 4 pm to to meet local author Ann Braden! We will talk with her about her latest novel\, Into the Rapids.  BookMarked is intended for ages 8 and up. Please register at the Children’s Room desk or contact us by phone or email: \n\n\n\n\n(802) 254-5290 EXT 1210 \ncr@brookslibraryvt.org
URL:https://brookslibraryvt.org/event/bookmarked-a-bookclub-for-children-and-tweens-ann-braden-author-visit/
LOCATION:Meeting Room A – Community Meeting Room\, 224 Main Street\, Brattleboro\, VT\, 05301\, United States
CATEGORIES:Children & Families,Teens
ATTACH;FMTTYPE=image/png:https://eadn-wc04-3360218.nxedge.io/wp-content/uploads/2025/10/Into-the-Rapids-Facebook-Post.png
ORGANIZER;CN="BML Children's Room":MAILTO:cr@brookslibraryvt.org
GEO:42.8553213;-72.5599024
X-APPLE-STRUCTURED-LOCATION;VALUE=URI;X-ADDRESS=Meeting Room A – Community Meeting Room 224 Main Street Brattleboro VT 05301 United States;X-APPLE-RADIUS=500;X-TITLE=224 Main Street:geo:-72.5599024,42.8553213
END:VEVENT
BEGIN:VEVENT
DTSTART;TZID=America/New_York:20251119T103000
DTEND;TZID=America/New_York:20251119T110000
DTSTAMP:20260423T181405
CREATED:20241209T213420Z
LAST-MODIFIED:20251020T171452Z
UID:10003626-1763548200-1763550000@brookslibraryvt.org
SUMMARY:Rhyme Time
DESCRIPTION:Join us on Wednesday mornings @ 10:30 am for 30 minutes of stories\, songs\, and fun! \nRhyme Time is for kids 5 & under and their caregivers. \nFree and open to the public. \n  \n 
URL:https://brookslibraryvt.org/event/rhyme-time-8/2025-11-19/
LOCATION:Meeting Room A – Community Meeting Room\, 224 Main Street\, Brattleboro\, VT\, 05301\, United States
CATEGORIES:Children & Families
ATTACH;FMTTYPE=image/png:https://eadn-wc04-3360218.nxedge.io/wp-content/uploads/2024/01/New-2-CLJ.png
ORGANIZER;CN="BML Children's Room":MAILTO:cr@brookslibraryvt.org
GEO:42.8553213;-72.5599024
X-APPLE-STRUCTURED-LOCATION;VALUE=URI;X-ADDRESS=Meeting Room A – Community Meeting Room 224 Main Street Brattleboro VT 05301 United States;X-APPLE-RADIUS=500;X-TITLE=224 Main Street:geo:-72.5599024,42.8553213
END:VEVENT
BEGIN:VEVENT
DTSTART;TZID=America/New_York:20251119T180000
DTEND;TZID=America/New_York:20251119T200000
DTSTAMP:20260423T181405
CREATED:20251023T002543Z
LAST-MODIFIED:20251115T001432Z
UID:10004619-1763575200-1763582400@brookslibraryvt.org
SUMMARY:Library Insider
DESCRIPTION:Sneak a peek behind the scenes of the library to get a glimpse of how this dynamic community resource works. There will food\, fun\, swag\, and surprises. Become a library insider! \nDrop in or stay the whole two hours for \n\nRefreshments (thank you\, Friends of Brooks Memorial Library!)\nAn update on the library’s plans and building project\nA chance to tour behind-the-scenes activities while filling in your library score card to enter a special raffle\n\n6:00 – 8:00\, self-guided tours through library departments + refreshments in community meeting room \n6:45 – 7:15\, presentation on the first floor\, and a chance to tell us what matters most to you at the library \nSee you there!
URL:https://brookslibraryvt.org/event/library-insider/
LOCATION:VT
CATEGORIES:Adults,Children & Families,General,Teens
ATTACH;FMTTYPE=image/png:https://eadn-wc04-3360218.nxedge.io/wp-content/uploads/2025/10/Library-insider-1.png
END:VEVENT
BEGIN:VEVENT
DTSTART;TZID=America/New_York:20251120T103000
DTEND;TZID=America/New_York:20251120T113000
DTSTAMP:20260423T181405
CREATED:20250827T184205Z
LAST-MODIFIED:20250827T184254Z
UID:10004481-1763634600-1763638200@brookslibraryvt.org
SUMMARY:Sing & Dance With Robin
DESCRIPTION:Designed for ages under 6- all ages welcome! Free and open to the public. \nThis lovely class is an enriching musical experience for toddlers and preschoolers\, designed to support healthy cognitive\, physical\, and social development. Children will sing\, clap\, stomp\, dance\, and play along with the curriculum of traditional and modern folk songs. Parents will be encouraged to fully sing and participate with their child in the class. \nSponsored by the Friends of Brooks Memorial Library.
URL:https://brookslibraryvt.org/event/sing-dance-with-robin-9/2025-11-20/
LOCATION:Meeting Room A – Community Meeting Room\, 224 Main Street\, Brattleboro\, VT\, 05301\, United States
CATEGORIES:Children & Families
ATTACH;FMTTYPE=image/jpeg:https://eadn-wc04-3360218.nxedge.io/wp-content/uploads/2025/08/thumbnail_image0011.jpg
ORGANIZER;CN="BML Children's Room":MAILTO:cr@brookslibraryvt.org
GEO:42.8553213;-72.5599024
X-APPLE-STRUCTURED-LOCATION;VALUE=URI;X-ADDRESS=Meeting Room A – Community Meeting Room 224 Main Street Brattleboro VT 05301 United States;X-APPLE-RADIUS=500;X-TITLE=224 Main Street:geo:-72.5599024,42.8553213
END:VEVENT
BEGIN:VEVENT
DTSTART;TZID=America/New_York:20251122T130000
DTEND;TZID=America/New_York:20251122T160000
DTSTAMP:20260423T181405
CREATED:20250103T195250Z
LAST-MODIFIED:20251204T220811Z
UID:10003844-1763816400-1763827200@brookslibraryvt.org
SUMMARY:Brattleboro in Stitches
DESCRIPTION:Bring a work in progress to sew\, knit\, crochet\, embroider\, or mend. Sewing machines\, irons\, and companionship will be provided.
URL:https://brookslibraryvt.org/event/brattleboro-in-stitches-6/2025-11-22/
LOCATION:Meeting Room A – Community Meeting Room\, 224 Main Street\, Brattleboro\, VT\, 05301\, United States
CATEGORIES:Adults,Children & Families,General
ATTACH;FMTTYPE=image/png:https://eadn-wc04-3360218.nxedge.io/wp-content/uploads/2023/03/Brattleboro-in-Stitches-Event-Calendar2.png
ORGANIZER;CN="Brooks Memorial Library":MAILTO:outreach@brookslibraryvt.org
GEO:42.8553213;-72.5599024
X-APPLE-STRUCTURED-LOCATION;VALUE=URI;X-ADDRESS=Meeting Room A – Community Meeting Room 224 Main Street Brattleboro VT 05301 United States;X-APPLE-RADIUS=500;X-TITLE=224 Main Street:geo:-72.5599024,42.8553213
END:VEVENT
BEGIN:VEVENT
DTSTART;TZID=America/New_York:20251126T103000
DTEND;TZID=America/New_York:20251126T110000
DTSTAMP:20260423T181405
CREATED:20241209T213420Z
LAST-MODIFIED:20251020T171452Z
UID:10003627-1764153000-1764154800@brookslibraryvt.org
SUMMARY:Rhyme Time
DESCRIPTION:Join us on Wednesday mornings @ 10:30 am for 30 minutes of stories\, songs\, and fun! \nRhyme Time is for kids 5 & under and their caregivers. \nFree and open to the public. \n  \n 
URL:https://brookslibraryvt.org/event/rhyme-time-8/2025-11-26/
LOCATION:Meeting Room A – Community Meeting Room\, 224 Main Street\, Brattleboro\, VT\, 05301\, United States
CATEGORIES:Children & Families
ATTACH;FMTTYPE=image/png:https://eadn-wc04-3360218.nxedge.io/wp-content/uploads/2024/01/New-2-CLJ.png
ORGANIZER;CN="BML Children's Room":MAILTO:cr@brookslibraryvt.org
GEO:42.8553213;-72.5599024
X-APPLE-STRUCTURED-LOCATION;VALUE=URI;X-ADDRESS=Meeting Room A – Community Meeting Room 224 Main Street Brattleboro VT 05301 United States;X-APPLE-RADIUS=500;X-TITLE=224 Main Street:geo:-72.5599024,42.8553213
END:VEVENT
BEGIN:VEVENT
DTSTART;TZID=America/New_York:20251128T100000
DTEND;TZID=America/New_York:20251128T180000
DTSTAMP:20260423T181405
CREATED:20250715T002625Z
LAST-MODIFIED:20251020T225509Z
UID:10004442-1764324000-1764352800@brookslibraryvt.org
SUMMARY:Friends of the Library Book Sale Kick Off
DESCRIPTION:The Friends of the Library’s Annual Book Sale will begin on Friday\, November 28th and Saturday\, November 29th. Remainders will be available through the end of the year during regular library hours. \nMost items will be $2 or less and you will have the opportunity to purchase raffle tickets for some fabulous literary-themed gift baskets. \nProceeds from the sale support the patrons of the Brooks Memorial Library by funding programming\, museum passes\, and much much more!
URL:https://brookslibraryvt.org/event/friends-of-the-library-book-sale-kick-off-2/2025-11-28/
LOCATION:Brooks Memorial Library\, 224 Main Street\, Brattleboro\, VT\, 05301\, United States
CATEGORIES:Adults,Children & Families,General
ATTACH;FMTTYPE=image/png:https://eadn-wc04-3360218.nxedge.io/wp-content/uploads/2024/09/Book-sale-newsletter-social-mediaInstagram-Post-e1725998886220.png
GEO:42.8553213;-72.5599024
X-APPLE-STRUCTURED-LOCATION;VALUE=URI;X-ADDRESS=Brooks Memorial Library 224 Main Street Brattleboro VT 05301 United States;X-APPLE-RADIUS=500;X-TITLE=224 Main Street:geo:-72.5599024,42.8553213
END:VEVENT
BEGIN:VEVENT
DTSTART;TZID=America/New_York:20251129T100000
DTEND;TZID=America/New_York:20251129T170000
DTSTAMP:20260423T181405
CREATED:20250715T002625Z
LAST-MODIFIED:20251020T225509Z
UID:10004443-1764410400-1764435600@brookslibraryvt.org
SUMMARY:Friends of the Library Book Sale Kick Off
DESCRIPTION:The Friends of the Library’s Annual Book Sale will begin on Friday\, November 28th and Saturday\, November 29th. Remainders will be available through the end of the year during regular library hours. \nMost items will be $2 or less and you will have the opportunity to purchase raffle tickets for some fabulous literary-themed gift baskets. \nProceeds from the sale support the patrons of the Brooks Memorial Library by funding programming\, museum passes\, and much much more!
URL:https://brookslibraryvt.org/event/friends-of-the-library-book-sale-kick-off-2/2025-11-29/
LOCATION:Brooks Memorial Library\, 224 Main Street\, Brattleboro\, VT\, 05301\, United States
CATEGORIES:Adults,Children & Families,General
ATTACH;FMTTYPE=image/png:https://eadn-wc04-3360218.nxedge.io/wp-content/uploads/2024/09/Book-sale-newsletter-social-mediaInstagram-Post-e1725998886220.png
GEO:42.8553213;-72.5599024
X-APPLE-STRUCTURED-LOCATION;VALUE=URI;X-ADDRESS=Brooks Memorial Library 224 Main Street Brattleboro VT 05301 United States;X-APPLE-RADIUS=500;X-TITLE=224 Main Street:geo:-72.5599024,42.8553213
END:VEVENT
BEGIN:VEVENT
DTSTART;TZID=America/New_York:20251129T130000
DTEND;TZID=America/New_York:20251129T160000
DTSTAMP:20260423T181405
CREATED:20250103T195250Z
LAST-MODIFIED:20251204T220811Z
UID:10003845-1764421200-1764432000@brookslibraryvt.org
SUMMARY:Brattleboro in Stitches
DESCRIPTION:Bring a work in progress to sew\, knit\, crochet\, embroider\, or mend. Sewing machines\, irons\, and companionship will be provided.
URL:https://brookslibraryvt.org/event/brattleboro-in-stitches-6/2025-11-29/
LOCATION:Meeting Room A – Community Meeting Room\, 224 Main Street\, Brattleboro\, VT\, 05301\, United States
CATEGORIES:Adults,Children & Families,General
ATTACH;FMTTYPE=image/png:https://eadn-wc04-3360218.nxedge.io/wp-content/uploads/2023/03/Brattleboro-in-Stitches-Event-Calendar2.png
ORGANIZER;CN="Brooks Memorial Library":MAILTO:outreach@brookslibraryvt.org
GEO:42.8553213;-72.5599024
X-APPLE-STRUCTURED-LOCATION;VALUE=URI;X-ADDRESS=Meeting Room A – Community Meeting Room 224 Main Street Brattleboro VT 05301 United States;X-APPLE-RADIUS=500;X-TITLE=224 Main Street:geo:-72.5599024,42.8553213
END:VEVENT
END:VCALENDAR