BEGIN:VCALENDAR
VERSION:2.0
PRODID:-//Brooks Memorial Library - Brattleboro VT - ECPv6.15.17.1//NONSGML v1.0//EN
CALSCALE:GREGORIAN
METHOD:PUBLISH
X-ORIGINAL-URL:https://brookslibraryvt.org
X-WR-CALDESC:Events for Brooks Memorial Library - Brattleboro VT
REFRESH-INTERVAL;VALUE=DURATION:PT1H
X-Robots-Tag:noindex
X-PUBLISHED-TTL:PT1H
BEGIN:VTIMEZONE
TZID:America/New_York
BEGIN:DAYLIGHT
TZOFFSETFROM:-0500
TZOFFSETTO:-0400
TZNAME:EDT
DTSTART:20250309T070000
END:DAYLIGHT
BEGIN:STANDARD
TZOFFSETFROM:-0400
TZOFFSETTO:-0500
TZNAME:EST
DTSTART:20251102T060000
END:STANDARD
BEGIN:DAYLIGHT
TZOFFSETFROM:-0500
TZOFFSETTO:-0400
TZNAME:EDT
DTSTART:20260308T070000
END:DAYLIGHT
BEGIN:STANDARD
TZOFFSETFROM:-0400
TZOFFSETTO:-0500
TZNAME:EST
DTSTART:20261101T060000
END:STANDARD
BEGIN:DAYLIGHT
TZOFFSETFROM:-0500
TZOFFSETTO:-0400
TZNAME:EDT
DTSTART:20270314T070000
END:DAYLIGHT
BEGIN:STANDARD
TZOFFSETFROM:-0400
TZOFFSETTO:-0500
TZNAME:EST
DTSTART:20271107T060000
END:STANDARD
END:VTIMEZONE
BEGIN:VEVENT
DTSTART;TZID=America/New_York:20260330T190000
DTEND;TZID=America/New_York:20260330T203000
DTSTAMP:20260423T145615
CREATED:20260122T205740Z
LAST-MODIFIED:20260319T190447Z
UID:10005243-1774897200-1774902600@brookslibraryvt.org
SUMMARY:Mud Season Speaker Series - Salamander Crossing Brigades
DESCRIPTION:Mud Season Speaker Series \nThe Bonnyvale Environmental Education Center and the Brooks Memorial Library invite you to a series of programs based upon the Vermont Reads 2025-26 selection\, The Light Pirate\, with the themes of climate resilience through community and the unstoppable power of the natural world. \nThe Light Pirate \nNamed after a catastrophic storm\, Wanda is born into a world that’s rapidly changing. Rising sea levels and devastating weather patterns transform her coastal Florida town. As she moves from childhood to adulthood\, Wanda adapts to this remade landscape\, finding adventure\, love\, and purpose in a place largely abandoned by civilization. \nTold in four parts—power\, water\, light\, and time—The Light Pirate by Lily Brooks-Dalton is a meditation on the beauty and violence of an untamable wilderness. It considers the dissolution of the human-made world\, and helps us see how human connection\, adaptability\, and a little bit of magic might guide us to a new future. \nGet a copy at the library! \n  \nMonday\, February 9\, 2026 from 6:30-8 \nPumpkin and Pye: How Beavers Keep Us Cool \nPumpkin was born in a stone culvert under Upper Dummerston Road and orphaned when his mother was hit by a car. Pye was attacked and badly injured by a dog as a yearling. BEEC naturalist Patti Smith will tell how these young beavers came together and into her care. Photos and videos will illustrate the adventures that ensued. \nPatti maintains that beavers are not just lovable\, they are important. She will also talk about their crucial role in holding water on a warming planet and mitigating floods. Find out how communities are solving beaver conflicts in ways that allow beavers to keep us cool. \n  \nMonday\, March 9\, 2026 from 6:30-8 \nThirty-Eight: The Hurricane That Transformed New England \nA hurricane will never surprise us again. But that’s what happened to the people of New England on September 21\, 1938. Without any warning\, the most destructive weather event ever to hit the Northeast pummeled the coast and blasted its way to Vermont and New Hampshire with torrential rain\, flooding\, and sustained winds over 100 miles per hour. \nStephen Long tells the story of New England’s Katrina\, focusing on the devastation to the region’s forests and the daunting challenge facing New Englanders still in the throes of the Great Depression. His presentation is richly illustrated with archival photos of storm damage and the unprecedented recovery operation\, making the storm and its aftermath come alive. A journalist and co-founder of Northern Woodlands magazine\, Stephen Long is the author of Thirty-Eight: The Hurricane that Transformed New England. \n  \n Monday\, March 30 at 7 pm \nSalamander Crossing Brigades: help save salamanders \nAs our planet heats up amphibians are vulnerable. A group of important amphibians in our region depend upon temporary ponds—vernal pools—for egg-laying. These pools can dry much too fast in drought years. They are also vulnerable when they must cross roads to reach their breeding habitat. You can help! Join a Salamander Crossing Brigade. Getting adult amphibians safely across roads is a big way we can make their populations resilient. \nThe Bonnyvale Environmental Education Center has been organizing crossing brigades at known crossing sites for decades. Come to the library to learn more about the amazing amphibians that head for vernal pools in the spring and what you can do to help them. \n  \nSaturday\, April 4\, 10:30-12pm \nSalamander Tea Party with BEEC \nEnjoy salamander story books read by our salamander mascot\, snack on salamander cookies\, and learn all about salamander season in Vermont! \nNaturalists will be on hand to answer questions about how and where you can take a peek at amphibian eggs or help out with amphibian conservation and community science projects including BEEC’s Salamander Crossing Brigade. \n  \nMonday\, April 13  from 6:30-8 \nVermont Reads Book Discussion: The Light Pirate by Lily Brooks-Dalton \nJoin us for a thoughtful\, guided conversation centered on The Light Pirate\, a novel that follows one girl’s life as climate change reshapes Florida’s coast—and the meaning of home\, resilience\, and community. Rachael Cohen\, environmental writer and editor\, will facilitate this 90-minute discussion\, creating space to reflect together on the book’s themes\, characters\, and emotional impact. \nParticipants will explore themes such as climate adaptation and how people respond—individually and collectively—to environmental change. All readers are welcome\, whether the book moved you deeply or left you with lingering questions. Come prepared to listen\, reflect\, and engage in a meaningful exchange inspired by this powerful and timely novel. \n 
URL:https://brookslibraryvt.org/event/mud-season-speaker-series/2026-03-30/
LOCATION:Meeting Room A – Community Meeting Room\, 224 Main Street\, Brattleboro\, VT\, 05301\, United States
CATEGORIES:Adults,Children & Families,General
ATTACH;FMTTYPE=image/png:https://eadn-wc04-3360218.nxedge.io/wp-content/uploads/2026/01/274894713_333291412174332_4132904632526613929_n.png
ORGANIZER;CN="Bonnyvale Environmental Education Center":MAILTO:admin@beec.org
GEO:42.8553213;-72.5599024
X-APPLE-STRUCTURED-LOCATION;VALUE=URI;X-ADDRESS=Meeting Room A – Community Meeting Room 224 Main Street Brattleboro VT 05301 United States;X-APPLE-RADIUS=500;X-TITLE=224 Main Street:geo:-72.5599024,42.8553213
END:VEVENT
BEGIN:VEVENT
DTSTART;TZID=America/New_York:20260401T103000
DTEND;TZID=America/New_York:20260401T110000
DTSTAMP:20260423T145615
CREATED:20251107T161857Z
LAST-MODIFIED:20251107T161857Z
UID:10004641-1775039400-1775041200@brookslibraryvt.org
SUMMARY:Rhyme Time
DESCRIPTION:Join us on Wednesday mornings @ 10:30 am for 30 minutes of stories\, songs\, and fun! \nRhyme Time is for kids 5 & under and their caregivers. \nFree and open to the public.
URL:https://brookslibraryvt.org/event/rhyme-time-9/2026-04-01/
LOCATION:Meeting Room A – Community Meeting Room\, 224 Main Street\, Brattleboro\, VT\, 05301\, United States
CATEGORIES:Children & Families
ATTACH;FMTTYPE=image/png:https://eadn-wc04-3360218.nxedge.io/wp-content/uploads/2024/01/New-2-CLJ.png
ORGANIZER;CN="BML Children's Room":MAILTO:cr@brookslibraryvt.org
GEO:42.8553213;-72.5599024
X-APPLE-STRUCTURED-LOCATION;VALUE=URI;X-ADDRESS=Meeting Room A – Community Meeting Room 224 Main Street Brattleboro VT 05301 United States;X-APPLE-RADIUS=500;X-TITLE=224 Main Street:geo:-72.5599024,42.8553213
END:VEVENT
BEGIN:VEVENT
DTSTART;TZID=America/New_York:20260401T180000
DTEND;TZID=America/New_York:20260401T204500
DTSTAMP:20260423T145615
CREATED:20251210T213214Z
LAST-MODIFIED:20251210T213956Z
UID:10005014-1775066400-1775076300@brookslibraryvt.org
SUMMARY:Game Cafe!
DESCRIPTION:Come join game enthusiasts in playing Magic the Gathering in various formats (including Commander/EDH) as well as other fun and creative board & card games. \nBring your favorite games- All Ages Welcome!
URL:https://brookslibraryvt.org/event/game-cafe-6/2026-04-01/
LOCATION:Meeting Room D – Quiet Reading Room\, 224 Main Street\, Brattleboro\, VT\, 05301\, United States
CATEGORIES:Children & Families,General,Teens
ATTACH;FMTTYPE=image/webp:https://eadn-wc04-3360218.nxedge.io/wp-content/uploads/2022/07/pic163749.webp
GEO:42.8553213;-72.5599024
X-APPLE-STRUCTURED-LOCATION;VALUE=URI;X-ADDRESS=Meeting Room D – Quiet Reading Room 224 Main Street Brattleboro VT 05301 United States;X-APPLE-RADIUS=500;X-TITLE=224 Main Street:geo:-72.5599024,42.8553213
END:VEVENT
BEGIN:VEVENT
DTSTART;TZID=America/New_York:20260402T103000
DTEND;TZID=America/New_York:20260402T113000
DTSTAMP:20260423T145615
CREATED:20251231T175539Z
LAST-MODIFIED:20260330T153406Z
UID:10005140-1775125800-1775129400@brookslibraryvt.org
SUMMARY:Sing & Dance With Robin
DESCRIPTION:Designed for ages under 6- all ages welcome! Free and open to the public. \nThis lovely class is an enriching musical experience for toddlers and preschoolers\, designed to support healthy cognitive\, physical\, and social development. Children will sing\, clap\, stomp\, dance\, and play along with the curriculum of traditional and modern folk songs. Parents will be encouraged to fully sing and participate with their child in the class. \nSponsored by the Friends of Brooks Memorial Library.
URL:https://brookslibraryvt.org/event/sing-dance-with-robin-10/2026-04-02/
LOCATION:Meeting Room A – Community Meeting Room\, 224 Main Street\, Brattleboro\, VT\, 05301\, United States
CATEGORIES:Children & Families
ATTACH;FMTTYPE=image/png:https://eadn-wc04-3360218.nxedge.io/wp-content/uploads/2025/12/SPRING.png
ORGANIZER;CN="BML Children's Room":MAILTO:cr@brookslibraryvt.org
GEO:42.8553213;-72.5599024
X-APPLE-STRUCTURED-LOCATION;VALUE=URI;X-ADDRESS=Meeting Room A – Community Meeting Room 224 Main Street Brattleboro VT 05301 United States;X-APPLE-RADIUS=500;X-TITLE=224 Main Street:geo:-72.5599024,42.8553213
END:VEVENT
BEGIN:VEVENT
DTSTART;TZID=America/New_York:20260402T150000
DTEND;TZID=America/New_York:20260402T170000
DTSTAMP:20260423T145615
CREATED:20251117T175248Z
LAST-MODIFIED:20260116T191539Z
UID:10004683-1775142000-1775149200@brookslibraryvt.org
SUMMARY:LEGO-Palooza
DESCRIPTION:Join us on the first Thursday of every month after school from 3-5pm to play with LEGOs! \nWe provide the LEGOs. You build. Do not bring your own LEGOs. \nChildren cannot keep LEGOs\, but if there is enough room\, we will display them in the window. \nFree and open to the public!
URL:https://brookslibraryvt.org/event/lego-palooza-5/2026-04-02/
LOCATION:Meeting Room A – Community Meeting Room\, 224 Main Street\, Brattleboro\, VT\, 05301\, United States
CATEGORIES:Children & Families,General
ATTACH;FMTTYPE=image/png:https://eadn-wc04-3360218.nxedge.io/wp-content/uploads/2023/01/LEGO-palooza.png
ORGANIZER;CN="BML Children's Room":MAILTO:cr@brookslibraryvt.org
GEO:42.8553213;-72.5599024
X-APPLE-STRUCTURED-LOCATION;VALUE=URI;X-ADDRESS=Meeting Room A – Community Meeting Room 224 Main Street Brattleboro VT 05301 United States;X-APPLE-RADIUS=500;X-TITLE=224 Main Street:geo:-72.5599024,42.8553213
END:VEVENT
BEGIN:VEVENT
DTSTART;TZID=America/New_York:20260404T103000
DTEND;TZID=America/New_York:20260404T120000
DTSTAMP:20260423T145615
CREATED:20260319T190237Z
LAST-MODIFIED:20260319T200411Z
UID:10005244-1775298600-1775304000@brookslibraryvt.org
SUMMARY:Mud Season Speaker Series - Salamander Tea Party with BEEC
DESCRIPTION:Mud Season Speaker Series \nThe Bonnyvale Environmental Education Center and the Brooks Memorial Library invite you to a series of programs based upon the Vermont Reads 2025-26 selection\, The Light Pirate\, with the themes of climate resilience through community and the unstoppable power of the natural world. \nThe Light Pirate \nNamed after a catastrophic storm\, Wanda is born into a world that’s rapidly changing. Rising sea levels and devastating weather patterns transform her coastal Florida town. As she moves from childhood to adulthood\, Wanda adapts to this remade landscape\, finding adventure\, love\, and purpose in a place largely abandoned by civilization. \nTold in four parts—power\, water\, light\, and time—The Light Pirate by Lily Brooks-Dalton is a meditation on the beauty and violence of an untamable wilderness. It considers the dissolution of the human-made world\, and helps us see how human connection\, adaptability\, and a little bit of magic might guide us to a new future. \nGet a copy at the library! \n  \nMonday\, February 9\, 2026 from 6:30-8 \nPumpkin and Pye: How Beavers Keep Us Cool \nPumpkin was born in a stone culvert under Upper Dummerston Road and orphaned when his mother was hit by a car. Pye was attacked and badly injured by a dog as a yearling. BEEC naturalist Patti Smith will tell how these young beavers came together and into her care. Photos and videos will illustrate the adventures that ensued. \nPatti maintains that beavers are not just lovable\, they are important. She will also talk about their crucial role in holding water on a warming planet and mitigating floods. Find out how communities are solving beaver conflicts in ways that allow beavers to keep us cool. \n  \nMonday\, March 9\, 2026 from 6:30-8 \nThirty-Eight: The Hurricane That Transformed New England \nA hurricane will never surprise us again. But that’s what happened to the people of New England on September 21\, 1938. Without any warning\, the most destructive weather event ever to hit the Northeast pummeled the coast and blasted its way to Vermont and New Hampshire with torrential rain\, flooding\, and sustained winds over 100 miles per hour. \nStephen Long tells the story of New England’s Katrina\, focusing on the devastation to the region’s forests and the daunting challenge facing New Englanders still in the throes of the Great Depression. His presentation is richly illustrated with archival photos of storm damage and the unprecedented recovery operation\, making the storm and its aftermath come alive. A journalist and co-founder of Northern Woodlands magazine\, Stephen Long is the author of Thirty-Eight: The Hurricane that Transformed New England. \n  \n Monday\, March 30 at 7 pm \nSalamander Crossing Brigades: help save salamanders \nAs our planet heats up amphibians are vulnerable. A group of important amphibians in our region depend upon temporary ponds—vernal pools—for egg-laying. These pools can dry much too fast in drought years. They are also vulnerable when they must cross roads to reach their breeding habitat. You can help! Join a Salamander Crossing Brigade. Getting adult amphibians safely across roads is a big way we can make their populations resilient. \nThe Bonnyvale Environmental Education Center has been organizing crossing brigades at known crossing sites for decades. Come to the library to learn more about the amazing amphibians that head for vernal pools in the spring and what you can do to help them. \n  \nSaturday\, April 4\, 10:30-12pm \nSalamander Tea Party with BEEC \nEnjoy salamander story books read by our salamander mascot\, snack on salamander cookies\, and learn all about salamander season in Vermont! \nNaturalists will be on hand to answer questions about how and where you can take a peek at amphibian eggs or help out with amphibian conservation and community science projects including BEEC’s Salamander Crossing Brigade. \n  \nMonday\, April 13  from 6:30-8 \nVermont Reads Book Discussion: The Light Pirate by Lily Brooks-Dalton \nJoin us for a thoughtful\, guided conversation centered on The Light Pirate\, a novel that follows one girl’s life as climate change reshapes Florida’s coast—and the meaning of home\, resilience\, and community. Rachael Cohen\, environmental writer and editor\, will facilitate this 90-minute discussion\, creating space to reflect together on the book’s themes\, characters\, and emotional impact. \nParticipants will explore themes such as climate adaptation and how people respond—individually and collectively—to environmental change. All readers are welcome\, whether the book moved you deeply or left you with lingering questions. Come prepared to listen\, reflect\, and engage in a meaningful exchange inspired by this powerful and timely novel. \n 
URL:https://brookslibraryvt.org/event/mud-season-speaker-series-2/
LOCATION:Meeting Room A – Community Meeting Room\, 224 Main Street\, Brattleboro\, VT\, 05301\, United States
CATEGORIES:Adults,Children & Families,General
ATTACH;FMTTYPE=image/png:https://eadn-wc04-3360218.nxedge.io/wp-content/uploads/2026/01/274894713_333291412174332_4132904632526613929_n.png
ORGANIZER;CN="Bonnyvale Environmental Education Center":MAILTO:admin@beec.org
GEO:42.8553213;-72.5599024
X-APPLE-STRUCTURED-LOCATION;VALUE=URI;X-ADDRESS=Meeting Room A – Community Meeting Room 224 Main Street Brattleboro VT 05301 United States;X-APPLE-RADIUS=500;X-TITLE=224 Main Street:geo:-72.5599024,42.8553213
END:VEVENT
BEGIN:VEVENT
DTSTART;TZID=America/New_York:20260404T130000
DTEND;TZID=America/New_York:20260404T160000
DTSTAMP:20260423T145615
CREATED:20250103T195250Z
LAST-MODIFIED:20251204T220811Z
UID:10004928-1775307600-1775318400@brookslibraryvt.org
SUMMARY:Brattleboro in Stitches
DESCRIPTION:Bring a work in progress to sew\, knit\, crochet\, embroider\, or mend. Sewing machines\, irons\, and companionship will be provided.
URL:https://brookslibraryvt.org/event/brattleboro-in-stitches-6/2026-04-04/
LOCATION:Meeting Room A – Community Meeting Room\, 224 Main Street\, Brattleboro\, VT\, 05301\, United States
CATEGORIES:Adults,Children & Families,General
ATTACH;FMTTYPE=image/png:https://eadn-wc04-3360218.nxedge.io/wp-content/uploads/2023/03/Brattleboro-in-Stitches-Event-Calendar2.png
ORGANIZER;CN="Brooks Memorial Library":MAILTO:outreach@brookslibraryvt.org
GEO:42.8553213;-72.5599024
X-APPLE-STRUCTURED-LOCATION;VALUE=URI;X-ADDRESS=Meeting Room A – Community Meeting Room 224 Main Street Brattleboro VT 05301 United States;X-APPLE-RADIUS=500;X-TITLE=224 Main Street:geo:-72.5599024,42.8553213
END:VEVENT
END:VCALENDAR