BEGIN:VCALENDAR
VERSION:2.0
PRODID:-//Brooks Memorial Library - Brattleboro VT - ECPv6.15.17.1//NONSGML v1.0//EN
CALSCALE:GREGORIAN
METHOD:PUBLISH
X-ORIGINAL-URL:https://brookslibraryvt.org
X-WR-CALDESC:Events for Brooks Memorial Library - Brattleboro VT
REFRESH-INTERVAL;VALUE=DURATION:PT1H
X-Robots-Tag:noindex
X-PUBLISHED-TTL:PT1H
BEGIN:VTIMEZONE
TZID:America/New_York
BEGIN:DAYLIGHT
TZOFFSETFROM:-0500
TZOFFSETTO:-0400
TZNAME:EDT
DTSTART:20250309T070000
END:DAYLIGHT
BEGIN:STANDARD
TZOFFSETFROM:-0400
TZOFFSETTO:-0500
TZNAME:EST
DTSTART:20251102T060000
END:STANDARD
BEGIN:DAYLIGHT
TZOFFSETFROM:-0500
TZOFFSETTO:-0400
TZNAME:EDT
DTSTART:20260308T070000
END:DAYLIGHT
BEGIN:STANDARD
TZOFFSETFROM:-0400
TZOFFSETTO:-0500
TZNAME:EST
DTSTART:20261101T060000
END:STANDARD
BEGIN:DAYLIGHT
TZOFFSETFROM:-0500
TZOFFSETTO:-0400
TZNAME:EDT
DTSTART:20270314T070000
END:DAYLIGHT
BEGIN:STANDARD
TZOFFSETFROM:-0400
TZOFFSETTO:-0500
TZNAME:EST
DTSTART:20271107T060000
END:STANDARD
END:VTIMEZONE
BEGIN:VEVENT
DTSTART;TZID=America/New_York:20260406T153000
DTEND;TZID=America/New_York:20260406T163000
DTSTAMP:20260423T131724
CREATED:20260124T175422Z
LAST-MODIFIED:20260420T193101Z
UID:10005647-1775489400-1775493000@brookslibraryvt.org
SUMMARY:BookMarked: A Book Party for Children and Tweens!
DESCRIPTION:Join us on the first Monday of the month\, 4-5 pm in the Community Meeting Room for a book lover’s party! This is a chance to meet other kids who love to read (you can bring your old friends too!) and  swap recommendations in a zero-pressure environment. We will have craft supplies out for open-ended art making. Snacks will also be provided.\nThis event is for children ages 8+. Registration is NOT required.
URL:https://brookslibraryvt.org/event/bookmarked-a-book-party-for-children-and-tweens/2026-04-06/
LOCATION:Meeting Room A – Community Meeting Room\, 224 Main Street\, Brattleboro\, VT\, 05301\, United States
CATEGORIES:Children & Families
ATTACH;FMTTYPE=image/png:https://eadn-wc04-3360218.nxedge.io/wp-content/uploads/2025/12/Copy-of-Bookmarked-Facebook-Post.png
ORGANIZER;CN="BML Children's Room":MAILTO:cr@brookslibraryvt.org
GEO:42.8553213;-72.5599024
X-APPLE-STRUCTURED-LOCATION;VALUE=URI;X-ADDRESS=Meeting Room A – Community Meeting Room 224 Main Street Brattleboro VT 05301 United States;X-APPLE-RADIUS=500;X-TITLE=224 Main Street:geo:-72.5599024,42.8553213
END:VEVENT
BEGIN:VEVENT
DTSTART;TZID=America/New_York:20260407T153000
DTEND;TZID=America/New_York:20260407T163000
DTSTAMP:20260423T131724
CREATED:20260330T154824Z
LAST-MODIFIED:20260330T154824Z
UID:10005534-1775575800-1775579400@brookslibraryvt.org
SUMMARY:Read to a Dog
DESCRIPTION:Read to a Dog is back! Read out loud to two sweet dogs\, Kelso and Gussy! Both dogs are specially trained to read with kids and LOVE to be petted and cuddled! \nCome to the Children’s Room to Read to a Dog–available on a first come first serve basis. Bring your own books or come early to pick some of ours! All Ages Welcome.
URL:https://brookslibraryvt.org/event/read-to-a-dog-3/2026-04-07/
LOCATION:Children’s Room\, 224 Main Street\, Brattleboro\, VT\, 05301\, United States
CATEGORIES:Children & Families,General
ATTACH;FMTTYPE=image/png:https://eadn-wc04-3360218.nxedge.io/wp-content/uploads/2021/07/Read-to-a-Dog.png
ORGANIZER;CN="BML Children's Room":MAILTO:cr@brookslibraryvt.org
GEO:42.8553213;-72.5599024
X-APPLE-STRUCTURED-LOCATION;VALUE=URI;X-ADDRESS=Children’s Room 224 Main Street Brattleboro VT 05301 United States;X-APPLE-RADIUS=500;X-TITLE=224 Main Street:geo:-72.5599024,42.8553213
END:VEVENT
BEGIN:VEVENT
DTSTART;TZID=America/New_York:20260408T103000
DTEND;TZID=America/New_York:20260408T110000
DTSTAMP:20260423T131724
CREATED:20251107T161857Z
LAST-MODIFIED:20251107T161857Z
UID:10004642-1775644200-1775646000@brookslibraryvt.org
SUMMARY:Rhyme Time
DESCRIPTION:Join us on Wednesday mornings @ 10:30 am for 30 minutes of stories\, songs\, and fun! \nRhyme Time is for kids 5 & under and their caregivers. \nFree and open to the public.
URL:https://brookslibraryvt.org/event/rhyme-time-9/2026-04-08/
LOCATION:Meeting Room A – Community Meeting Room\, 224 Main Street\, Brattleboro\, VT\, 05301\, United States
CATEGORIES:Children & Families
ATTACH;FMTTYPE=image/png:https://eadn-wc04-3360218.nxedge.io/wp-content/uploads/2024/01/New-2-CLJ.png
ORGANIZER;CN="BML Children's Room":MAILTO:cr@brookslibraryvt.org
GEO:42.8553213;-72.5599024
X-APPLE-STRUCTURED-LOCATION;VALUE=URI;X-ADDRESS=Meeting Room A – Community Meeting Room 224 Main Street Brattleboro VT 05301 United States;X-APPLE-RADIUS=500;X-TITLE=224 Main Street:geo:-72.5599024,42.8553213
END:VEVENT
BEGIN:VEVENT
DTSTART;TZID=America/New_York:20260408T180000
DTEND;TZID=America/New_York:20260408T204500
DTSTAMP:20260423T131724
CREATED:20251210T213214Z
LAST-MODIFIED:20251210T213956Z
UID:10005015-1775671200-1775681100@brookslibraryvt.org
SUMMARY:Game Cafe!
DESCRIPTION:Come join game enthusiasts in playing Magic the Gathering in various formats (including Commander/EDH) as well as other fun and creative board & card games. \nBring your favorite games- All Ages Welcome!
URL:https://brookslibraryvt.org/event/game-cafe-6/2026-04-08/
LOCATION:Meeting Room D – Quiet Reading Room\, 224 Main Street\, Brattleboro\, VT\, 05301\, United States
CATEGORIES:Children & Families,General,Teens
ATTACH;FMTTYPE=image/webp:https://eadn-wc04-3360218.nxedge.io/wp-content/uploads/2022/07/pic163749.webp
GEO:42.8553213;-72.5599024
X-APPLE-STRUCTURED-LOCATION;VALUE=URI;X-ADDRESS=Meeting Room D – Quiet Reading Room 224 Main Street Brattleboro VT 05301 United States;X-APPLE-RADIUS=500;X-TITLE=224 Main Street:geo:-72.5599024,42.8553213
END:VEVENT
BEGIN:VEVENT
DTSTART;TZID=America/New_York:20260409T103000
DTEND;TZID=America/New_York:20260409T113000
DTSTAMP:20260423T131724
CREATED:20251231T175539Z
LAST-MODIFIED:20260330T153406Z
UID:10005141-1775730600-1775734200@brookslibraryvt.org
SUMMARY:Sing & Dance With Robin
DESCRIPTION:Designed for ages under 6- all ages welcome! Free and open to the public. \nThis lovely class is an enriching musical experience for toddlers and preschoolers\, designed to support healthy cognitive\, physical\, and social development. Children will sing\, clap\, stomp\, dance\, and play along with the curriculum of traditional and modern folk songs. Parents will be encouraged to fully sing and participate with their child in the class. \nSponsored by the Friends of Brooks Memorial Library.
URL:https://brookslibraryvt.org/event/sing-dance-with-robin-10/2026-04-09/
LOCATION:Meeting Room A – Community Meeting Room\, 224 Main Street\, Brattleboro\, VT\, 05301\, United States
CATEGORIES:Children & Families
ATTACH;FMTTYPE=image/png:https://eadn-wc04-3360218.nxedge.io/wp-content/uploads/2025/12/SPRING.png
ORGANIZER;CN="BML Children's Room":MAILTO:cr@brookslibraryvt.org
GEO:42.8553213;-72.5599024
X-APPLE-STRUCTURED-LOCATION;VALUE=URI;X-ADDRESS=Meeting Room A – Community Meeting Room 224 Main Street Brattleboro VT 05301 United States;X-APPLE-RADIUS=500;X-TITLE=224 Main Street:geo:-72.5599024,42.8553213
END:VEVENT
BEGIN:VEVENT
DTSTART;TZID=America/New_York:20260411T130000
DTEND;TZID=America/New_York:20260411T160000
DTSTAMP:20260423T131724
CREATED:20250103T195250Z
LAST-MODIFIED:20251204T220811Z
UID:10004929-1775912400-1775923200@brookslibraryvt.org
SUMMARY:Brattleboro in Stitches
DESCRIPTION:Bring a work in progress to sew\, knit\, crochet\, embroider\, or mend. Sewing machines\, irons\, and companionship will be provided.
URL:https://brookslibraryvt.org/event/brattleboro-in-stitches-6/2026-04-11/
LOCATION:Meeting Room A – Community Meeting Room\, 224 Main Street\, Brattleboro\, VT\, 05301\, United States
CATEGORIES:Adults,Children & Families,General
ATTACH;FMTTYPE=image/png:https://eadn-wc04-3360218.nxedge.io/wp-content/uploads/2023/03/Brattleboro-in-Stitches-Event-Calendar2.png
ORGANIZER;CN="Brooks Memorial Library":MAILTO:outreach@brookslibraryvt.org
GEO:42.8553213;-72.5599024
X-APPLE-STRUCTURED-LOCATION;VALUE=URI;X-ADDRESS=Meeting Room A – Community Meeting Room 224 Main Street Brattleboro VT 05301 United States;X-APPLE-RADIUS=500;X-TITLE=224 Main Street:geo:-72.5599024,42.8553213
END:VEVENT
END:VCALENDAR