BEGIN:VCALENDAR
VERSION:2.0
PRODID:-//Brooks Memorial Library - Brattleboro VT - ECPv6.15.17.1//NONSGML v1.0//EN
CALSCALE:GREGORIAN
METHOD:PUBLISH
X-ORIGINAL-URL:https://brookslibraryvt.org
X-WR-CALDESC:Events for Brooks Memorial Library - Brattleboro VT
REFRESH-INTERVAL;VALUE=DURATION:PT1H
X-Robots-Tag:noindex
X-PUBLISHED-TTL:PT1H
BEGIN:VTIMEZONE
TZID:America/New_York
BEGIN:DAYLIGHT
TZOFFSETFROM:-0500
TZOFFSETTO:-0400
TZNAME:EDT
DTSTART:20250309T070000
END:DAYLIGHT
BEGIN:STANDARD
TZOFFSETFROM:-0400
TZOFFSETTO:-0500
TZNAME:EST
DTSTART:20251102T060000
END:STANDARD
BEGIN:DAYLIGHT
TZOFFSETFROM:-0500
TZOFFSETTO:-0400
TZNAME:EDT
DTSTART:20260308T070000
END:DAYLIGHT
BEGIN:STANDARD
TZOFFSETFROM:-0400
TZOFFSETTO:-0500
TZNAME:EST
DTSTART:20261101T060000
END:STANDARD
BEGIN:DAYLIGHT
TZOFFSETFROM:-0500
TZOFFSETTO:-0400
TZNAME:EDT
DTSTART:20270314T070000
END:DAYLIGHT
BEGIN:STANDARD
TZOFFSETFROM:-0400
TZOFFSETTO:-0500
TZNAME:EST
DTSTART:20271107T060000
END:STANDARD
END:VTIMEZONE
BEGIN:VEVENT
DTSTART;TZID=America/New_York:20260707T103000
DTEND;TZID=America/New_York:20260707T110000
DTSTAMP:20260423T181517
CREATED:20260409T185710Z
LAST-MODIFIED:20260409T185710Z
UID:10005621-1783420200-1783422000@brookslibraryvt.org
SUMMARY:RETREAT FARM- Storytime in the Sun
DESCRIPTION:Join Brooks Memorial Library at Retreat Farm for storytime as part of our Summer Reading Program! \nTuesdays at 10:30am. This even is held under a under a marquee tent at Retreat Farm\, rain or shine. \nCome for the stories\, stay for the goats! Free and open to all ages. Bring your own blanket or chair.
URL:https://brookslibraryvt.org/event/retreat-farm-storytime-in-the-sun-2/2026-07-07/
LOCATION:Retreat Farm\, 45 Farmhouse Sq.\, Brattleboro\, VT\, 05301-4801\, United States
CATEGORIES:Children & Families
ATTACH;FMTTYPE=image/png:https://eadn-wc04-3360218.nxedge.io/wp-content/uploads/2025/06/Retreat-Farm-CALENDAR.png
ORGANIZER;CN="BML Children's Room":MAILTO:cr@brookslibraryvt.org
GEO:42.863641392017;-72.567734485407
X-APPLE-STRUCTURED-LOCATION;VALUE=URI;X-ADDRESS=Retreat Farm 45 Farmhouse Sq. Brattleboro VT 05301-4801 United States;X-APPLE-RADIUS=500;X-TITLE=45 Farmhouse Sq.:geo:-72.567734485407,42.863641392017
END:VEVENT
BEGIN:VEVENT
DTSTART;TZID=America/New_York:20260708T103000
DTEND;TZID=America/New_York:20260708T110000
DTSTAMP:20260423T181517
CREATED:20251107T161857Z
LAST-MODIFIED:20251107T161857Z
UID:10004655-1783506600-1783508400@brookslibraryvt.org
SUMMARY:Rhyme Time
DESCRIPTION:Join us on Wednesday mornings @ 10:30 am for 30 minutes of stories\, songs\, and fun! \nRhyme Time is for kids 5 & under and their caregivers. \nFree and open to the public.
URL:https://brookslibraryvt.org/event/rhyme-time-9/2026-07-08/
LOCATION:Meeting Room A – Community Meeting Room\, 224 Main Street\, Brattleboro\, VT\, 05301\, United States
CATEGORIES:Children & Families
ATTACH;FMTTYPE=image/png:https://eadn-wc04-3360218.nxedge.io/wp-content/uploads/2024/01/New-2-CLJ.png
ORGANIZER;CN="BML Children's Room":MAILTO:cr@brookslibraryvt.org
GEO:42.8553213;-72.5599024
X-APPLE-STRUCTURED-LOCATION;VALUE=URI;X-ADDRESS=Meeting Room A – Community Meeting Room 224 Main Street Brattleboro VT 05301 United States;X-APPLE-RADIUS=500;X-TITLE=224 Main Street:geo:-72.5599024,42.8553213
END:VEVENT
BEGIN:VEVENT
DTSTART;TZID=America/New_York:20260708T180000
DTEND;TZID=America/New_York:20260708T204500
DTSTAMP:20260423T181517
CREATED:20251210T213214Z
LAST-MODIFIED:20251210T213956Z
UID:10005028-1783533600-1783543500@brookslibraryvt.org
SUMMARY:Game Cafe!
DESCRIPTION:Come join game enthusiasts in playing Magic the Gathering in various formats (including Commander/EDH) as well as other fun and creative board & card games. \nBring your favorite games- All Ages Welcome!
URL:https://brookslibraryvt.org/event/game-cafe-6/2026-07-08/
LOCATION:Meeting Room D – Quiet Reading Room\, 224 Main Street\, Brattleboro\, VT\, 05301\, United States
CATEGORIES:Children & Families,General,Teens
ATTACH;FMTTYPE=image/webp:https://eadn-wc04-3360218.nxedge.io/wp-content/uploads/2022/07/pic163749.webp
GEO:42.8553213;-72.5599024
X-APPLE-STRUCTURED-LOCATION;VALUE=URI;X-ADDRESS=Meeting Room D – Quiet Reading Room 224 Main Street Brattleboro VT 05301 United States;X-APPLE-RADIUS=500;X-TITLE=224 Main Street:geo:-72.5599024,42.8553213
END:VEVENT
BEGIN:VEVENT
DTSTART;TZID=America/New_York:20260709T103000
DTEND;TZID=America/New_York:20260709T233000
DTSTAMP:20260423T181517
CREATED:20260409T191006Z
LAST-MODIFIED:20260409T191006Z
UID:10005631-1783593000-1783639800@brookslibraryvt.org
SUMMARY:ON THE COMMONS-Sing & Dance with Robin
DESCRIPTION:For Ages 0-5 and their caregivers\, held on the Brattleboro Commons. \nThis lovely class is an enriching musical experience for toddlers and preschoolers\, designed to support healthy cognitive\, physical\, and social development. Children will sing\, clap\, stomp\, dance\, and play along with the curriculum of traditional and modern folk songs. Parents will be encouraged to fully sing and participate with their child in the class. \nOn rainy days\, Sing & Dance will be held in the BML Community Meeting Room.
URL:https://brookslibraryvt.org/event/on-the-commons-sing-dance-with-robin-2/2026-07-09/
LOCATION:Brattleboro Commons\, Park Pl\, Brattleboro\, VT\, 05301\, United States
CATEGORIES:Children & Families
ATTACH;FMTTYPE=image/png:https://eadn-wc04-3360218.nxedge.io/wp-content/uploads/2026/04/SRP26-Sing-Dance-w-Robin.png
ORGANIZER;CN="BML Children's Room":MAILTO:cr@brookslibraryvt.org
GEO:42.8574095;-72.5606135
X-APPLE-STRUCTURED-LOCATION;VALUE=URI;X-ADDRESS=Brattleboro Commons Park Pl Brattleboro VT 05301 United States;X-APPLE-RADIUS=500;X-TITLE=Park Pl:geo:-72.5606135,42.8574095
END:VEVENT
BEGIN:VEVENT
DTSTART;TZID=America/New_York:20260709T130000
DTEND;TZID=America/New_York:20260709T170000
DTSTAMP:20260423T181517
CREATED:20251117T175855Z
LAST-MODIFIED:20251117T175855Z
UID:10004692-1783602000-1783616400@brookslibraryvt.org
SUMMARY:LEGO-Palooza Summer Session
DESCRIPTION:Join us for these SPECIAL SUMMER SESSIONS of LEGO-Palooza every Thursday this summer from 1:00 pm to 5:00 pm. \nCome build something fun with the library’s LEGOs and get a chance to see them on display. FREE! \n  \nLEGO-palooza happens from 3:00 to 5:00 pm on the first Thursday of the month with occasional special sessions during school breaks and the summer. \nFor more information\, call 802-254-5290 ext. 1210
URL:https://brookslibraryvt.org/event/lego-palooza-summer-session-3/2026-07-09/
LOCATION:Meeting Room A – Community Meeting Room\, 224 Main Street\, Brattleboro\, VT\, 05301\, United States
CATEGORIES:Children & Families,General
ATTACH;FMTTYPE=image/png:https://eadn-wc04-3360218.nxedge.io/wp-content/uploads/2025/11/LEGO-palooza-SUMMER-session-1536x864-1.png
ORGANIZER;CN="BML Children's Room":MAILTO:cr@brookslibraryvt.org
GEO:42.8553213;-72.5599024
X-APPLE-STRUCTURED-LOCATION;VALUE=URI;X-ADDRESS=Meeting Room A – Community Meeting Room 224 Main Street Brattleboro VT 05301 United States;X-APPLE-RADIUS=500;X-TITLE=224 Main Street:geo:-72.5599024,42.8553213
END:VEVENT
BEGIN:VEVENT
DTSTART;TZID=America/New_York:20260711T130000
DTEND;TZID=America/New_York:20260711T160000
DTSTAMP:20260423T181517
CREATED:20250103T195250Z
LAST-MODIFIED:20251204T220811Z
UID:10004942-1783774800-1783785600@brookslibraryvt.org
SUMMARY:Brattleboro in Stitches
DESCRIPTION:Bring a work in progress to sew\, knit\, crochet\, embroider\, or mend. Sewing machines\, irons\, and companionship will be provided.
URL:https://brookslibraryvt.org/event/brattleboro-in-stitches-6/2026-07-11/
LOCATION:Meeting Room A – Community Meeting Room\, 224 Main Street\, Brattleboro\, VT\, 05301\, United States
CATEGORIES:Adults,Children & Families,General
ATTACH;FMTTYPE=image/png:https://eadn-wc04-3360218.nxedge.io/wp-content/uploads/2023/03/Brattleboro-in-Stitches-Event-Calendar2.png
ORGANIZER;CN="Brooks Memorial Library":MAILTO:outreach@brookslibraryvt.org
GEO:42.8553213;-72.5599024
X-APPLE-STRUCTURED-LOCATION;VALUE=URI;X-ADDRESS=Meeting Room A – Community Meeting Room 224 Main Street Brattleboro VT 05301 United States;X-APPLE-RADIUS=500;X-TITLE=224 Main Street:geo:-72.5599024,42.8553213
END:VEVENT
END:VCALENDAR