BEGIN:VCALENDAR
VERSION:2.0
PRODID:-//Brooks Memorial Library - Brattleboro VT - ECPv6.15.17.1//NONSGML v1.0//EN
CALSCALE:GREGORIAN
METHOD:PUBLISH
X-WR-CALNAME:Brooks Memorial Library - Brattleboro VT
X-ORIGINAL-URL:https://brookslibraryvt.org
X-WR-CALDESC:Events for Brooks Memorial Library - Brattleboro VT
REFRESH-INTERVAL;VALUE=DURATION:PT1H
X-Robots-Tag:noindex
X-PUBLISHED-TTL:PT1H
BEGIN:VTIMEZONE
TZID:America/New_York
BEGIN:DAYLIGHT
TZOFFSETFROM:-0500
TZOFFSETTO:-0400
TZNAME:EDT
DTSTART:20230312T070000
END:DAYLIGHT
BEGIN:STANDARD
TZOFFSETFROM:-0400
TZOFFSETTO:-0500
TZNAME:EST
DTSTART:20231105T060000
END:STANDARD
BEGIN:DAYLIGHT
TZOFFSETFROM:-0500
TZOFFSETTO:-0400
TZNAME:EDT
DTSTART:20240310T070000
END:DAYLIGHT
BEGIN:STANDARD
TZOFFSETFROM:-0400
TZOFFSETTO:-0500
TZNAME:EST
DTSTART:20241103T060000
END:STANDARD
BEGIN:DAYLIGHT
TZOFFSETFROM:-0500
TZOFFSETTO:-0400
TZNAME:EDT
DTSTART:20250309T070000
END:DAYLIGHT
BEGIN:STANDARD
TZOFFSETFROM:-0400
TZOFFSETTO:-0500
TZNAME:EST
DTSTART:20251102T060000
END:STANDARD
END:VTIMEZONE
BEGIN:VEVENT
DTSTART;TZID=America/New_York:20240402T190000
DTEND;TZID=America/New_York:20240402T203000
DTSTAMP:20260424T142124
CREATED:20240227T235509Z
LAST-MODIFIED:20240229T180346Z
UID:10001793-1712084400-1712089800@brookslibraryvt.org
SUMMARY:Eclipse Folklore as Inspiration: A Creative Writing Workshop with GennaRose Nethercott
DESCRIPTION:Unleash your creativity under the shadow of the upcoming solar eclipse. Eclipses have meant many things to many people throughout history–from end times omens to cosmic messages. In this workshop\, we’ll take a world tour through eclipse folklore\, myths\, and superstitions\, and then re-imagine these old stories to create new ones of our own. Open to all levels of writing experience\, this is a generative workshop; walk in with a blank page\, and walk out with new writing! \nAges 14 and up. Please register in advance by sending an email to info@brookslibraryvt.org or in person at the library. \nGENNAROSE NETHERCOTT is the author of a novel\, Thistlefoot\, and a book-length poem\, The Lumberjack’s Dove\, which was selected by Louise Glück as a winner of the National Poetry Series. Fifty Beasts to Break Your Heart –– her latest book — marks her debut into short fiction. As a folklorist\, she helps create the podcasts Lore and Harlots\, the latter of which she also hosts\, and she tours nationally and internationally performing strange tales (sometimes with puppets in tow). She lives in the woodlands of Vermont\, beside an old cemetery. \n 
URL:https://brookslibraryvt.org/event/eclipse-folklore-as-inspiration-a-creative-writing-workshop-with-gennarose-nethercott/
LOCATION:Meeting Room A – Community Meeting Room\, 224 Main Street\, Brattleboro\, VT\, 05301\, United States
CATEGORIES:Adults,Eclipse 2024,Teens
ATTACH;FMTTYPE=image/jpeg:https://eadn-wc04-3360218.nxedge.io/wp-content/uploads/2024/02/eclipse-e1709078238201.jpg
ORGANIZER;CN="Brooks Memorial Library":MAILTO:outreach@brookslibraryvt.org
GEO:42.8553213;-72.5599024
X-APPLE-STRUCTURED-LOCATION;VALUE=URI;X-ADDRESS=Meeting Room A – Community Meeting Room 224 Main Street Brattleboro VT 05301 United States;X-APPLE-RADIUS=500;X-TITLE=224 Main Street:geo:-72.5599024,42.8553213
END:VEVENT
END:VCALENDAR