BEGIN:VCALENDAR
VERSION:2.0
PRODID:-//Brooks Memorial Library - Brattleboro VT - ECPv6.15.17.1//NONSGML v1.0//EN
CALSCALE:GREGORIAN
METHOD:PUBLISH
X-WR-CALNAME:Brooks Memorial Library - Brattleboro VT
X-ORIGINAL-URL:https://brookslibraryvt.org
X-WR-CALDESC:Events for Brooks Memorial Library - Brattleboro VT
REFRESH-INTERVAL;VALUE=DURATION:PT1H
X-Robots-Tag:noindex
X-PUBLISHED-TTL:PT1H
BEGIN:VTIMEZONE
TZID:America/New_York
BEGIN:DAYLIGHT
TZOFFSETFROM:-0500
TZOFFSETTO:-0400
TZNAME:EDT
DTSTART:20280312T070000
END:DAYLIGHT
BEGIN:STANDARD
TZOFFSETFROM:-0400
TZOFFSETTO:-0500
TZNAME:EST
DTSTART:20281105T060000
END:STANDARD
BEGIN:DAYLIGHT
TZOFFSETFROM:-0500
TZOFFSETTO:-0400
TZNAME:EDT
DTSTART:20290311T070000
END:DAYLIGHT
BEGIN:STANDARD
TZOFFSETFROM:-0400
TZOFFSETTO:-0500
TZNAME:EST
DTSTART:20291104T060000
END:STANDARD
BEGIN:DAYLIGHT
TZOFFSETFROM:-0500
TZOFFSETTO:-0400
TZNAME:EDT
DTSTART:20300310T070000
END:DAYLIGHT
BEGIN:STANDARD
TZOFFSETFROM:-0400
TZOFFSETTO:-0500
TZNAME:EST
DTSTART:20301103T060000
END:STANDARD
BEGIN:DAYLIGHT
TZOFFSETFROM:-0500
TZOFFSETTO:-0400
TZNAME:EDT
DTSTART:20310309T070000
END:DAYLIGHT
BEGIN:STANDARD
TZOFFSETFROM:-0400
TZOFFSETTO:-0500
TZNAME:EST
DTSTART:20311102T060000
END:STANDARD
END:VTIMEZONE
BEGIN:VEVENT
DTSTART;TZID=America/New_York:20290528T190000
DTEND;TZID=America/New_York:20290528T203000
DTSTAMP:20260425T093636
CREATED:20241119T011618Z
LAST-MODIFIED:20250409T202119Z
UID:10003553-1874689200-1874694600@brookslibraryvt.org
SUMMARY:Green Carnation Reading Group
DESCRIPTION:Discussions of books by and for queer people. For more information\, please visit the Green Carnation Reading Group Facebook page.
URL:https://brookslibraryvt.org/event/green-carnation-book-group/2029-05-28/
LOCATION:Meeting Room D – Quiet Reading Room\, 224 Main Street\, Brattleboro\, VT\, 05301\, United States
CATEGORIES:Adults,General,Teens
ATTACH;FMTTYPE=image/jpeg:https://eadn-wc04-3360218.nxedge.io/wp-content/uploads/2024/11/439240485_122098227206294656_4239700080493349576_n-e1731978675948.jpg
ORGANIZER;CN="Green Carnation - Timothy Williams":MAILTO:readtiph6890@gmail.com
GEO:42.8553213;-72.5599024
X-APPLE-STRUCTURED-LOCATION;VALUE=URI;X-ADDRESS=Meeting Room D – Quiet Reading Room 224 Main Street Brattleboro VT 05301 United States;X-APPLE-RADIUS=500;X-TITLE=224 Main Street:geo:-72.5599024,42.8553213
END:VEVENT
BEGIN:VEVENT
DTSTART;TZID=America/New_York:20290619T100000
DTEND;TZID=America/New_York:20290619T210000
DTSTAMP:20260425T093636
CREATED:20241002T173942Z
LAST-MODIFIED:20241002T173942Z
UID:10003423-1876557600-1876597200@brookslibraryvt.org
SUMMARY:LIBRARY CLOSED
DESCRIPTION:The library will be closed on June 19th in observation of Juneteenth.
URL:https://brookslibraryvt.org/event/library-closed-24/2029-06-19/
LOCATION:Brooks Memorial Library\, 224 Main Street\, Brattleboro\, VT\, 05301\, United States
CATEGORIES:General
ATTACH;FMTTYPE=image/png:https://eadn-wc04-3360218.nxedge.io/wp-content/uploads/2023/11/Library-Closed.png
ORGANIZER;CN="Brooks Memorial Library":MAILTO:outreach@brookslibraryvt.org
GEO:42.8553213;-72.5599024
X-APPLE-STRUCTURED-LOCATION;VALUE=URI;X-ADDRESS=Brooks Memorial Library 224 Main Street Brattleboro VT 05301 United States;X-APPLE-RADIUS=500;X-TITLE=224 Main Street:geo:-72.5599024,42.8553213
END:VEVENT
BEGIN:VEVENT
DTSTART;TZID=America/New_York:20290625T190000
DTEND;TZID=America/New_York:20290625T203000
DTSTAMP:20260425T093636
CREATED:20241119T011618Z
LAST-MODIFIED:20250409T202119Z
UID:10003554-1877108400-1877113800@brookslibraryvt.org
SUMMARY:Green Carnation Reading Group
DESCRIPTION:Discussions of books by and for queer people. For more information\, please visit the Green Carnation Reading Group Facebook page.
URL:https://brookslibraryvt.org/event/green-carnation-book-group/2029-06-25/
LOCATION:Meeting Room D – Quiet Reading Room\, 224 Main Street\, Brattleboro\, VT\, 05301\, United States
CATEGORIES:Adults,General,Teens
ATTACH;FMTTYPE=image/jpeg:https://eadn-wc04-3360218.nxedge.io/wp-content/uploads/2024/11/439240485_122098227206294656_4239700080493349576_n-e1731978675948.jpg
ORGANIZER;CN="Green Carnation - Timothy Williams":MAILTO:readtiph6890@gmail.com
GEO:42.8553213;-72.5599024
X-APPLE-STRUCTURED-LOCATION;VALUE=URI;X-ADDRESS=Meeting Room D – Quiet Reading Room 224 Main Street Brattleboro VT 05301 United States;X-APPLE-RADIUS=500;X-TITLE=224 Main Street:geo:-72.5599024,42.8553213
END:VEVENT
BEGIN:VEVENT
DTSTART;TZID=America/New_York:20290704T100000
DTEND;TZID=America/New_York:20290704T210000
DTSTAMP:20260425T093636
CREATED:20241002T174619Z
LAST-MODIFIED:20241002T174619Z
UID:10003428-1877853600-1877893200@brookslibraryvt.org
SUMMARY:LIBRARY CLOSED
DESCRIPTION:The library will be closed on July 4th in observation of Independence Day.
URL:https://brookslibraryvt.org/event/library-closed-25/2029-07-04/
LOCATION:Brooks Memorial Library\, 224 Main Street\, Brattleboro\, VT\, 05301\, United States
CATEGORIES:General
ATTACH;FMTTYPE=image/png:https://eadn-wc04-3360218.nxedge.io/wp-content/uploads/2023/11/Library-Closed.png
ORGANIZER;CN="Brooks Memorial Library":MAILTO:outreach@brookslibraryvt.org
GEO:42.8553213;-72.5599024
X-APPLE-STRUCTURED-LOCATION;VALUE=URI;X-ADDRESS=Brooks Memorial Library 224 Main Street Brattleboro VT 05301 United States;X-APPLE-RADIUS=500;X-TITLE=224 Main Street:geo:-72.5599024,42.8553213
END:VEVENT
BEGIN:VEVENT
DTSTART;TZID=America/New_York:20290723T190000
DTEND;TZID=America/New_York:20290723T203000
DTSTAMP:20260425T093636
CREATED:20241119T011618Z
LAST-MODIFIED:20250409T202119Z
UID:10003555-1879527600-1879533000@brookslibraryvt.org
SUMMARY:Green Carnation Reading Group
DESCRIPTION:Discussions of books by and for queer people. For more information\, please visit the Green Carnation Reading Group Facebook page.
URL:https://brookslibraryvt.org/event/green-carnation-book-group/2029-07-23/
LOCATION:Meeting Room D – Quiet Reading Room\, 224 Main Street\, Brattleboro\, VT\, 05301\, United States
CATEGORIES:Adults,General,Teens
ATTACH;FMTTYPE=image/jpeg:https://eadn-wc04-3360218.nxedge.io/wp-content/uploads/2024/11/439240485_122098227206294656_4239700080493349576_n-e1731978675948.jpg
ORGANIZER;CN="Green Carnation - Timothy Williams":MAILTO:readtiph6890@gmail.com
GEO:42.8553213;-72.5599024
X-APPLE-STRUCTURED-LOCATION;VALUE=URI;X-ADDRESS=Meeting Room D – Quiet Reading Room 224 Main Street Brattleboro VT 05301 United States;X-APPLE-RADIUS=500;X-TITLE=224 Main Street:geo:-72.5599024,42.8553213
END:VEVENT
BEGIN:VEVENT
DTSTART;TZID=America/New_York:20290827T190000
DTEND;TZID=America/New_York:20290827T203000
DTSTAMP:20260425T093636
CREATED:20241119T011618Z
LAST-MODIFIED:20250409T202119Z
UID:10003556-1882551600-1882557000@brookslibraryvt.org
SUMMARY:Green Carnation Reading Group
DESCRIPTION:Discussions of books by and for queer people. For more information\, please visit the Green Carnation Reading Group Facebook page.
URL:https://brookslibraryvt.org/event/green-carnation-book-group/2029-08-27/
LOCATION:Meeting Room D – Quiet Reading Room\, 224 Main Street\, Brattleboro\, VT\, 05301\, United States
CATEGORIES:Adults,General,Teens
ATTACH;FMTTYPE=image/jpeg:https://eadn-wc04-3360218.nxedge.io/wp-content/uploads/2024/11/439240485_122098227206294656_4239700080493349576_n-e1731978675948.jpg
ORGANIZER;CN="Green Carnation - Timothy Williams":MAILTO:readtiph6890@gmail.com
GEO:42.8553213;-72.5599024
X-APPLE-STRUCTURED-LOCATION;VALUE=URI;X-ADDRESS=Meeting Room D – Quiet Reading Room 224 Main Street Brattleboro VT 05301 United States;X-APPLE-RADIUS=500;X-TITLE=224 Main Street:geo:-72.5599024,42.8553213
END:VEVENT
BEGIN:VEVENT
DTSTART;TZID=America/New_York:20290903T100000
DTEND;TZID=America/New_York:20290903T210000
DTSTAMP:20260425T093636
CREATED:20241002T184633Z
LAST-MODIFIED:20241002T184633Z
UID:10003434-1883124000-1883163600@brookslibraryvt.org
SUMMARY:LIBRARY CLOSED
DESCRIPTION:The library will be closed in observation of Labor Day.
URL:https://brookslibraryvt.org/event/library-closed-26/2029-09-03/
LOCATION:Brooks Memorial Library\, 224 Main Street\, Brattleboro\, VT\, 05301\, United States
CATEGORIES:General
ATTACH;FMTTYPE=image/png:https://eadn-wc04-3360218.nxedge.io/wp-content/uploads/2023/11/Library-Closed.png
ORGANIZER;CN="Brooks Memorial Library":MAILTO:outreach@brookslibraryvt.org
GEO:42.8553213;-72.5599024
X-APPLE-STRUCTURED-LOCATION;VALUE=URI;X-ADDRESS=Brooks Memorial Library 224 Main Street Brattleboro VT 05301 United States;X-APPLE-RADIUS=500;X-TITLE=224 Main Street:geo:-72.5599024,42.8553213
END:VEVENT
BEGIN:VEVENT
DTSTART;TZID=America/New_York:20290924T190000
DTEND;TZID=America/New_York:20290924T203000
DTSTAMP:20260425T093636
CREATED:20241119T011618Z
LAST-MODIFIED:20250409T202119Z
UID:10003557-1884970800-1884976200@brookslibraryvt.org
SUMMARY:Green Carnation Reading Group
DESCRIPTION:Discussions of books by and for queer people. For more information\, please visit the Green Carnation Reading Group Facebook page.
URL:https://brookslibraryvt.org/event/green-carnation-book-group/2029-09-24/
LOCATION:Meeting Room D – Quiet Reading Room\, 224 Main Street\, Brattleboro\, VT\, 05301\, United States
CATEGORIES:Adults,General,Teens
ATTACH;FMTTYPE=image/jpeg:https://eadn-wc04-3360218.nxedge.io/wp-content/uploads/2024/11/439240485_122098227206294656_4239700080493349576_n-e1731978675948.jpg
ORGANIZER;CN="Green Carnation - Timothy Williams":MAILTO:readtiph6890@gmail.com
GEO:42.8553213;-72.5599024
X-APPLE-STRUCTURED-LOCATION;VALUE=URI;X-ADDRESS=Meeting Room D – Quiet Reading Room 224 Main Street Brattleboro VT 05301 United States;X-APPLE-RADIUS=500;X-TITLE=224 Main Street:geo:-72.5599024,42.8553213
END:VEVENT
BEGIN:VEVENT
DTSTART;TZID=America/New_York:20291022T190000
DTEND;TZID=America/New_York:20291022T203000
DTSTAMP:20260425T093636
CREATED:20241119T011618Z
LAST-MODIFIED:20250409T202119Z
UID:10003558-1887390000-1887395400@brookslibraryvt.org
SUMMARY:Green Carnation Reading Group
DESCRIPTION:Discussions of books by and for queer people. For more information\, please visit the Green Carnation Reading Group Facebook page.
URL:https://brookslibraryvt.org/event/green-carnation-book-group/2029-10-22/
LOCATION:Meeting Room D – Quiet Reading Room\, 224 Main Street\, Brattleboro\, VT\, 05301\, United States
CATEGORIES:Adults,General,Teens
ATTACH;FMTTYPE=image/jpeg:https://eadn-wc04-3360218.nxedge.io/wp-content/uploads/2024/11/439240485_122098227206294656_4239700080493349576_n-e1731978675948.jpg
ORGANIZER;CN="Green Carnation - Timothy Williams":MAILTO:readtiph6890@gmail.com
GEO:42.8553213;-72.5599024
X-APPLE-STRUCTURED-LOCATION;VALUE=URI;X-ADDRESS=Meeting Room D – Quiet Reading Room 224 Main Street Brattleboro VT 05301 United States;X-APPLE-RADIUS=500;X-TITLE=224 Main Street:geo:-72.5599024,42.8553213
END:VEVENT
BEGIN:VEVENT
DTSTART;TZID=America/New_York:20291126T190000
DTEND;TZID=America/New_York:20291126T203000
DTSTAMP:20260425T093636
CREATED:20241119T011618Z
LAST-MODIFIED:20250409T202119Z
UID:10004188-1890414000-1890419400@brookslibraryvt.org
SUMMARY:Green Carnation Reading Group
DESCRIPTION:Discussions of books by and for queer people. For more information\, please visit the Green Carnation Reading Group Facebook page.
URL:https://brookslibraryvt.org/event/green-carnation-book-group/2029-11-26/
LOCATION:Meeting Room D – Quiet Reading Room\, 224 Main Street\, Brattleboro\, VT\, 05301\, United States
CATEGORIES:Adults,General,Teens
ATTACH;FMTTYPE=image/jpeg:https://eadn-wc04-3360218.nxedge.io/wp-content/uploads/2024/11/439240485_122098227206294656_4239700080493349576_n-e1731978675948.jpg
ORGANIZER;CN="Green Carnation - Timothy Williams":MAILTO:readtiph6890@gmail.com
GEO:42.8553213;-72.5599024
X-APPLE-STRUCTURED-LOCATION;VALUE=URI;X-ADDRESS=Meeting Room D – Quiet Reading Room 224 Main Street Brattleboro VT 05301 United States;X-APPLE-RADIUS=500;X-TITLE=224 Main Street:geo:-72.5599024,42.8553213
END:VEVENT
BEGIN:VEVENT
DTSTART;TZID=America/New_York:20291224T130000
DTEND;TZID=America/New_York:20291224T210000
DTSTAMP:20260425T093636
CREATED:20241007T190152Z
LAST-MODIFIED:20250513T222223Z
UID:10004224-1892811600-1892840400@brookslibraryvt.org
SUMMARY:EARLY CLOSING
DESCRIPTION:The library will close at 1:00 p.m. on December 24th in observance of Christmas Eve.
URL:https://brookslibraryvt.org/event/early-closing-7/2029-12-24/
LOCATION:Brooks Memorial Library\, 224 Main Street\, Brattleboro\, VT\, 05301\, United States
CATEGORIES:General
ATTACH;FMTTYPE=image/png:https://eadn-wc04-3360218.nxedge.io/wp-content/uploads/2023/11/Parchmen.png
ORGANIZER;CN="Brooks Memorial Library":MAILTO:outreach@brookslibraryvt.org
GEO:42.8553213;-72.5599024
X-APPLE-STRUCTURED-LOCATION;VALUE=URI;X-ADDRESS=Brooks Memorial Library 224 Main Street Brattleboro VT 05301 United States;X-APPLE-RADIUS=500;X-TITLE=224 Main Street:geo:-72.5599024,42.8553213
END:VEVENT
BEGIN:VEVENT
DTSTART;TZID=America/New_York:20291224T190000
DTEND;TZID=America/New_York:20291224T203000
DTSTAMP:20260425T093636
CREATED:20241119T011618Z
LAST-MODIFIED:20250409T202119Z
UID:10004189-1892833200-1892838600@brookslibraryvt.org
SUMMARY:Green Carnation Reading Group
DESCRIPTION:Discussions of books by and for queer people. For more information\, please visit the Green Carnation Reading Group Facebook page.
URL:https://brookslibraryvt.org/event/green-carnation-book-group/2029-12-24/
LOCATION:Meeting Room D – Quiet Reading Room\, 224 Main Street\, Brattleboro\, VT\, 05301\, United States
CATEGORIES:Adults,General,Teens
ATTACH;FMTTYPE=image/jpeg:https://eadn-wc04-3360218.nxedge.io/wp-content/uploads/2024/11/439240485_122098227206294656_4239700080493349576_n-e1731978675948.jpg
ORGANIZER;CN="Green Carnation - Timothy Williams":MAILTO:readtiph6890@gmail.com
GEO:42.8553213;-72.5599024
X-APPLE-STRUCTURED-LOCATION;VALUE=URI;X-ADDRESS=Meeting Room D – Quiet Reading Room 224 Main Street Brattleboro VT 05301 United States;X-APPLE-RADIUS=500;X-TITLE=224 Main Street:geo:-72.5599024,42.8553213
END:VEVENT
BEGIN:VEVENT
DTSTART;TZID=America/New_York:20300128T190000
DTEND;TZID=America/New_York:20300128T203000
DTSTAMP:20260425T093636
CREATED:20241119T011618Z
LAST-MODIFIED:20250409T202119Z
UID:10004190-1895857200-1895862600@brookslibraryvt.org
SUMMARY:Green Carnation Reading Group
DESCRIPTION:Discussions of books by and for queer people. For more information\, please visit the Green Carnation Reading Group Facebook page.
URL:https://brookslibraryvt.org/event/green-carnation-book-group/2030-01-28/
LOCATION:Meeting Room D – Quiet Reading Room\, 224 Main Street\, Brattleboro\, VT\, 05301\, United States
CATEGORIES:Adults,General,Teens
ATTACH;FMTTYPE=image/jpeg:https://eadn-wc04-3360218.nxedge.io/wp-content/uploads/2024/11/439240485_122098227206294656_4239700080493349576_n-e1731978675948.jpg
ORGANIZER;CN="Green Carnation - Timothy Williams":MAILTO:readtiph6890@gmail.com
GEO:42.8553213;-72.5599024
X-APPLE-STRUCTURED-LOCATION;VALUE=URI;X-ADDRESS=Meeting Room D – Quiet Reading Room 224 Main Street Brattleboro VT 05301 United States;X-APPLE-RADIUS=500;X-TITLE=224 Main Street:geo:-72.5599024,42.8553213
END:VEVENT
BEGIN:VEVENT
DTSTART;TZID=America/New_York:20300225T190000
DTEND;TZID=America/New_York:20300225T203000
DTSTAMP:20260425T093636
CREATED:20241119T011618Z
LAST-MODIFIED:20250409T202119Z
UID:10004191-1898276400-1898281800@brookslibraryvt.org
SUMMARY:Green Carnation Reading Group
DESCRIPTION:Discussions of books by and for queer people. For more information\, please visit the Green Carnation Reading Group Facebook page.
URL:https://brookslibraryvt.org/event/green-carnation-book-group/2030-02-25/
LOCATION:Meeting Room D – Quiet Reading Room\, 224 Main Street\, Brattleboro\, VT\, 05301\, United States
CATEGORIES:Adults,General,Teens
ATTACH;FMTTYPE=image/jpeg:https://eadn-wc04-3360218.nxedge.io/wp-content/uploads/2024/11/439240485_122098227206294656_4239700080493349576_n-e1731978675948.jpg
ORGANIZER;CN="Green Carnation - Timothy Williams":MAILTO:readtiph6890@gmail.com
GEO:42.8553213;-72.5599024
X-APPLE-STRUCTURED-LOCATION;VALUE=URI;X-ADDRESS=Meeting Room D – Quiet Reading Room 224 Main Street Brattleboro VT 05301 United States;X-APPLE-RADIUS=500;X-TITLE=224 Main Street:geo:-72.5599024,42.8553213
END:VEVENT
BEGIN:VEVENT
DTSTART;TZID=America/New_York:20300325T190000
DTEND;TZID=America/New_York:20300325T203000
DTSTAMP:20260425T093636
CREATED:20241119T011618Z
LAST-MODIFIED:20250409T202119Z
UID:10004192-1900695600-1900701000@brookslibraryvt.org
SUMMARY:Green Carnation Reading Group
DESCRIPTION:Discussions of books by and for queer people. For more information\, please visit the Green Carnation Reading Group Facebook page.
URL:https://brookslibraryvt.org/event/green-carnation-book-group/2030-03-25/
LOCATION:Meeting Room D – Quiet Reading Room\, 224 Main Street\, Brattleboro\, VT\, 05301\, United States
CATEGORIES:Adults,General,Teens
ATTACH;FMTTYPE=image/jpeg:https://eadn-wc04-3360218.nxedge.io/wp-content/uploads/2024/11/439240485_122098227206294656_4239700080493349576_n-e1731978675948.jpg
ORGANIZER;CN="Green Carnation - Timothy Williams":MAILTO:readtiph6890@gmail.com
GEO:42.8553213;-72.5599024
X-APPLE-STRUCTURED-LOCATION;VALUE=URI;X-ADDRESS=Meeting Room D – Quiet Reading Room 224 Main Street Brattleboro VT 05301 United States;X-APPLE-RADIUS=500;X-TITLE=224 Main Street:geo:-72.5599024,42.8553213
END:VEVENT
END:VCALENDAR