BEGIN:VCALENDAR
VERSION:2.0
PRODID:-//Brooks Memorial Library - Brattleboro VT - ECPv6.15.17.1//NONSGML v1.0//EN
CALSCALE:GREGORIAN
METHOD:PUBLISH
X-ORIGINAL-URL:https://brookslibraryvt.org
X-WR-CALDESC:Events for Brooks Memorial Library - Brattleboro VT
REFRESH-INTERVAL;VALUE=DURATION:PT1H
X-Robots-Tag:noindex
X-PUBLISHED-TTL:PT1H
BEGIN:VTIMEZONE
TZID:America/New_York
BEGIN:DAYLIGHT
TZOFFSETFROM:-0500
TZOFFSETTO:-0400
TZNAME:EDT
DTSTART:20240310T070000
END:DAYLIGHT
BEGIN:STANDARD
TZOFFSETFROM:-0400
TZOFFSETTO:-0500
TZNAME:EST
DTSTART:20241103T060000
END:STANDARD
BEGIN:DAYLIGHT
TZOFFSETFROM:-0500
TZOFFSETTO:-0400
TZNAME:EDT
DTSTART:20250309T070000
END:DAYLIGHT
BEGIN:STANDARD
TZOFFSETFROM:-0400
TZOFFSETTO:-0500
TZNAME:EST
DTSTART:20251102T060000
END:STANDARD
BEGIN:DAYLIGHT
TZOFFSETFROM:-0500
TZOFFSETTO:-0400
TZNAME:EDT
DTSTART:20260308T070000
END:DAYLIGHT
BEGIN:STANDARD
TZOFFSETFROM:-0400
TZOFFSETTO:-0500
TZNAME:EST
DTSTART:20261101T060000
END:STANDARD
END:VTIMEZONE
BEGIN:VEVENT
DTSTART;VALUE=DATE:20250604
DTEND;VALUE=DATE:20250625
DTSTAMP:20260424T100250
CREATED:20250523T182459Z
LAST-MODIFIED:20250624T145539Z
UID:10004229-1748995200-1750809599@brookslibraryvt.org
SUMMARY:Moments in Time - Art Exhibit
DESCRIPTION:June is recognized by the Alzheimer’s Association as “Alzheimer’s and Brain Health Awareness Month” (ABAM) and the Brooks Memorial Library and the VT Chapter of the Alzheimer’s Association are collaborating to raise awareness in Brattleboro. From June 4-24\, Moments in Time\, a collection of works by Vermonters with Dementia\, will be on display in the library. The exhibit displays (23) pieces from (13) individual artists and two collages created from art submissions from Residences and Adult Day centers in Vermont. The collection includes a variety of visual art\, a wood carving\, quilts and a mobile\, highlighting the diversity and creativity of Vermonters with dementia. \n“Close to 13\,000 Vermonters over the age of 65 are living with dementia\,” said Meg Polyte\, Policy Director at the Vermont Chapter of the Alzheimer’s Association and Co-curator of the exhibit. “This show seeks to foster understanding\, spark conversation\, and bring attention to the far-reaching effects of dementia on patients and their loved ones.”
URL:https://brookslibraryvt.org/event/moments-in-time-art-exhibit/
LOCATION:Main Reading Room
CATEGORIES:General
ATTACH;FMTTYPE=image/png:https://eadn-wc04-3360218.nxedge.io/wp-content/uploads/2025/05/Sundown-painting-by-Jeremy-Aldridge.png
ORGANIZER;CN="Vermont Chapter of the Alzheimer's Association":MAILTO:mmpolyte@alz.org
GEO:42.8553213;-72.5599024
END:VEVENT
BEGIN:VEVENT
DTSTART;TZID=America/New_York:20250616T190000
DTEND;TZID=America/New_York:20250616T203000
DTSTAMP:20260424T100250
CREATED:20250417T185203Z
LAST-MODIFIED:20250417T185204Z
UID:10003727-1750100400-1750105800@brookslibraryvt.org
SUMMARY:Sci-Fi Reading Group
DESCRIPTION:The Sci-Fi Reading Group will meet in the Quiet Reading Room from 7:00pm – 8:30pm to discuss The Resisters by Gish Jen! \nThe time: not so long from now. The place: AutoAmerica\, a country surveilled by one “Aunt Nettie\,” a Big Brother that is part artificial intelligence\, part internet\, and oddly human—even funny. The people: divided. The “angelfair” Netted have jobs and\, what with the country half under water\, literally occupy the high ground. The Surplus live on swampland if they’re lucky\, on water if they’re not. \nThe story: To a Surplus couple—he once a professor\, she still a lawyer—is born a girl\, Gwen\, with a golden arm. Her teens find her happily playing in an underground baseball league\, but when AutoAmerica faces ChinRussia in the Olympics\, Gwen finds herself in dangerous territory\, playing ball with the Netted even as her mother battles this apartheid-like society in court. \nThe Sci-Fi Reading Group meets the third Monday of every month and is open to curious minds\, whether or not they’ve read this month’s selection.
URL:https://brookslibraryvt.org/event/sci-fi-reading-group-2-5/
LOCATION:Meeting Room D – Quiet Reading Room\, 224 Main Street\, Brattleboro\, VT\, 05301\, United States
CATEGORIES:Adults,General,Teens
ATTACH;FMTTYPE=image/png:https://eadn-wc04-3360218.nxedge.io/wp-content/uploads/2024/12/JUN25-Icon.png
ORGANIZER;CN="Brooks Memorial Library":MAILTO:outreach@brookslibraryvt.org
GEO:42.8553213;-72.5599024
X-APPLE-STRUCTURED-LOCATION;VALUE=URI;X-ADDRESS=Meeting Room D – Quiet Reading Room 224 Main Street Brattleboro VT 05301 United States;X-APPLE-RADIUS=500;X-TITLE=224 Main Street:geo:-72.5599024,42.8553213
END:VEVENT
BEGIN:VEVENT
DTSTART;TZID=America/New_York:20250617T180000
DTEND;TZID=America/New_York:20250617T191500
DTSTAMP:20260424T100250
CREATED:20250428T163325Z
LAST-MODIFIED:20250428T163325Z
UID:10004199-1750183200-1750187700@brookslibraryvt.org
SUMMARY:Exploring the Afterlife: Learning from Experts and Personal Experiences
DESCRIPTION:Have you had a near-death experience or communicated with a deceased loved one through a medium? Have you contemplated the possibility of reincarnation or had an experience about a past life? Do you wonder what awaits us in the afterlife? Western culture tends to dismiss or even disparage paranormal phenomena. But evidence is available to answer many questions about the afterlife. \nIn this five-part evening series on Tuesdays from June 17th to July 15th\, we will do three things: 1) read books by experts on near-death experiences\, scientific instruments and experiments in paranormal research\, out-of-body experiences\, and the work of reputable mediums; 2) raise questions and concerns about the evening’s topic; and 3) share personal experiences of paranormal phenomena in a safe environment. Each participant will choose a book from a provided list to report on. Participants are strongly encouraged to attend all sessions. \nThe group will be led by hospice chaplain and former social worker Diane Southard and Valerie Abrahamsen\, author of Paranormal: A New Testament Scholar Looks at the Afterlife (2015). \nParticipants are encouraged to contact Valerie at www.wisdomwordsppf.org/contact/ as soon as possible to obtain the book list and additional information. Adults over 18 are invited!
URL:https://brookslibraryvt.org/event/exploring-the-afterlife-learning-from-experts-and-personal-experiences/2025-06-17/
LOCATION:Meeting Room D – Quiet Reading Room\, 224 Main Street\, Brattleboro\, VT\, 05301\, United States
CATEGORIES:Adults,General
ATTACH;FMTTYPE=image/jpeg:https://eadn-wc04-3360218.nxedge.io/wp-content/uploads/2025/04/heaven.jpg
GEO:42.8553213;-72.5599024
X-APPLE-STRUCTURED-LOCATION;VALUE=URI;X-ADDRESS=Meeting Room D – Quiet Reading Room 224 Main Street Brattleboro VT 05301 United States;X-APPLE-RADIUS=500;X-TITLE=224 Main Street:geo:-72.5599024,42.8553213
END:VEVENT
BEGIN:VEVENT
DTSTART;TZID=America/New_York:20250617T190000
DTEND;TZID=America/New_York:20250617T210000
DTSTAMP:20260424T100250
CREATED:20231215T160138Z
LAST-MODIFIED:20250714T202752Z
UID:10003951-1750186800-1750194000@brookslibraryvt.org
SUMMARY:SEVT Audubon Society
DESCRIPTION:Join South Eastern Vermont’s Audubon Society on for a monthly program featuring nature and the environment.
URL:https://brookslibraryvt.org/event/sevt-audubon-society-2-5/2025-06-17/
LOCATION:Meeting Room A – Community Meeting Room\, 224 Main Street\, Brattleboro\, VT\, 05301\, United States
CATEGORIES:General
ATTACH;FMTTYPE=image/jpeg:https://eadn-wc04-3360218.nxedge.io/wp-content/uploads/2023/01/birds.jpg
ORGANIZER;CN="Hollie Bowen":MAILTO:HSB@sover.net
GEO:42.8553213;-72.5599024
X-APPLE-STRUCTURED-LOCATION;VALUE=URI;X-ADDRESS=Meeting Room A – Community Meeting Room 224 Main Street Brattleboro VT 05301 United States;X-APPLE-RADIUS=500;X-TITLE=224 Main Street:geo:-72.5599024,42.8553213
END:VEVENT
BEGIN:VEVENT
DTSTART;TZID=America/New_York:20250618T163000
DTEND;TZID=America/New_York:20250618T180000
DTSTAMP:20260424T100250
CREATED:20250616T154917Z
LAST-MODIFIED:20250616T154918Z
UID:10003861-1750264200-1750269600@brookslibraryvt.org
SUMMARY:Friends of the Library
DESCRIPTION:Monthly meeting of the Friends of the Library. Community attendance and commentary is welcome! \nFriends of the Library
URL:https://brookslibraryvt.org/event/friends-of-the-library-3-4/2025-06-18/
LOCATION:Meeting Room A – Community Meeting Room\, 224 Main Street\, Brattleboro\, VT\, 05301\, United States
CATEGORIES:General
GEO:42.8553213;-72.5599024
X-APPLE-STRUCTURED-LOCATION;VALUE=URI;X-ADDRESS=Meeting Room A – Community Meeting Room 224 Main Street Brattleboro VT 05301 United States;X-APPLE-RADIUS=500;X-TITLE=224 Main Street:geo:-72.5599024,42.8553213
END:VEVENT
BEGIN:VEVENT
DTSTART;TZID=America/New_York:20250618T183000
DTEND;TZID=America/New_York:20250618T193000
DTSTAMP:20260424T100250
CREATED:20250528T205445Z
LAST-MODIFIED:20250605T141605Z
UID:10004232-1750271400-1750275000@brookslibraryvt.org
SUMMARY:Healthy Living for Brain & Body: Tips from the Latest Research
DESCRIPTION:June is Brain Health History Month! Join us for a presentation on lifestyle choices and their impact on the aging process. learn the latest research in the areas of diet and nutrition\, exercise\, cognitive activity and social engagement to bolster brain health\, stay connected\, and age well. \nThis event is part of a collaborative program with the Vermont Chapter of the Alzheimer’s Association and Brooks Memorial Library – and all are welcome.
URL:https://brookslibraryvt.org/event/healthy-living-for-brain-body-tips-from-the-latest-research/
LOCATION:Meeting Room A – Community Meeting Room\, 224 Main Street\, Brattleboro\, VT\, 05301\, United States
CATEGORIES:Adults,General
ATTACH;FMTTYPE=image/png:https://eadn-wc04-3360218.nxedge.io/wp-content/uploads/2025/05/Sundown-painting-by-Jeremy-Aldridge.png
ORGANIZER;CN="Vermont Chapter of the Alzheimer's Association":MAILTO:mmpolyte@alz.org
GEO:42.8553213;-72.5599024
X-APPLE-STRUCTURED-LOCATION;VALUE=URI;X-ADDRESS=Meeting Room A – Community Meeting Room 224 Main Street Brattleboro VT 05301 United States;X-APPLE-RADIUS=500;X-TITLE=224 Main Street:geo:-72.5599024,42.8553213
END:VEVENT
BEGIN:VEVENT
DTSTART;TZID=America/New_York:20250619T100000
DTEND;TZID=America/New_York:20250619T210000
DTSTAMP:20260424T100250
CREATED:20241002T173942Z
LAST-MODIFIED:20241002T173942Z
UID:10003419-1750327200-1750366800@brookslibraryvt.org
SUMMARY:LIBRARY CLOSED
DESCRIPTION:The library will be closed on June 19th in observation of Juneteenth.
URL:https://brookslibraryvt.org/event/library-closed-24/2025-06-19/
LOCATION:Brooks Memorial Library\, 224 Main Street\, Brattleboro\, VT\, 05301\, United States
CATEGORIES:General
ATTACH;FMTTYPE=image/png:https://eadn-wc04-3360218.nxedge.io/wp-content/uploads/2023/11/Library-Closed.png
ORGANIZER;CN="Brooks Memorial Library":MAILTO:outreach@brookslibraryvt.org
GEO:42.8553213;-72.5599024
X-APPLE-STRUCTURED-LOCATION;VALUE=URI;X-ADDRESS=Brooks Memorial Library 224 Main Street Brattleboro VT 05301 United States;X-APPLE-RADIUS=500;X-TITLE=224 Main Street:geo:-72.5599024,42.8553213
END:VEVENT
BEGIN:VEVENT
DTSTART;TZID=America/New_York:20250621T130000
DTEND;TZID=America/New_York:20250621T160000
DTSTAMP:20260424T100250
CREATED:20250103T195250Z
LAST-MODIFIED:20251204T220811Z
UID:10003822-1750510800-1750521600@brookslibraryvt.org
SUMMARY:Brattleboro in Stitches
DESCRIPTION:Bring a work in progress to sew\, knit\, crochet\, embroider\, or mend. Sewing machines\, irons\, and companionship will be provided.
URL:https://brookslibraryvt.org/event/brattleboro-in-stitches-6/2025-06-21/
LOCATION:Meeting Room A – Community Meeting Room\, 224 Main Street\, Brattleboro\, VT\, 05301\, United States
CATEGORIES:Adults,Children & Families,General
ATTACH;FMTTYPE=image/png:https://eadn-wc04-3360218.nxedge.io/wp-content/uploads/2023/03/Brattleboro-in-Stitches-Event-Calendar2.png
ORGANIZER;CN="Brooks Memorial Library":MAILTO:outreach@brookslibraryvt.org
GEO:42.8553213;-72.5599024
X-APPLE-STRUCTURED-LOCATION;VALUE=URI;X-ADDRESS=Meeting Room A – Community Meeting Room 224 Main Street Brattleboro VT 05301 United States;X-APPLE-RADIUS=500;X-TITLE=224 Main Street:geo:-72.5599024,42.8553213
END:VEVENT
END:VCALENDAR