BEGIN:VCALENDAR
VERSION:2.0
PRODID:-//Brooks Memorial Library - Brattleboro VT - ECPv6.15.17.1//NONSGML v1.0//EN
CALSCALE:GREGORIAN
METHOD:PUBLISH
X-ORIGINAL-URL:https://brookslibraryvt.org
X-WR-CALDESC:Events for Brooks Memorial Library - Brattleboro VT
REFRESH-INTERVAL;VALUE=DURATION:PT1H
X-Robots-Tag:noindex
X-PUBLISHED-TTL:PT1H
BEGIN:VTIMEZONE
TZID:America/New_York
BEGIN:DAYLIGHT
TZOFFSETFROM:-0500
TZOFFSETTO:-0400
TZNAME:EDT
DTSTART:20240310T070000
END:DAYLIGHT
BEGIN:STANDARD
TZOFFSETFROM:-0400
TZOFFSETTO:-0500
TZNAME:EST
DTSTART:20241103T060000
END:STANDARD
BEGIN:DAYLIGHT
TZOFFSETFROM:-0500
TZOFFSETTO:-0400
TZNAME:EDT
DTSTART:20250309T070000
END:DAYLIGHT
BEGIN:STANDARD
TZOFFSETFROM:-0400
TZOFFSETTO:-0500
TZNAME:EST
DTSTART:20251102T060000
END:STANDARD
BEGIN:DAYLIGHT
TZOFFSETFROM:-0500
TZOFFSETTO:-0400
TZNAME:EDT
DTSTART:20260308T070000
END:DAYLIGHT
BEGIN:STANDARD
TZOFFSETFROM:-0400
TZOFFSETTO:-0500
TZNAME:EST
DTSTART:20261101T060000
END:STANDARD
END:VTIMEZONE
BEGIN:VEVENT
DTSTART;TZID=America/New_York:20250701T180000
DTEND;TZID=America/New_York:20250701T191500
DTSTAMP:20260424T100251
CREATED:20250428T163325Z
LAST-MODIFIED:20250428T163325Z
UID:10004201-1751392800-1751397300@brookslibraryvt.org
SUMMARY:Exploring the Afterlife: Learning from Experts and Personal Experiences
DESCRIPTION:Have you had a near-death experience or communicated with a deceased loved one through a medium? Have you contemplated the possibility of reincarnation or had an experience about a past life? Do you wonder what awaits us in the afterlife? Western culture tends to dismiss or even disparage paranormal phenomena. But evidence is available to answer many questions about the afterlife. \nIn this five-part evening series on Tuesdays from June 17th to July 15th\, we will do three things: 1) read books by experts on near-death experiences\, scientific instruments and experiments in paranormal research\, out-of-body experiences\, and the work of reputable mediums; 2) raise questions and concerns about the evening’s topic; and 3) share personal experiences of paranormal phenomena in a safe environment. Each participant will choose a book from a provided list to report on. Participants are strongly encouraged to attend all sessions. \nThe group will be led by hospice chaplain and former social worker Diane Southard and Valerie Abrahamsen\, author of Paranormal: A New Testament Scholar Looks at the Afterlife (2015). \nParticipants are encouraged to contact Valerie at www.wisdomwordsppf.org/contact/ as soon as possible to obtain the book list and additional information. Adults over 18 are invited!
URL:https://brookslibraryvt.org/event/exploring-the-afterlife-learning-from-experts-and-personal-experiences/2025-07-01/
LOCATION:Meeting Room D – Quiet Reading Room\, 224 Main Street\, Brattleboro\, VT\, 05301\, United States
CATEGORIES:Adults,General
ATTACH;FMTTYPE=image/jpeg:https://eadn-wc04-3360218.nxedge.io/wp-content/uploads/2025/04/heaven.jpg
GEO:42.8553213;-72.5599024
X-APPLE-STRUCTURED-LOCATION;VALUE=URI;X-ADDRESS=Meeting Room D – Quiet Reading Room 224 Main Street Brattleboro VT 05301 United States;X-APPLE-RADIUS=500;X-TITLE=224 Main Street:geo:-72.5599024,42.8553213
END:VEVENT
BEGIN:VEVENT
DTSTART;TZID=America/New_York:20250701T180000
DTEND;TZID=America/New_York:20250701T204500
DTSTAMP:20260424T100251
CREATED:20250205T200216Z
LAST-MODIFIED:20251204T183206Z
UID:10003926-1751392800-1751402700@brookslibraryvt.org
SUMMARY:Mineralogical Society
DESCRIPTION:Join the Brattleboro Mineralogical Society to discuss Minerals and other Geological topics!
URL:https://brookslibraryvt.org/event/mineralogical-society-4/2025-07-01/
LOCATION:Meeting Room A – Community Meeting Room\, 224 Main Street\, Brattleboro\, VT\, 05301\, United States
CATEGORIES:Adults,General
ATTACH;FMTTYPE=image/png:https://eadn-wc04-3360218.nxedge.io/wp-content/uploads/2021/12/MineralogicalSociety.png
ORGANIZER;CN="Robert Clements - Mineralogical Society":MAILTO:rwc2esj@comcast.net
GEO:42.8553213;-72.5599024
X-APPLE-STRUCTURED-LOCATION;VALUE=URI;X-ADDRESS=Meeting Room A – Community Meeting Room 224 Main Street Brattleboro VT 05301 United States;X-APPLE-RADIUS=500;X-TITLE=224 Main Street:geo:-72.5599024,42.8553213
END:VEVENT
BEGIN:VEVENT
DTSTART;TZID=America/New_York:20250703T130000
DTEND;TZID=America/New_York:20250703T170000
DTSTAMP:20260424T100251
CREATED:20250606T142920Z
LAST-MODIFIED:20250617T154246Z
UID:10004334-1751547600-1751562000@brookslibraryvt.org
SUMMARY:LEGO-Palooza Summer Session
DESCRIPTION:Join us for these SPECIAL SUMMER SESSIONS of LEGO-Palooza every Thursday this summer from 1:00 pm to 5:00 pm. \nCome build something fun with the library’s LEGOs and get a chance to see them on display. FREE! \n  \nLEGO-palooza happens from 3:00 to 5:00 pm on the first Thursday of the month with occasional special sessions during school breaks and the summer. \nFor more information\, call 802-254-5290 ext. 1210
URL:https://brookslibraryvt.org/event/lego-palooza-summer-session-2/2025-07-03/
LOCATION:Meeting Room A – Community Meeting Room\, 224 Main Street\, Brattleboro\, VT\, 05301\, United States
CATEGORIES:Children & Families,General
ATTACH;FMTTYPE=image/png:https://eadn-wc04-3360218.nxedge.io/wp-content/uploads/2024/06/LEGO-palooza-SUMMER-session.png
ORGANIZER;CN="BML Children's Room":MAILTO:cr@brookslibraryvt.org
GEO:42.8553213;-72.5599024
X-APPLE-STRUCTURED-LOCATION;VALUE=URI;X-ADDRESS=Meeting Room A – Community Meeting Room 224 Main Street Brattleboro VT 05301 United States;X-APPLE-RADIUS=500;X-TITLE=224 Main Street:geo:-72.5599024,42.8553213
END:VEVENT
BEGIN:VEVENT
DTSTART;TZID=America/New_York:20250704T100000
DTEND;TZID=America/New_York:20250704T210000
DTSTAMP:20260424T100251
CREATED:20241002T174619Z
LAST-MODIFIED:20241002T174619Z
UID:10003425-1751623200-1751662800@brookslibraryvt.org
SUMMARY:LIBRARY CLOSED
DESCRIPTION:The library will be closed on July 4th in observation of Independence Day.
URL:https://brookslibraryvt.org/event/library-closed-25/2025-07-04/
LOCATION:Brooks Memorial Library\, 224 Main Street\, Brattleboro\, VT\, 05301\, United States
CATEGORIES:General
ATTACH;FMTTYPE=image/png:https://eadn-wc04-3360218.nxedge.io/wp-content/uploads/2023/11/Library-Closed.png
ORGANIZER;CN="Brooks Memorial Library":MAILTO:outreach@brookslibraryvt.org
GEO:42.8553213;-72.5599024
X-APPLE-STRUCTURED-LOCATION;VALUE=URI;X-ADDRESS=Brooks Memorial Library 224 Main Street Brattleboro VT 05301 United States;X-APPLE-RADIUS=500;X-TITLE=224 Main Street:geo:-72.5599024,42.8553213
END:VEVENT
BEGIN:VEVENT
DTSTART;TZID=America/New_York:20250705T130000
DTEND;TZID=America/New_York:20250705T160000
DTSTAMP:20260424T100251
CREATED:20250103T195250Z
LAST-MODIFIED:20251204T220811Z
UID:10003824-1751720400-1751731200@brookslibraryvt.org
SUMMARY:Brattleboro in Stitches
DESCRIPTION:Bring a work in progress to sew\, knit\, crochet\, embroider\, or mend. Sewing machines\, irons\, and companionship will be provided.
URL:https://brookslibraryvt.org/event/brattleboro-in-stitches-6/2025-07-05/
LOCATION:Meeting Room A – Community Meeting Room\, 224 Main Street\, Brattleboro\, VT\, 05301\, United States
CATEGORIES:Adults,Children & Families,General
ATTACH;FMTTYPE=image/png:https://eadn-wc04-3360218.nxedge.io/wp-content/uploads/2023/03/Brattleboro-in-Stitches-Event-Calendar2.png
ORGANIZER;CN="Brooks Memorial Library":MAILTO:outreach@brookslibraryvt.org
GEO:42.8553213;-72.5599024
X-APPLE-STRUCTURED-LOCATION;VALUE=URI;X-ADDRESS=Meeting Room A – Community Meeting Room 224 Main Street Brattleboro VT 05301 United States;X-APPLE-RADIUS=500;X-TITLE=224 Main Street:geo:-72.5599024,42.8553213
END:VEVENT
END:VCALENDAR