BEGIN:VCALENDAR
VERSION:2.0
PRODID:-//Brooks Memorial Library - Brattleboro VT - ECPv6.15.17.1//NONSGML v1.0//EN
CALSCALE:GREGORIAN
METHOD:PUBLISH
X-WR-CALNAME:Brooks Memorial Library - Brattleboro VT
X-ORIGINAL-URL:https://brookslibraryvt.org
X-WR-CALDESC:Events for Brooks Memorial Library - Brattleboro VT
REFRESH-INTERVAL;VALUE=DURATION:PT1H
X-Robots-Tag:noindex
X-PUBLISHED-TTL:PT1H
BEGIN:VTIMEZONE
TZID:America/New_York
BEGIN:DAYLIGHT
TZOFFSETFROM:-0500
TZOFFSETTO:-0400
TZNAME:EDT
DTSTART:20240310T070000
END:DAYLIGHT
BEGIN:STANDARD
TZOFFSETFROM:-0400
TZOFFSETTO:-0500
TZNAME:EST
DTSTART:20241103T060000
END:STANDARD
BEGIN:DAYLIGHT
TZOFFSETFROM:-0500
TZOFFSETTO:-0400
TZNAME:EDT
DTSTART:20250309T070000
END:DAYLIGHT
BEGIN:STANDARD
TZOFFSETFROM:-0400
TZOFFSETTO:-0500
TZNAME:EST
DTSTART:20251102T060000
END:STANDARD
BEGIN:DAYLIGHT
TZOFFSETFROM:-0500
TZOFFSETTO:-0400
TZNAME:EDT
DTSTART:20260308T070000
END:DAYLIGHT
BEGIN:STANDARD
TZOFFSETFROM:-0400
TZOFFSETTO:-0500
TZNAME:EST
DTSTART:20261101T060000
END:STANDARD
END:VTIMEZONE
BEGIN:VEVENT
DTSTART;TZID=America/New_York:20250721T190000
DTEND;TZID=America/New_York:20250721T203000
DTSTAMP:20260424T043131
CREATED:20250610T143232Z
LAST-MODIFIED:20250610T143233Z
UID:10003728-1753124400-1753129800@brookslibraryvt.org
SUMMARY:Sci-Fi Reading Group
DESCRIPTION:The Sci-Fi Reading Group will meet in the Quiet Reading Room from 7:00pm – 8:30pm to discuss The Practice\, the Horizon\, and the Chain by Sofia Samatar! \nThe boy was raised as one of the Chained\, condemned to toil in the bowels of a mining ship out among the stars. His whole world changes—literally—when he is yanked “upstairs” and informed he has been given an opportunity to be educated at the ship’s university alongside the elite.Overwhelmed and alone\, the boy forms a bond with the woman he comes to know as “the professor\,” a weary idealist and descendent of the Chained who has spent her career striving for validation from her more senior colleagues\, only to fall short at every turn.Together\, the boy and the woman will embark on a transformative journey to grasp the design of the chains that fetter them both—and are the key to breaking free. \nThe Sci-Fi Reading Group meets the third Monday of every month and is open to curious minds\, whether or not they’ve read this month’s selection.
URL:https://brookslibraryvt.org/event/sci-fi-reading-group-2-6/
LOCATION:Meeting Room D – Quiet Reading Room\, 224 Main Street\, Brattleboro\, VT\, 05301\, United States
CATEGORIES:Adults,General,Teens
ATTACH;FMTTYPE=image/png:https://eadn-wc04-3360218.nxedge.io/wp-content/uploads/2024/12/JUL25-Icon.png
ORGANIZER;CN="Brooks Memorial Library":MAILTO:outreach@brookslibraryvt.org
GEO:42.8553213;-72.5599024
X-APPLE-STRUCTURED-LOCATION;VALUE=URI;X-ADDRESS=Meeting Room D – Quiet Reading Room 224 Main Street Brattleboro VT 05301 United States;X-APPLE-RADIUS=500;X-TITLE=224 Main Street:geo:-72.5599024,42.8553213
END:VEVENT
BEGIN:VEVENT
DTSTART;TZID=America/New_York:20250722T170000
DTEND;TZID=America/New_York:20250722T190000
DTSTAMP:20260424T043131
CREATED:20220730T191036Z
LAST-MODIFIED:20250210T195725Z
UID:10003964-1753203600-1753210800@brookslibraryvt.org
SUMMARY:Town Arts Committee
DESCRIPTION:The monthly meeting of the Town Arts Committee members invites guests and the public to discuss town arts!
URL:https://brookslibraryvt.org/event/town-arts-committee/2025-07-22/
LOCATION:Meeting Room A – Community Meeting Room\, 224 Main Street\, Brattleboro\, VT\, 05301\, United States
CATEGORIES:General
ATTACH;FMTTYPE=image/jpeg:https://eadn-wc04-3360218.nxedge.io/wp-content/uploads/2022/07/bratt-mural.jpg
ORGANIZER;CN="Brattleboro Town Arts Committee":MAILTO:brattleboroartscommittee@gmail.com
GEO:42.8553213;-72.5599024
X-APPLE-STRUCTURED-LOCATION;VALUE=URI;X-ADDRESS=Meeting Room A – Community Meeting Room 224 Main Street Brattleboro VT 05301 United States;X-APPLE-RADIUS=500;X-TITLE=224 Main Street:geo:-72.5599024,42.8553213
END:VEVENT
BEGIN:VEVENT
DTSTART;TZID=America/New_York:20250724T130000
DTEND;TZID=America/New_York:20250724T170000
DTSTAMP:20260424T043131
CREATED:20250606T142920Z
LAST-MODIFIED:20250617T154246Z
UID:10004241-1753362000-1753376400@brookslibraryvt.org
SUMMARY:LEGO-Palooza Summer Session
DESCRIPTION:Join us for these SPECIAL SUMMER SESSIONS of LEGO-Palooza every Thursday this summer from 1:00 pm to 5:00 pm. \nCome build something fun with the library’s LEGOs and get a chance to see them on display. FREE! \n  \nLEGO-palooza happens from 3:00 to 5:00 pm on the first Thursday of the month with occasional special sessions during school breaks and the summer. \nFor more information\, call 802-254-5290 ext. 1210
URL:https://brookslibraryvt.org/event/lego-palooza-summer-session-2/2025-07-24/
LOCATION:Meeting Room A – Community Meeting Room\, 224 Main Street\, Brattleboro\, VT\, 05301\, United States
CATEGORIES:Children & Families,General
ATTACH;FMTTYPE=image/png:https://eadn-wc04-3360218.nxedge.io/wp-content/uploads/2024/06/LEGO-palooza-SUMMER-session.png
ORGANIZER;CN="BML Children's Room":MAILTO:cr@brookslibraryvt.org
GEO:42.8553213;-72.5599024
X-APPLE-STRUCTURED-LOCATION;VALUE=URI;X-ADDRESS=Meeting Room A – Community Meeting Room 224 Main Street Brattleboro VT 05301 United States;X-APPLE-RADIUS=500;X-TITLE=224 Main Street:geo:-72.5599024,42.8553213
END:VEVENT
BEGIN:VEVENT
DTSTART;TZID=America/New_York:20250726T103000
DTEND;TZID=America/New_York:20250726T123000
DTSTAMP:20260424T043131
CREATED:20250609T221240Z
LAST-MODIFIED:20250717T151028Z
UID:10004249-1753525800-1753533000@brookslibraryvt.org
SUMMARY:Illustration for Science! Workshop II: Birds
DESCRIPTION:THIS WORKSHOP IS FULL. PLEASE CONTACT US TO JOIN THE WAITLIST. \nWorkshop II: Birds — Saturday\, July 26 \nIn this drawing and watercolor workshop presented in collaboration with The River Gallery School\,  we will focus on the dynamic world of birds\, where participants will practice observing bird anatomy\, posture\, and movement. Through the process of sketching and watercolor painting\, we will learn how to render birds with accuracy and appreciation\, linking art with the study of local avian species for community science efforts. \n  \nIllustration for Science!\nSummer of Community Science Art Workshop Series\nAdult Summer Reading Program \nWorkshop I: Butterflies + Moths — Saturday\, July 19 \nWorkshop II: Birds — Saturday\, July 26 \nWorkshop III: Local Botanicals — Saturday\, August 23 \nJoin us for a series of three nature-inspired classes designed for adults and youth ages 15 and up. These hour-and-a-half workshops will focus on the skill of close observation\, a vital gift of drawing from life\, which connects the visual arts with the sciences. Each workshop provides an opportunity to explore the natural world while learning to create detailed illustrations that could contribute to community science projects. \nThroughout these workshops\, the emphasis is on learning how to see the natural world through a new lens. Drawing from observation will enhance participants’ attention to detail\, fostering a deeper connection between art and science while contributing to the understanding of our local environment. \nParticipants are welcome to attend one or all workshops\, and all sessions are free. \nRegistration is required. Please contact the Circulation Desk (in person\, 802-254-5290\, circ@brookslibraryvt.org) to register by Monday\, July 21.
URL:https://brookslibraryvt.org/event/illustration-for-science-workshop-i-butterflies-moths-2/
LOCATION:Meeting Room A – Community Meeting Room\, 224 Main Street\, Brattleboro\, VT\, 05301\, United States
CATEGORIES:Adults,General
ATTACH;FMTTYPE=image/png:https://eadn-wc04-3360218.nxedge.io/wp-content/uploads/2025/06/Illustration-for-Science-Calendar-940-x-788-px1.png
ORGANIZER;CN="Brooks Memorial Library":MAILTO:outreach@brookslibraryvt.org
GEO:42.8553213;-72.5599024
X-APPLE-STRUCTURED-LOCATION;VALUE=URI;X-ADDRESS=Meeting Room A – Community Meeting Room 224 Main Street Brattleboro VT 05301 United States;X-APPLE-RADIUS=500;X-TITLE=224 Main Street:geo:-72.5599024,42.8553213
END:VEVENT
BEGIN:VEVENT
DTSTART;TZID=America/New_York:20250726T130000
DTEND;TZID=America/New_York:20250726T160000
DTSTAMP:20260424T043131
CREATED:20250103T195250Z
LAST-MODIFIED:20251204T220811Z
UID:10003827-1753534800-1753545600@brookslibraryvt.org
SUMMARY:Brattleboro in Stitches
DESCRIPTION:Bring a work in progress to sew\, knit\, crochet\, embroider\, or mend. Sewing machines\, irons\, and companionship will be provided.
URL:https://brookslibraryvt.org/event/brattleboro-in-stitches-6/2025-07-26/
LOCATION:Meeting Room A – Community Meeting Room\, 224 Main Street\, Brattleboro\, VT\, 05301\, United States
CATEGORIES:Adults,Children & Families,General
ATTACH;FMTTYPE=image/png:https://eadn-wc04-3360218.nxedge.io/wp-content/uploads/2023/03/Brattleboro-in-Stitches-Event-Calendar2.png
ORGANIZER;CN="Brooks Memorial Library":MAILTO:outreach@brookslibraryvt.org
GEO:42.8553213;-72.5599024
X-APPLE-STRUCTURED-LOCATION;VALUE=URI;X-ADDRESS=Meeting Room A – Community Meeting Room 224 Main Street Brattleboro VT 05301 United States;X-APPLE-RADIUS=500;X-TITLE=224 Main Street:geo:-72.5599024,42.8553213
END:VEVENT
END:VCALENDAR