BEGIN:VCALENDAR
VERSION:2.0
PRODID:-//Brooks Memorial Library - Brattleboro VT - ECPv6.15.17.1//NONSGML v1.0//EN
CALSCALE:GREGORIAN
METHOD:PUBLISH
X-ORIGINAL-URL:https://brookslibraryvt.org
X-WR-CALDESC:Events for Brooks Memorial Library - Brattleboro VT
REFRESH-INTERVAL;VALUE=DURATION:PT1H
X-Robots-Tag:noindex
X-PUBLISHED-TTL:PT1H
BEGIN:VTIMEZONE
TZID:America/New_York
BEGIN:DAYLIGHT
TZOFFSETFROM:-0500
TZOFFSETTO:-0400
TZNAME:EDT
DTSTART:20250309T070000
END:DAYLIGHT
BEGIN:STANDARD
TZOFFSETFROM:-0400
TZOFFSETTO:-0500
TZNAME:EST
DTSTART:20251102T060000
END:STANDARD
BEGIN:DAYLIGHT
TZOFFSETFROM:-0500
TZOFFSETTO:-0400
TZNAME:EDT
DTSTART:20260308T070000
END:DAYLIGHT
BEGIN:STANDARD
TZOFFSETFROM:-0400
TZOFFSETTO:-0500
TZNAME:EST
DTSTART:20261101T060000
END:STANDARD
BEGIN:DAYLIGHT
TZOFFSETFROM:-0500
TZOFFSETTO:-0400
TZNAME:EDT
DTSTART:20270314T070000
END:DAYLIGHT
BEGIN:STANDARD
TZOFFSETFROM:-0400
TZOFFSETTO:-0500
TZNAME:EST
DTSTART:20271107T060000
END:STANDARD
END:VTIMEZONE
BEGIN:VEVENT
DTSTART;TZID=America/New_York:20260202T190000
DTEND;TZID=America/New_York:20260202T210000
DTSTAMP:20260423T141434
CREATED:20251210T201948Z
LAST-MODIFIED:20260119T094934Z
UID:10004975-1770058800-1770066000@brookslibraryvt.org
SUMMARY:Brattleboro Great Books Group
DESCRIPTION:The BRATTLEBORO GREAT BOOKS GROUP will be discussing SONS and LOVERS\, by D.H. Lawrence\, on MONDAY\, FEBRUARY 2nd\, 2026\, from 7:00 to 9:00 p.m.\, in the Mezzanine Quiet Reading Room of the Brooks Memorial Library. The January meeting was cancelled\, and reading/discussion was deferred due to inclement weather and illness of several members. \n\n\nSons and Lovers is one of the most perceptive novels on the dialectical relationship between mothers and sons (and daughters\, too)! His first major novel\, this work closely parallels Lawrence’s own life. \n—————————————————————– \n\n\nFor Mon. March 2nd\, the group will be discussing Dostoyevsky’s THE DEVILS (a.k.a. The DAEMONS or THE POSSESSED)\, one of his most complicated\, and messy\, novels. How can I describe it? As an adult\, existential “CAT in a HAT\,” but with the anarchic “Thing One” and “Thing Two” multiplied to perhaps a half-dozen malevolent “Things!” Get started early\, as this is 650 pp.\, complete with Russian names and patronames\, is worth the effort for its deep psychological\, philosophical and religious insights. \n\n\nFor further information\, email Michael Landis at emagicmtman@gmail.com\, or call him at (802) 257-1851. In case of inclement weather\, the discussion will be again deferred. \n\n 
URL:https://brookslibraryvt.org/event/brattleboro-great-books-group-4-3/
LOCATION:Meeting Room D – Quiet Reading Room\, 224 Main Street\, Brattleboro\, VT\, 05301\, United States
CATEGORIES:Adults,General,Teens
ATTACH;FMTTYPE=image/jpeg:https://eadn-wc04-3360218.nxedge.io/wp-content/uploads/2022/10/books.jpg
ORGANIZER;CN="Great Books - Michael Landis":MAILTO:emagicmtman@gmail.com
GEO:42.8553213;-72.5599024
X-APPLE-STRUCTURED-LOCATION;VALUE=URI;X-ADDRESS=Meeting Room D – Quiet Reading Room 224 Main Street Brattleboro VT 05301 United States;X-APPLE-RADIUS=500;X-TITLE=224 Main Street:geo:-72.5599024,42.8553213
END:VEVENT
BEGIN:VEVENT
DTSTART;TZID=America/New_York:20260203T133000
DTEND;TZID=America/New_York:20260203T150000
DTSTAMP:20260423T141434
CREATED:20260128T183537Z
LAST-MODIFIED:20260129T212600Z
UID:10005252-1770125400-1770130800@brookslibraryvt.org
SUMMARY:Art & Exploration at the Library
DESCRIPTION:We are pleased to offer the second iteration of this free 6-week book exploration and art-making course for learners ages 60+\, after last year’s successful pilot-program with River Gallery School teaching artist\, Kate Milliken. \nParticipants will have the opportunity to explore books on a variety of themes including history\, food\, nature\, music\, film\, and classic novels\, and create art in response to those themes through mixed media techniques. \nThis course is perfect for participants new to creating art and interested in a social book club experience. Supplies are provided. Registration is required.  Sign up for one or all sessions in this exciting offering\, in collaboration with River Gallery School and Bradley House. \nTo register: stop by or call the circulation desk (802)254-5290; or\, email: outreach@brookslibraryvt.org.
URL:https://brookslibraryvt.org/event/art-exploration-at-the-library/2026-02-03/
LOCATION:Meeting Room A – Community Meeting Room\, 224 Main Street\, Brattleboro\, VT\, 05301\, United States
CATEGORIES:Adults,General
ATTACH;FMTTYPE=image/png:https://eadn-wc04-3360218.nxedge.io/wp-content/uploads/2026/01/AE2.33.10.png
GEO:42.8553213;-72.5599024
X-APPLE-STRUCTURED-LOCATION;VALUE=URI;X-ADDRESS=Meeting Room A – Community Meeting Room 224 Main Street Brattleboro VT 05301 United States;X-APPLE-RADIUS=500;X-TITLE=224 Main Street:geo:-72.5599024,42.8553213
END:VEVENT
BEGIN:VEVENT
DTSTART;TZID=America/New_York:20260203T153000
DTEND;TZID=America/New_York:20260203T163000
DTSTAMP:20260423T141434
CREATED:20260106T202929Z
LAST-MODIFIED:20260225T192716Z
UID:10005155-1770132600-1770136200@brookslibraryvt.org
SUMMARY:Read to a Dog
DESCRIPTION:Come start a new year of reading by reading to a dog! Read out loud to two sweet dogs\, Kelso and Gussy! Both dogs are  specially trained to read with kids and LOVE to be petted and cuddled! \nCome to the Children’s Room to Read to a Dog–available on a first come first serve basis. Bring your own books or come early to pick some of ours! All Ages Welcome.
URL:https://brookslibraryvt.org/event/read-to-a-dog-3-2/2026-02-03/
LOCATION:Meeting Room A – Community Meeting Room\, 224 Main Street\, Brattleboro\, VT\, 05301\, United States
CATEGORIES:Children & Families,General
ATTACH;FMTTYPE=image/png:https://eadn-wc04-3360218.nxedge.io/wp-content/uploads/2021/07/Read-to-a-Dog.png
ORGANIZER;CN="BML Children's Room":MAILTO:cr@brookslibraryvt.org
GEO:42.8553213;-72.5599024
X-APPLE-STRUCTURED-LOCATION;VALUE=URI;X-ADDRESS=Meeting Room A – Community Meeting Room 224 Main Street Brattleboro VT 05301 United States;X-APPLE-RADIUS=500;X-TITLE=224 Main Street:geo:-72.5599024,42.8553213
END:VEVENT
BEGIN:VEVENT
DTSTART;TZID=America/New_York:20260203T180000
DTEND;TZID=America/New_York:20260203T204500
DTSTAMP:20260423T141434
CREATED:20251204T183229Z
LAST-MODIFIED:20251204T183229Z
UID:10004734-1770141600-1770151500@brookslibraryvt.org
SUMMARY:Mineralogical Society
DESCRIPTION:Join the Brattleboro Mineralogical Society to discuss Minerals and other Geological topics!
URL:https://brookslibraryvt.org/event/mineralogical-society-5/2026-02-03/
LOCATION:Meeting Room A – Community Meeting Room\, 224 Main Street\, Brattleboro\, VT\, 05301\, United States
CATEGORIES:Adults,General
ATTACH;FMTTYPE=image/png:https://eadn-wc04-3360218.nxedge.io/wp-content/uploads/2021/12/MineralogicalSociety.png
ORGANIZER;CN="Robert Clements - Mineralogical Society":MAILTO:rwc2esj@comcast.net
GEO:42.8553213;-72.5599024
X-APPLE-STRUCTURED-LOCATION;VALUE=URI;X-ADDRESS=Meeting Room A – Community Meeting Room 224 Main Street Brattleboro VT 05301 United States;X-APPLE-RADIUS=500;X-TITLE=224 Main Street:geo:-72.5599024,42.8553213
END:VEVENT
BEGIN:VEVENT
DTSTART;TZID=America/New_York:20260204T123000
DTEND;TZID=America/New_York:20260204T183000
DTSTAMP:20260423T141434
CREATED:20250630T205718Z
LAST-MODIFIED:20250630T205718Z
UID:10004427-1770208200-1770229800@brookslibraryvt.org
SUMMARY:SEVCA's Volunteer Tax Prep Assistance (VITA) Program
DESCRIPTION:The IRS’s Volunteer Income Tax Assistance (VITA) program offers free basic tax return preparation to qualified individuals. \nThe VITA program has operated for over 50 years. VITA sites offer free tax help to people who need assistance in preparing their own tax returns\, including: \n-People who generally make $67\,000 or less\n-Persons with disabilities\, and\n-Limited English-speaking taxpayers \nSEVCA’s VITA program also assists Vermont homeowners and renters with Homestead Declarations\, Property Tax Credit Claims\, and Renter Rebate Claims\, even if they are not required to file a tax return. \nVITA services are not only free\, they are also a reliable and trusted source for preparing tax returns. \nServices are by appointment only. Information to request an appointment\, COMING SOON.  \nIf you would like more information\, visit sevca.org/tax services\, email estrasser@sevca.org\, or call or text 802-428-3032.
URL:https://brookslibraryvt.org/event/sevcas-volunteer-tax-prep-assistance-vita-program-2/2026-02-04/
LOCATION:Meeting Room A – Community Meeting Room\, 224 Main Street\, Brattleboro\, VT\, 05301\, United States
CATEGORIES:Adults,General
ATTACH;FMTTYPE=image/png:https://eadn-wc04-3360218.nxedge.io/wp-content/uploads/2025/06/Copy-of-SEVCA-VITA.png
ORGANIZER;CN="SEVCA - VITA Tax Prep":MAILTO:estrasser@sevca.org
GEO:42.8553213;-72.5599024
X-APPLE-STRUCTURED-LOCATION;VALUE=URI;X-ADDRESS=Meeting Room A – Community Meeting Room 224 Main Street Brattleboro VT 05301 United States;X-APPLE-RADIUS=500;X-TITLE=224 Main Street:geo:-72.5599024,42.8553213
END:VEVENT
BEGIN:VEVENT
DTSTART;TZID=America/New_York:20260204T180000
DTEND;TZID=America/New_York:20260204T200000
DTSTAMP:20260423T141434
CREATED:20251014T222920Z
LAST-MODIFIED:20260125T043353Z
UID:10004586-1770228000-1770235200@brookslibraryvt.org
SUMMARY:A Lifeline for Difficult Times:  The Taking Solace Series
DESCRIPTION:Starting last November\, Center for Solace (formerly Brattleboro Area Hospice) & Brooks Memorial Library\nbegan an 8-month collaboration on the first Wednesday of each month\, from 6-8 pm. \nCome join us for a wide range of conversations\non tender topics\, from Death Cafes\, to film & discussion nights\,\nspeaker panels\, a climate-grief dialogue\, and more. \nTogether we’ll explore some of the challenges of being alive in our time.\nFor instance\, how might we navigate illness\, caregiving\, or loss?\nOr beyond that\, face a much broader anguish for our fragile planet itself?\nBecause we know that at least one form of solace\nstems from staying connected. \nTo quote poet David Whyte\, “Solace is not meant to be\nan answer\, but an invitation\, through the door of pain and difficulty\,\nto the depth of suffering and simultaneous beauty in the world\nthat the strategic mind by itself cannot grasp or make sense of.”   \nFebruary’s Topic: Holding Our Own \nCome join us in the Main Reading Room on Wednesday\, February 4th to watch Holding Our Own. This inspiring one-hour film features the work of local artist Deidre Scherer and the music of Center for Solace chorus Hallowell. It will be followed by a community dialogue about the unique power of the arts to help offer solace in difficult times.   \nAnd to find out about further topics\, please follow\nCenter for Solace or Brooks Memorial Library on Facebook:\ncenterforsolace.org\, or brookslibraryvt.org.
URL:https://brookslibraryvt.org/event/a-lifeline-for-difficult-times-the-taking-solace-series-3/
LOCATION:Main Reading Room
CATEGORIES:Adults,General
ATTACH;FMTTYPE=image/png:https://eadn-wc04-3360218.nxedge.io/wp-content/uploads/2025/09/logo-wide-2-scaled.png
ORGANIZER;CN="Center for Solace":MAILTO:info@cfsolace.org
GEO:42.8553213;-72.5599024
END:VEVENT
BEGIN:VEVENT
DTSTART;TZID=America/New_York:20260204T180000
DTEND;TZID=America/New_York:20260204T204500
DTSTAMP:20260423T141434
CREATED:20251210T213214Z
LAST-MODIFIED:20251210T213956Z
UID:10005006-1770228000-1770237900@brookslibraryvt.org
SUMMARY:Game Cafe!
DESCRIPTION:Come join game enthusiasts in playing Magic the Gathering in various formats (including Commander/EDH) as well as other fun and creative board & card games. \nBring your favorite games- All Ages Welcome!
URL:https://brookslibraryvt.org/event/game-cafe-6/2026-02-04/
LOCATION:Meeting Room D – Quiet Reading Room\, 224 Main Street\, Brattleboro\, VT\, 05301\, United States
CATEGORIES:Children & Families,General,Teens
ATTACH;FMTTYPE=image/webp:https://eadn-wc04-3360218.nxedge.io/wp-content/uploads/2022/07/pic163749.webp
GEO:42.8553213;-72.5599024
X-APPLE-STRUCTURED-LOCATION;VALUE=URI;X-ADDRESS=Meeting Room D – Quiet Reading Room 224 Main Street Brattleboro VT 05301 United States;X-APPLE-RADIUS=500;X-TITLE=224 Main Street:geo:-72.5599024,42.8553213
END:VEVENT
BEGIN:VEVENT
DTSTART;TZID=America/New_York:20260205T150000
DTEND;TZID=America/New_York:20260205T170000
DTSTAMP:20260423T141434
CREATED:20251015T155243Z
LAST-MODIFIED:20260225T182424Z
UID:10004596-1770303600-1770310800@brookslibraryvt.org
SUMMARY:LEGO-Palooza Winter Session!
DESCRIPTION:Join us on Thursdays after school from 3-5pm to play with LEGOs! \nWe provide the LEGOs. You build. Do not bring your own LEGOs. \nChildren cannot keep LEGOs\, but if there is enough room\, we will display them in the window. \nFree and open to the public!
URL:https://brookslibraryvt.org/event/lego-palooza-winter-session-2/2026-02-05/
LOCATION:Meeting Room A – Community Meeting Room\, 224 Main Street\, Brattleboro\, VT\, 05301\, United States
CATEGORIES:Children & Families,General,Teens
ATTACH;FMTTYPE=image/png:https://eadn-wc04-3360218.nxedge.io/wp-content/uploads/2025/10/LEGO-palooza-Winter-Session-1536x864-1.png
ORGANIZER;CN="BML Children's Room":MAILTO:cr@brookslibraryvt.org
GEO:42.8553213;-72.5599024
X-APPLE-STRUCTURED-LOCATION;VALUE=URI;X-ADDRESS=Meeting Room A – Community Meeting Room 224 Main Street Brattleboro VT 05301 United States;X-APPLE-RADIUS=500;X-TITLE=224 Main Street:geo:-72.5599024,42.8553213
END:VEVENT
BEGIN:VEVENT
DTSTART;TZID=America/New_York:20260205T150000
DTEND;TZID=America/New_York:20260205T170000
DTSTAMP:20260423T141434
CREATED:20251117T175248Z
LAST-MODIFIED:20260116T191539Z
UID:10004681-1770303600-1770310800@brookslibraryvt.org
SUMMARY:LEGO-Palooza
DESCRIPTION:Join us on the first Thursday of every month after school from 3-5pm to play with LEGOs! \nWe provide the LEGOs. You build. Do not bring your own LEGOs. \nChildren cannot keep LEGOs\, but if there is enough room\, we will display them in the window. \nFree and open to the public!
URL:https://brookslibraryvt.org/event/lego-palooza-5/2026-02-05/
LOCATION:Meeting Room A – Community Meeting Room\, 224 Main Street\, Brattleboro\, VT\, 05301\, United States
CATEGORIES:Children & Families,General
ATTACH;FMTTYPE=image/png:https://eadn-wc04-3360218.nxedge.io/wp-content/uploads/2023/01/LEGO-palooza.png
ORGANIZER;CN="BML Children's Room":MAILTO:cr@brookslibraryvt.org
GEO:42.8553213;-72.5599024
X-APPLE-STRUCTURED-LOCATION;VALUE=URI;X-ADDRESS=Meeting Room A – Community Meeting Room 224 Main Street Brattleboro VT 05301 United States;X-APPLE-RADIUS=500;X-TITLE=224 Main Street:geo:-72.5599024,42.8553213
END:VEVENT
BEGIN:VEVENT
DTSTART;TZID=America/New_York:20260206T140000
DTEND;TZID=America/New_York:20260206T163000
DTSTAMP:20260423T141434
CREATED:20260113T173926Z
LAST-MODIFIED:20260113T174441Z
UID:10005221-1770386400-1770395400@brookslibraryvt.org
SUMMARY:Vermont Workers Center Sponsored Government Benefits Enrollment/Info Session for Government Benefits (SNAP and Medicaid)
DESCRIPTION:The Workers Center is sponsoring an informational walk-in session for those interested in applying for SNAP (food benefits) and Medicaid enrollment. Assistance will be provided. \nVolunteers available between 2 – 5 PM on January 23;  and\,  2 – 4 :30PM on February 6th – both events are happening in the Community Room.
URL:https://brookslibraryvt.org/event/vermont-workers-center-sponsored-government-benefits-enrollment-info-session-for-government-benefits-snap-and-medicaid/2026-02-06/
LOCATION:Meeting Room A – Community Meeting Room\, 224 Main Street\, Brattleboro\, VT\, 05301\, United States
CATEGORIES:Adults,General
ATTACH;FMTTYPE=image/png:https://eadn-wc04-3360218.nxedge.io/wp-content/uploads/2026/01/VWC-Logo-with-name_trans-2.png
ORGANIZER;CN="Vermont Workers Center":MAILTO:fourcatshoover@gmail.com
GEO:42.8553213;-72.5599024
X-APPLE-STRUCTURED-LOCATION;VALUE=URI;X-ADDRESS=Meeting Room A – Community Meeting Room 224 Main Street Brattleboro VT 05301 United States;X-APPLE-RADIUS=500;X-TITLE=224 Main Street:geo:-72.5599024,42.8553213
END:VEVENT
BEGIN:VEVENT
DTSTART;TZID=America/New_York:20260207T103000
DTEND;TZID=America/New_York:20260207T120000
DTSTAMP:20260423T141434
CREATED:20251212T202121Z
LAST-MODIFIED:20251212T202121Z
UID:10005056-1770460200-1770465600@brookslibraryvt.org
SUMMARY:Community Conversations with Brattleboro State Legislators
DESCRIPTION:As the Brattleboro Legislative Delegation gears up for the start of a new legislative session in January\, these monthly sessions are an opportunity to meet the Brattleboro Representatives and discuss issues that matter to you. Topics will include healthcare\, education\, climate change\, and housing. All are welcome to join your Vermont Legislators\, hear from experts\, and share your experiences. \nThese conversations are scheduled monthly on the 1st Saturdays from 10:30 AM – 12 PM. (Scheduled dates: 2/7\, 3/7\, 4/4\, 5/2\, and 6/6.)
URL:https://brookslibraryvt.org/event/community-conversations-with-brattleboro-state-legislators-3/2026-02-07/
LOCATION:Main Reading Room
CATEGORIES:Adults,General
ATTACH;FMTTYPE=image/jpeg:https://eadn-wc04-3360218.nxedge.io/wp-content/uploads/2025/12/vermont-seal.jpg
ORGANIZER;CN="Representative Ian Goodnow":MAILTO:igoodnow@leg.state.vt.us
GEO:42.8553213;-72.5599024
END:VEVENT
BEGIN:VEVENT
DTSTART;TZID=America/New_York:20260207T130000
DTEND;TZID=America/New_York:20260207T160000
DTSTAMP:20260423T141434
CREATED:20250103T195250Z
LAST-MODIFIED:20251204T220811Z
UID:10004920-1770469200-1770480000@brookslibraryvt.org
SUMMARY:Brattleboro in Stitches
DESCRIPTION:Bring a work in progress to sew\, knit\, crochet\, embroider\, or mend. Sewing machines\, irons\, and companionship will be provided.
URL:https://brookslibraryvt.org/event/brattleboro-in-stitches-6/2026-02-07/
LOCATION:Meeting Room A – Community Meeting Room\, 224 Main Street\, Brattleboro\, VT\, 05301\, United States
CATEGORIES:Adults,Children & Families,General
ATTACH;FMTTYPE=image/png:https://eadn-wc04-3360218.nxedge.io/wp-content/uploads/2023/03/Brattleboro-in-Stitches-Event-Calendar2.png
ORGANIZER;CN="Brooks Memorial Library":MAILTO:outreach@brookslibraryvt.org
GEO:42.8553213;-72.5599024
X-APPLE-STRUCTURED-LOCATION;VALUE=URI;X-ADDRESS=Meeting Room A – Community Meeting Room 224 Main Street Brattleboro VT 05301 United States;X-APPLE-RADIUS=500;X-TITLE=224 Main Street:geo:-72.5599024,42.8553213
END:VEVENT
END:VCALENDAR