BEGIN:VCALENDAR
VERSION:2.0
PRODID:-//Brooks Memorial Library - Brattleboro VT - ECPv6.15.17.1//NONSGML v1.0//EN
CALSCALE:GREGORIAN
METHOD:PUBLISH
X-WR-CALNAME:Brooks Memorial Library - Brattleboro VT
X-ORIGINAL-URL:https://brookslibraryvt.org
X-WR-CALDESC:Events for Brooks Memorial Library - Brattleboro VT
REFRESH-INTERVAL;VALUE=DURATION:PT1H
X-Robots-Tag:noindex
X-PUBLISHED-TTL:PT1H
BEGIN:VTIMEZONE
TZID:America/New_York
BEGIN:DAYLIGHT
TZOFFSETFROM:-0500
TZOFFSETTO:-0400
TZNAME:EDT
DTSTART:20250309T070000
END:DAYLIGHT
BEGIN:STANDARD
TZOFFSETFROM:-0400
TZOFFSETTO:-0500
TZNAME:EST
DTSTART:20251102T060000
END:STANDARD
BEGIN:DAYLIGHT
TZOFFSETFROM:-0500
TZOFFSETTO:-0400
TZNAME:EDT
DTSTART:20260308T070000
END:DAYLIGHT
BEGIN:STANDARD
TZOFFSETFROM:-0400
TZOFFSETTO:-0500
TZNAME:EST
DTSTART:20261101T060000
END:STANDARD
BEGIN:DAYLIGHT
TZOFFSETFROM:-0500
TZOFFSETTO:-0400
TZNAME:EDT
DTSTART:20270314T070000
END:DAYLIGHT
BEGIN:STANDARD
TZOFFSETFROM:-0400
TZOFFSETTO:-0500
TZNAME:EST
DTSTART:20271107T060000
END:STANDARD
END:VTIMEZONE
BEGIN:VEVENT
DTSTART;TZID=America/New_York:20260316T190000
DTEND;TZID=America/New_York:20260316T203000
DTSTAMP:20260423T172503
CREATED:20260224T223228Z
LAST-MODIFIED:20260224T223229Z
UID:10004498-1773687600-1773693000@brookslibraryvt.org
SUMMARY:Sci-Fi Reading Group
DESCRIPTION:The Sci-Fi Reading Group will meet in the Quiet Reading Room from 7:00pm – 8:30pm to discuss The Only Harmless Great Thing by Brooke Bolander! \nIn the early years of the 20th century\, a group of female factory workers in Newark\, New Jersey slowly died of radiation poisoning. Around the same time\, an Indian elephant was deliberately put to death by electricity in Coney Island. These are the facts.Now these two tragedies are intertwined in a dark alternate history of rage\, radioactivity\, and injustice crying out to be righted. Prepare yourself for a wrenching journey that crosses eras\, chronicling histories of cruelty both grand and petty in search of meaning and justice. \nThe Sci-Fi Reading Group meets the third Monday of every month and is open to curious minds\, whether or not they’ve read this month’s selection.
URL:https://brookslibraryvt.org/event/sci-fi-reading-group-4-4/
LOCATION:Meeting Room D – Quiet Reading Room\, 224 Main Street\, Brattleboro\, VT\, 05301\, United States
CATEGORIES:Adults,General,Teens
ATTACH;FMTTYPE=image/png:https://eadn-wc04-3360218.nxedge.io/wp-content/uploads/2025/09/MAR26-Web-Icon.png
ORGANIZER;CN="Brooks Memorial Library":MAILTO:outreach@brookslibraryvt.org
GEO:42.8553213;-72.5599024
X-APPLE-STRUCTURED-LOCATION;VALUE=URI;X-ADDRESS=Meeting Room D – Quiet Reading Room 224 Main Street Brattleboro VT 05301 United States;X-APPLE-RADIUS=500;X-TITLE=224 Main Street:geo:-72.5599024,42.8553213
END:VEVENT
BEGIN:VEVENT
DTSTART;TZID=America/New_York:20260316T190000
DTEND;TZID=America/New_York:20260316T204500
DTSTAMP:20260423T172503
CREATED:20251227T171626Z
LAST-MODIFIED:20260126T225405Z
UID:10004567-1773687600-1773693900@brookslibraryvt.org
SUMMARY:Brattleboro Stamp Club
DESCRIPTION:Join the Brattleboro Stamp Club for all sorts of philatelic curios\, conversation\, and comradery!
URL:https://brookslibraryvt.org/event/brattleboro-stamp-club-5-2/2026-03-16/
LOCATION:Meeting Room A – Community Meeting Room\, 224 Main Street\, Brattleboro\, VT\, 05301\, United States
CATEGORIES:Adults,General
ATTACH;FMTTYPE=image/png:https://eadn-wc04-3360218.nxedge.io/wp-content/uploads/2022/04/Stamp-Club-Event.png
ORGANIZER;CN="Marshall Brooks%2C Stamp Club":MAILTO:marshallbrooks53@gmail.com
GEO:42.8553213;-72.5599024
X-APPLE-STRUCTURED-LOCATION;VALUE=URI;X-ADDRESS=Meeting Room A – Community Meeting Room 224 Main Street Brattleboro VT 05301 United States;X-APPLE-RADIUS=500;X-TITLE=224 Main Street:geo:-72.5599024,42.8553213
END:VEVENT
BEGIN:VEVENT
DTSTART;TZID=America/New_York:20260317T190000
DTEND;TZID=America/New_York:20260317T210000
DTSTAMP:20260423T172503
CREATED:20251231T161250Z
LAST-MODIFIED:20251231T172824Z
UID:10004771-1773774000-1773781200@brookslibraryvt.org
SUMMARY:SEVT Audubon Society
DESCRIPTION:Join South Eastern Vermont’s Audubon Society for a monthly program featuring nature and the environment. \nMarch’s Talk:  Feather Trails: A Journey of Discovery Among Endangered Birds – with Sophie A. H. Osborn \nPresentation Description: Birds are visible\, vocal sentinels that alert us to environmental harms through their declining numbers or their failure to thrive. In her book Feather Trails—A Journey of Discovery Among Endangered Birds\, Sophie Osborn shares her personal experiences reintroducing endangered Peregrine Falcons\, Hawaiian Crows\, and California Condors to the wild. While immersing readers in the triumphs and tribulations of being a wildlife biologist\, Sophie explores the threats that imperiled these birds\, and reveals that what harmed them threatens us\, too. She will discuss what led to the endangerment of these three captivating species\, recount the efforts of biologists to recover their populations\, and read a few excerpts from her book that describe what it was like to work with these magnificent birds. \nBiography: Sophie A. H. Osborn is an award-winning environmental writer and wildlife biologist whose work has included the study and conservation of more than a dozen bird species in the Americas. She contributed to reintroduction efforts for several endangered birds and served as the field manager for the California Condor Recovery Program in Arizona for four years. Her first book\, Condors in Canyon Country\, won the 2007 National Outdoor Book Award for Nature and the Environment. Reviewers for the American Birding Association (ABA) chose her second book\, Feather Trails\, as their favorite bird book of 2024. Sophie has written articles for BirdWatching\, Wyoming Wildlife\, and Sojourns magazines. Her writings are also available on her website and her “Words for Birds” Substack blog.
URL:https://brookslibraryvt.org/event/sevt-audubon-society-3-3/
LOCATION:Meeting Room A – Community Meeting Room\, 224 Main Street\, Brattleboro\, VT\, 05301\, United States
CATEGORIES:General
ATTACH;FMTTYPE=image/jpeg:https://eadn-wc04-3360218.nxedge.io/wp-content/uploads/2023/01/birds.jpg
ORGANIZER;CN="Hollie Bowen":MAILTO:HSB@sover.net
GEO:42.8553213;-72.5599024
X-APPLE-STRUCTURED-LOCATION;VALUE=URI;X-ADDRESS=Meeting Room A – Community Meeting Room 224 Main Street Brattleboro VT 05301 United States;X-APPLE-RADIUS=500;X-TITLE=224 Main Street:geo:-72.5599024,42.8553213
END:VEVENT
BEGIN:VEVENT
DTSTART;TZID=America/New_York:20260318T163000
DTEND;TZID=America/New_York:20260318T180000
DTSTAMP:20260423T172503
CREATED:20251204T202935Z
LAST-MODIFIED:20260124T175518Z
UID:10004796-1773851400-1773856800@brookslibraryvt.org
SUMMARY:Friends of the Library
DESCRIPTION:Monthly meeting of the Friends of the Library. Community attendance and commentary is welcome! \nFriends of the Library
URL:https://brookslibraryvt.org/event/friends-of-the-library-4/2026-03-18/
LOCATION:Meeting Room A – Community Meeting Room\, 224 Main Street\, Brattleboro\, VT\, 05301\, United States
CATEGORIES:General
ATTACH;FMTTYPE=image/png:https://eadn-wc04-3360218.nxedge.io/wp-content/uploads/2026/01/Friends-logo-3-2ratio.png
GEO:42.8553213;-72.5599024
X-APPLE-STRUCTURED-LOCATION;VALUE=URI;X-ADDRESS=Meeting Room A – Community Meeting Room 224 Main Street Brattleboro VT 05301 United States;X-APPLE-RADIUS=500;X-TITLE=224 Main Street:geo:-72.5599024,42.8553213
END:VEVENT
BEGIN:VEVENT
DTSTART;TZID=America/New_York:20260318T180000
DTEND;TZID=America/New_York:20260318T204500
DTSTAMP:20260423T172503
CREATED:20251210T213214Z
LAST-MODIFIED:20251210T213956Z
UID:10005012-1773856800-1773866700@brookslibraryvt.org
SUMMARY:Game Cafe!
DESCRIPTION:Come join game enthusiasts in playing Magic the Gathering in various formats (including Commander/EDH) as well as other fun and creative board & card games. \nBring your favorite games- All Ages Welcome!
URL:https://brookslibraryvt.org/event/game-cafe-6/2026-03-18/
LOCATION:Meeting Room D – Quiet Reading Room\, 224 Main Street\, Brattleboro\, VT\, 05301\, United States
CATEGORIES:Children & Families,General,Teens
ATTACH;FMTTYPE=image/webp:https://eadn-wc04-3360218.nxedge.io/wp-content/uploads/2022/07/pic163749.webp
GEO:42.8553213;-72.5599024
X-APPLE-STRUCTURED-LOCATION;VALUE=URI;X-ADDRESS=Meeting Room D – Quiet Reading Room 224 Main Street Brattleboro VT 05301 United States;X-APPLE-RADIUS=500;X-TITLE=224 Main Street:geo:-72.5599024,42.8553213
END:VEVENT
BEGIN:VEVENT
DTSTART;TZID=America/New_York:20260318T183000
DTEND;TZID=America/New_York:20260318T203000
DTSTAMP:20260423T172503
CREATED:20260113T192516Z
LAST-MODIFIED:20260318T153435Z
UID:10005223-1773858600-1773865800@brookslibraryvt.org
SUMMARY:Entrepreneurs of Brattleboro
DESCRIPTION:This is a regular gathering of entrepreneurs in Brattleboro & surrounding areas – for networking and connections.
URL:https://brookslibraryvt.org/event/entrepreneurs-of-brattleboro/2026-03-18/
LOCATION:Meeting Room A – Community Meeting Room\, 224 Main Street\, Brattleboro\, VT\, 05301\, United States
CATEGORIES:Adults,General
ATTACH;FMTTYPE=image/jpeg:https://eadn-wc04-3360218.nxedge.io/wp-content/uploads/2026/01/Entrepreneurs-of-Brattleboro-.jpg
ORGANIZER;CN="Entrepreneurs of Brattleboro":MAILTO:sheadedtint@gmail.com
GEO:42.8553213;-72.5599024
X-APPLE-STRUCTURED-LOCATION;VALUE=URI;X-ADDRESS=Meeting Room A – Community Meeting Room 224 Main Street Brattleboro VT 05301 United States;X-APPLE-RADIUS=500;X-TITLE=224 Main Street:geo:-72.5599024,42.8553213
END:VEVENT
BEGIN:VEVENT
DTSTART;TZID=America/New_York:20260319T150000
DTEND;TZID=America/New_York:20260319T170000
DTSTAMP:20260423T172503
CREATED:20251015T155243Z
LAST-MODIFIED:20260225T182424Z
UID:10004602-1773932400-1773939600@brookslibraryvt.org
SUMMARY:LEGO-Palooza Winter Session!
DESCRIPTION:Join us on Thursdays after school from 3-5pm to play with LEGOs! \nWe provide the LEGOs. You build. Do not bring your own LEGOs. \nChildren cannot keep LEGOs\, but if there is enough room\, we will display them in the window. \nFree and open to the public!
URL:https://brookslibraryvt.org/event/lego-palooza-winter-session-2/2026-03-19/
LOCATION:Meeting Room A – Community Meeting Room\, 224 Main Street\, Brattleboro\, VT\, 05301\, United States
CATEGORIES:Children & Families,General,Teens
ATTACH;FMTTYPE=image/png:https://eadn-wc04-3360218.nxedge.io/wp-content/uploads/2025/10/LEGO-palooza-Winter-Session-1536x864-1.png
ORGANIZER;CN="BML Children's Room":MAILTO:cr@brookslibraryvt.org
GEO:42.8553213;-72.5599024
X-APPLE-STRUCTURED-LOCATION;VALUE=URI;X-ADDRESS=Meeting Room A – Community Meeting Room 224 Main Street Brattleboro VT 05301 United States;X-APPLE-RADIUS=500;X-TITLE=224 Main Street:geo:-72.5599024,42.8553213
END:VEVENT
BEGIN:VEVENT
DTSTART;TZID=America/New_York:20260320T133000
DTEND;TZID=America/New_York:20260320T150000
DTSTAMP:20260423T172503
CREATED:20260316T174024Z
LAST-MODIFIED:20260318T153628Z
UID:10005462-1774013400-1774018800@brookslibraryvt.org
SUMMARY:Celebrating the Poetry of Robert Frost
DESCRIPTION:March 26 is the birthday of New England’s greatest poet\, and for that matter one of America’s greatest poets. As a long-time admirer of Robert Frost\, Raymond Clark will be performing twenty of Frost’s poems in the early twentieth-century dialect of coastal New Hampshire\, where he grew up and Frost once resided. Beginning with Frost’s favorite introduction to his collection of over 500 poems\, Clark will “Go out to clean the pasture spring.” and travel through the seasons until a crow shakes down on him\, “a dust of snow.” There will be time between each poem for interaction\, but the focus will be on the poems\, not the poet.
URL:https://brookslibraryvt.org/event/celebrating-the-poetry-of-robert-frost/
LOCATION:Meeting Room A – Community Meeting Room\, 224 Main Street\, Brattleboro\, VT\, 05301\, United States
CATEGORIES:Adults,General
ATTACH;FMTTYPE=image/jpeg:https://eadn-wc04-3360218.nxedge.io/wp-content/uploads/2026/03/RayClark.editted.jpg
GEO:42.8553213;-72.5599024
X-APPLE-STRUCTURED-LOCATION;VALUE=URI;X-ADDRESS=Meeting Room A – Community Meeting Room 224 Main Street Brattleboro VT 05301 United States;X-APPLE-RADIUS=500;X-TITLE=224 Main Street:geo:-72.5599024,42.8553213
END:VEVENT
BEGIN:VEVENT
DTSTART;TZID=America/New_York:20260320T153000
DTEND;TZID=America/New_York:20260320T173000
DTSTAMP:20260423T172503
CREATED:20260303T235640Z
LAST-MODIFIED:20260306T164110Z
UID:10005452-1774020600-1774027800@brookslibraryvt.org
SUMMARY:Atowi Project\, VT Conservation Plan Public Listening Session
DESCRIPTION:One of a statewide series of public listening sessions to raise awareness of and seek comment upon the development of the new VT Conservation Plan in fulfillment of 2023’s Act 59. Known as the Community Resilience and Biodiversity Protection Act\, it establishes a statewide framework for land conservation that advances biodiversity protection and supports resilient communities. The Act additionally establishes the goals of conserving 30% of Vermont by 2030 and 50% by 2050. The State of Vermont needs to hear from us about what priorities and actions we think should move to the top of the implementation list. \nLearn more here: https://vermontconservationplan.com/
URL:https://brookslibraryvt.org/event/atowi-project-vt-conservation-plan-public-listening-session/
LOCATION:Meeting Room A – Community Meeting Room\, 224 Main Street\, Brattleboro\, VT\, 05301\, United States
CATEGORIES:Adults,General
ATTACH;FMTTYPE=image/png:https://eadn-wc04-3360218.nxedge.io/wp-content/uploads/2026/03/Screenshot_2026-03-02_at_11.38.12-AM-e1772582534455.png
ORGANIZER;CN="Atowi Project":MAILTO:rich@atowi.org
GEO:42.8553213;-72.5599024
X-APPLE-STRUCTURED-LOCATION;VALUE=URI;X-ADDRESS=Meeting Room A – Community Meeting Room 224 Main Street Brattleboro VT 05301 United States;X-APPLE-RADIUS=500;X-TITLE=224 Main Street:geo:-72.5599024,42.8553213
END:VEVENT
BEGIN:VEVENT
DTSTART;TZID=America/New_York:20260321T103000
DTEND;TZID=America/New_York:20260321T120000
DTSTAMP:20260423T172503
CREATED:20260311T114241Z
LAST-MODIFIED:20260312T213406Z
UID:10005455-1774089000-1774094400@brookslibraryvt.org
SUMMARY:Amanda Janoo for Governor - Community Meet and Greet
DESCRIPTION:Come meet Amanda Janoo\, candidate for Governor of Vermont. Amanda is running because she believes this is a pivotal moment to take a courageous step toward transforming Vermont’s political and economic future. She is launching her campaign with a series of community meet-and-greets across the state to listen to Vermonters and hear their vision for our shared future. Together\, we are lifting up our shared values\, amplifying what unites and inspires us\, and building real resilience through stronger community connections.
URL:https://brookslibraryvt.org/event/amanda-janoo-for-governor-community-meet-and-greet/
LOCATION:Meeting Room A – Community Meeting Room\, 224 Main Street\, Brattleboro\, VT\, 05301\, United States
CATEGORIES:Adults,General
ATTACH;FMTTYPE=image/png:https://eadn-wc04-3360218.nxedge.io/wp-content/uploads/2026/03/Amanda_Janoo_Logo_2-1.png
ORGANIZER;CN="Amanda Janoo for Governor":MAILTO:katyhellman1@gmail.com
GEO:42.8553213;-72.5599024
X-APPLE-STRUCTURED-LOCATION;VALUE=URI;X-ADDRESS=Meeting Room A – Community Meeting Room 224 Main Street Brattleboro VT 05301 United States;X-APPLE-RADIUS=500;X-TITLE=224 Main Street:geo:-72.5599024,42.8553213
END:VEVENT
BEGIN:VEVENT
DTSTART;TZID=America/New_York:20260321T130000
DTEND;TZID=America/New_York:20260321T160000
DTSTAMP:20260423T172503
CREATED:20250103T195250Z
LAST-MODIFIED:20251204T220811Z
UID:10004926-1774098000-1774108800@brookslibraryvt.org
SUMMARY:Brattleboro in Stitches
DESCRIPTION:Bring a work in progress to sew\, knit\, crochet\, embroider\, or mend. Sewing machines\, irons\, and companionship will be provided.
URL:https://brookslibraryvt.org/event/brattleboro-in-stitches-6/2026-03-21/
LOCATION:Meeting Room A – Community Meeting Room\, 224 Main Street\, Brattleboro\, VT\, 05301\, United States
CATEGORIES:Adults,Children & Families,General
ATTACH;FMTTYPE=image/png:https://eadn-wc04-3360218.nxedge.io/wp-content/uploads/2023/03/Brattleboro-in-Stitches-Event-Calendar2.png
ORGANIZER;CN="Brooks Memorial Library":MAILTO:outreach@brookslibraryvt.org
GEO:42.8553213;-72.5599024
X-APPLE-STRUCTURED-LOCATION;VALUE=URI;X-ADDRESS=Meeting Room A – Community Meeting Room 224 Main Street Brattleboro VT 05301 United States;X-APPLE-RADIUS=500;X-TITLE=224 Main Street:geo:-72.5599024,42.8553213
END:VEVENT
END:VCALENDAR