BEGIN:VCALENDAR
VERSION:2.0
PRODID:-//Brooks Memorial Library - Brattleboro VT - ECPv6.15.17.1//NONSGML v1.0//EN
CALSCALE:GREGORIAN
METHOD:PUBLISH
X-WR-CALNAME:Brooks Memorial Library - Brattleboro VT
X-ORIGINAL-URL:https://brookslibraryvt.org
X-WR-CALDESC:Events for Brooks Memorial Library - Brattleboro VT
REFRESH-INTERVAL;VALUE=DURATION:PT1H
X-Robots-Tag:noindex
X-PUBLISHED-TTL:PT1H
BEGIN:VTIMEZONE
TZID:America/New_York
BEGIN:DAYLIGHT
TZOFFSETFROM:-0500
TZOFFSETTO:-0400
TZNAME:EDT
DTSTART:20250309T070000
END:DAYLIGHT
BEGIN:STANDARD
TZOFFSETFROM:-0400
TZOFFSETTO:-0500
TZNAME:EST
DTSTART:20251102T060000
END:STANDARD
BEGIN:DAYLIGHT
TZOFFSETFROM:-0500
TZOFFSETTO:-0400
TZNAME:EDT
DTSTART:20260308T070000
END:DAYLIGHT
BEGIN:STANDARD
TZOFFSETFROM:-0400
TZOFFSETTO:-0500
TZNAME:EST
DTSTART:20261101T060000
END:STANDARD
BEGIN:DAYLIGHT
TZOFFSETFROM:-0500
TZOFFSETTO:-0400
TZNAME:EDT
DTSTART:20270314T070000
END:DAYLIGHT
BEGIN:STANDARD
TZOFFSETFROM:-0400
TZOFFSETTO:-0500
TZNAME:EST
DTSTART:20271107T060000
END:STANDARD
END:VTIMEZONE
BEGIN:VEVENT
DTSTART;TZID=America/New_York:20260518T190000
DTEND;TZID=America/New_York:20260518T204500
DTSTAMP:20260423T155413
CREATED:20251227T171626Z
LAST-MODIFIED:20260126T225405Z
UID:10004569-1779130800-1779137100@brookslibraryvt.org
SUMMARY:Brattleboro Stamp Club
DESCRIPTION:Join the Brattleboro Stamp Club for all sorts of philatelic curios\, conversation\, and comradery!
URL:https://brookslibraryvt.org/event/brattleboro-stamp-club-5-2/2026-05-18/
LOCATION:Meeting Room A – Community Meeting Room\, 224 Main Street\, Brattleboro\, VT\, 05301\, United States
CATEGORIES:Adults,General
ATTACH;FMTTYPE=image/png:https://eadn-wc04-3360218.nxedge.io/wp-content/uploads/2022/04/Stamp-Club-Event.png
ORGANIZER;CN="Marshall Brooks%2C Stamp Club":MAILTO:marshallbrooks53@gmail.com
GEO:42.8553213;-72.5599024
X-APPLE-STRUCTURED-LOCATION;VALUE=URI;X-ADDRESS=Meeting Room A – Community Meeting Room 224 Main Street Brattleboro VT 05301 United States;X-APPLE-RADIUS=500;X-TITLE=224 Main Street:geo:-72.5599024,42.8553213
END:VEVENT
BEGIN:VEVENT
DTSTART;TZID=America/New_York:20260519T133000
DTEND;TZID=America/New_York:20260519T150000
DTSTAMP:20260423T155413
CREATED:20260324T172116Z
LAST-MODIFIED:20260324T173356Z
UID:10005492-1779197400-1779202800@brookslibraryvt.org
SUMMARY:Art & Exploration at the Library - Creating Cyanotype Art
DESCRIPTION:Join teaching artist\, Evie Lovett\, for this free 6-week book exploration and art-making course for learners ages 60+. Participants will have the opportunity to explore books on a variety of themes and create cyanotype art in response to those themes. Cyanotype is a process of making photographs with the sun or UV light. This course is perfect for participants new to creating art and interested in a social book club experience. Supplies provided. Registration is required; stop by or call the Circulation Desk at (802) 254-5290.  Or\, you can email: outreach@brookslibraryvt.org
URL:https://brookslibraryvt.org/event/art-exploration-at-the-library-creating-cyanotype-art/2026-05-19/
LOCATION:Meeting Room A – Community Meeting Room\, 224 Main Street\, Brattleboro\, VT\, 05301\, United States
CATEGORIES:Adults,General
ATTACH;FMTTYPE=image/png:https://eadn-wc04-3360218.nxedge.io/wp-content/uploads/2026/03/Copy-of-Copy-of-Colorful-Playful-Illustrative-Book-Fair-Invitation-Flyer-Facebook-Post-1.png
GEO:42.8553213;-72.5599024
X-APPLE-STRUCTURED-LOCATION;VALUE=URI;X-ADDRESS=Meeting Room A – Community Meeting Room 224 Main Street Brattleboro VT 05301 United States;X-APPLE-RADIUS=500;X-TITLE=224 Main Street:geo:-72.5599024,42.8553213
END:VEVENT
BEGIN:VEVENT
DTSTART;TZID=America/New_York:20260519T190000
DTEND;TZID=America/New_York:20260519T210000
DTSTAMP:20260423T155413
CREATED:20251204T190033Z
LAST-MODIFIED:20251231T161721Z
UID:10004773-1779217200-1779224400@brookslibraryvt.org
SUMMARY:SEVT Audubon Society
DESCRIPTION:Join South Eastern Vermont’s Audubon Society for a monthly program featuring nature and the environment.
URL:https://brookslibraryvt.org/event/sevt-audubon-society-3/2026-05-19/
LOCATION:Meeting Room A – Community Meeting Room\, 224 Main Street\, Brattleboro\, VT\, 05301\, United States
CATEGORIES:General
ATTACH;FMTTYPE=image/jpeg:https://eadn-wc04-3360218.nxedge.io/wp-content/uploads/2023/01/birds.jpg
ORGANIZER;CN="Hollie Bowen":MAILTO:HSB@sover.net
GEO:42.8553213;-72.5599024
X-APPLE-STRUCTURED-LOCATION;VALUE=URI;X-ADDRESS=Meeting Room A – Community Meeting Room 224 Main Street Brattleboro VT 05301 United States;X-APPLE-RADIUS=500;X-TITLE=224 Main Street:geo:-72.5599024,42.8553213
END:VEVENT
BEGIN:VEVENT
DTSTART;TZID=America/New_York:20260520T163000
DTEND;TZID=America/New_York:20260520T180000
DTSTAMP:20260423T155413
CREATED:20260321T153352Z
LAST-MODIFIED:20260321T153531Z
UID:10004798-1779294600-1779300000@brookslibraryvt.org
SUMMARY:Friends of the Library Annual Meeting
DESCRIPTION:Annual meeting of the Friends of the Library. Community attendance and commentary is welcome! \nFriends of the Library
URL:https://brookslibraryvt.org/event/friends-of-the-library-4-2/
LOCATION:Meeting Room A – Community Meeting Room\, 224 Main Street\, Brattleboro\, VT\, 05301\, United States
CATEGORIES:General
ATTACH;FMTTYPE=image/png:https://eadn-wc04-3360218.nxedge.io/wp-content/uploads/2026/01/Friends-logo-3-2ratio.png
GEO:42.8553213;-72.5599024
X-APPLE-STRUCTURED-LOCATION;VALUE=URI;X-ADDRESS=Meeting Room A – Community Meeting Room 224 Main Street Brattleboro VT 05301 United States;X-APPLE-RADIUS=500;X-TITLE=224 Main Street:geo:-72.5599024,42.8553213
END:VEVENT
BEGIN:VEVENT
DTSTART;TZID=America/New_York:20260520T180000
DTEND;TZID=America/New_York:20260520T204500
DTSTAMP:20260423T155413
CREATED:20251210T213214Z
LAST-MODIFIED:20251210T213956Z
UID:10005021-1779300000-1779309900@brookslibraryvt.org
SUMMARY:Game Cafe!
DESCRIPTION:Come join game enthusiasts in playing Magic the Gathering in various formats (including Commander/EDH) as well as other fun and creative board & card games. \nBring your favorite games- All Ages Welcome!
URL:https://brookslibraryvt.org/event/game-cafe-6/2026-05-20/
LOCATION:Meeting Room D – Quiet Reading Room\, 224 Main Street\, Brattleboro\, VT\, 05301\, United States
CATEGORIES:Children & Families,General,Teens
ATTACH;FMTTYPE=image/webp:https://eadn-wc04-3360218.nxedge.io/wp-content/uploads/2022/07/pic163749.webp
GEO:42.8553213;-72.5599024
X-APPLE-STRUCTURED-LOCATION;VALUE=URI;X-ADDRESS=Meeting Room D – Quiet Reading Room 224 Main Street Brattleboro VT 05301 United States;X-APPLE-RADIUS=500;X-TITLE=224 Main Street:geo:-72.5599024,42.8553213
END:VEVENT
BEGIN:VEVENT
DTSTART;TZID=America/New_York:20260523T110000
DTEND;TZID=America/New_York:20260523T120000
DTSTAMP:20260423T155413
CREATED:20251210T203822Z
LAST-MODIFIED:20251210T204310Z
UID:10004996-1779534000-1779537600@brookslibraryvt.org
SUMMARY:SilverCircus - by NECCA
DESCRIPTION:Strengthen balance and build social connection\, all while playing and connecting to your inner child with SilverCircus by the New England Center for Circus Arts (NECCA). These circus classes are designed for older adults and are welcome to all mobility and cognitive levels. We will work with each student where they are at\, while fostering a supportive and playful group dynamic. Activities will challenge the brain and the body\, and will be scaled up and down to be the perfect challenge for each participant.\nIt is not too late to join the circus! Join us at Brattleboro Memorial Library at 11am on the 2nd and 4th Saturdays in January through May (01/10\, 01/24\, 02/14\, 02/28\, 03/14\, 03/28\, 04/11\, 04/25\, 05/09\, and 05/23).
URL:https://brookslibraryvt.org/event/silvercircus-by-necca-2/2026-05-23/
LOCATION:Meeting Room A – Community Meeting Room\, 224 Main Street\, Brattleboro\, VT\, 05301\, United States
CATEGORIES:Adults,General
ATTACH;FMTTYPE=image/png:https://eadn-wc04-3360218.nxedge.io/wp-content/uploads/2025/12/Copy-of-Copy-of-SilverCircus-Changes-Event-Flyer-Template-1-LinkedIn-Post-1.png
ORGANIZER;CN="NECCA":MAILTO:info@necenterforcircusarts.org
GEO:42.8553213;-72.5599024
X-APPLE-STRUCTURED-LOCATION;VALUE=URI;X-ADDRESS=Meeting Room A – Community Meeting Room 224 Main Street Brattleboro VT 05301 United States;X-APPLE-RADIUS=500;X-TITLE=224 Main Street:geo:-72.5599024,42.8553213
END:VEVENT
BEGIN:VEVENT
DTSTART;TZID=America/New_York:20260523T130000
DTEND;TZID=America/New_York:20260523T160000
DTSTAMP:20260423T155413
CREATED:20250103T195250Z
LAST-MODIFIED:20251204T220811Z
UID:10004935-1779541200-1779552000@brookslibraryvt.org
SUMMARY:Brattleboro in Stitches
DESCRIPTION:Bring a work in progress to sew\, knit\, crochet\, embroider\, or mend. Sewing machines\, irons\, and companionship will be provided.
URL:https://brookslibraryvt.org/event/brattleboro-in-stitches-6/2026-05-23/
LOCATION:Meeting Room A – Community Meeting Room\, 224 Main Street\, Brattleboro\, VT\, 05301\, United States
CATEGORIES:Adults,Children & Families,General
ATTACH;FMTTYPE=image/png:https://eadn-wc04-3360218.nxedge.io/wp-content/uploads/2023/03/Brattleboro-in-Stitches-Event-Calendar2.png
ORGANIZER;CN="Brooks Memorial Library":MAILTO:outreach@brookslibraryvt.org
GEO:42.8553213;-72.5599024
X-APPLE-STRUCTURED-LOCATION;VALUE=URI;X-ADDRESS=Meeting Room A – Community Meeting Room 224 Main Street Brattleboro VT 05301 United States;X-APPLE-RADIUS=500;X-TITLE=224 Main Street:geo:-72.5599024,42.8553213
END:VEVENT
END:VCALENDAR