BEGIN:VCALENDAR
VERSION:2.0
PRODID:-//Brooks Memorial Library - Brattleboro VT - ECPv6.15.17.1//NONSGML v1.0//EN
CALSCALE:GREGORIAN
METHOD:PUBLISH
X-WR-CALNAME:Brooks Memorial Library - Brattleboro VT
X-ORIGINAL-URL:https://brookslibraryvt.org
X-WR-CALDESC:Events for Brooks Memorial Library - Brattleboro VT
REFRESH-INTERVAL;VALUE=DURATION:PT1H
X-Robots-Tag:noindex
X-PUBLISHED-TTL:PT1H
BEGIN:VTIMEZONE
TZID:America/New_York
BEGIN:DAYLIGHT
TZOFFSETFROM:-0500
TZOFFSETTO:-0400
TZNAME:EDT
DTSTART:20250309T070000
END:DAYLIGHT
BEGIN:STANDARD
TZOFFSETFROM:-0400
TZOFFSETTO:-0500
TZNAME:EST
DTSTART:20251102T060000
END:STANDARD
BEGIN:DAYLIGHT
TZOFFSETFROM:-0500
TZOFFSETTO:-0400
TZNAME:EDT
DTSTART:20260308T070000
END:DAYLIGHT
BEGIN:STANDARD
TZOFFSETFROM:-0400
TZOFFSETTO:-0500
TZNAME:EST
DTSTART:20261101T060000
END:STANDARD
BEGIN:DAYLIGHT
TZOFFSETFROM:-0500
TZOFFSETTO:-0400
TZNAME:EDT
DTSTART:20270314T070000
END:DAYLIGHT
BEGIN:STANDARD
TZOFFSETFROM:-0400
TZOFFSETTO:-0500
TZNAME:EST
DTSTART:20271107T060000
END:STANDARD
END:VTIMEZONE
BEGIN:VEVENT
DTSTART;TZID=America/New_York:20260615T190000
DTEND;TZID=America/New_York:20260615T204500
DTSTAMP:20260423T173735
CREATED:20251227T171626Z
LAST-MODIFIED:20260126T225405Z
UID:10004570-1781550000-1781556300@brookslibraryvt.org
SUMMARY:Brattleboro Stamp Club
DESCRIPTION:Join the Brattleboro Stamp Club for all sorts of philatelic curios\, conversation\, and comradery!
URL:https://brookslibraryvt.org/event/brattleboro-stamp-club-5-2/2026-06-15/
LOCATION:Meeting Room A – Community Meeting Room\, 224 Main Street\, Brattleboro\, VT\, 05301\, United States
CATEGORIES:Adults,General
ATTACH;FMTTYPE=image/png:https://eadn-wc04-3360218.nxedge.io/wp-content/uploads/2022/04/Stamp-Club-Event.png
ORGANIZER;CN="Marshall Brooks%2C Stamp Club":MAILTO:marshallbrooks53@gmail.com
GEO:42.8553213;-72.5599024
X-APPLE-STRUCTURED-LOCATION;VALUE=URI;X-ADDRESS=Meeting Room A – Community Meeting Room 224 Main Street Brattleboro VT 05301 United States;X-APPLE-RADIUS=500;X-TITLE=224 Main Street:geo:-72.5599024,42.8553213
END:VEVENT
BEGIN:VEVENT
DTSTART;TZID=America/New_York:20260616T110000
DTEND;TZID=America/New_York:20260616T120000
DTSTAMP:20260423T173735
CREATED:20260323T183402Z
LAST-MODIFIED:20260323T183402Z
UID:10005487-1781607600-1781611200@brookslibraryvt.org
SUMMARY:Medicare 101: Medicare Educational Seminar
DESCRIPTION:Medicare 101: An Educational Seminar on Medicare. What is Medicare and when do you sign up. Presented by Blue Cross and Blue Sheild of Vermont.
URL:https://brookslibraryvt.org/event/medicare-101-medicare-educational-seminar/
LOCATION:Meeting Room A – Community Meeting Room\, 224 Main Street\, Brattleboro\, VT\, 05301\, United States
CATEGORIES:Adults,General
ORGANIZER;CN="Blue Cross & Blue Sheild of Vermont":MAILTO:consumersupport@bcbsvt.com
GEO:42.8553213;-72.5599024
X-APPLE-STRUCTURED-LOCATION;VALUE=URI;X-ADDRESS=Meeting Room A – Community Meeting Room 224 Main Street Brattleboro VT 05301 United States;X-APPLE-RADIUS=500;X-TITLE=224 Main Street:geo:-72.5599024,42.8553213
END:VEVENT
BEGIN:VEVENT
DTSTART;TZID=America/New_York:20260616T190000
DTEND;TZID=America/New_York:20260616T210000
DTSTAMP:20260423T173735
CREATED:20251204T190033Z
LAST-MODIFIED:20251231T161721Z
UID:10004774-1781636400-1781643600@brookslibraryvt.org
SUMMARY:SEVT Audubon Society
DESCRIPTION:Join South Eastern Vermont’s Audubon Society for a monthly program featuring nature and the environment.
URL:https://brookslibraryvt.org/event/sevt-audubon-society-3/2026-06-16/
LOCATION:Meeting Room A – Community Meeting Room\, 224 Main Street\, Brattleboro\, VT\, 05301\, United States
CATEGORIES:General
ATTACH;FMTTYPE=image/jpeg:https://eadn-wc04-3360218.nxedge.io/wp-content/uploads/2023/01/birds.jpg
ORGANIZER;CN="Hollie Bowen":MAILTO:HSB@sover.net
GEO:42.8553213;-72.5599024
X-APPLE-STRUCTURED-LOCATION;VALUE=URI;X-ADDRESS=Meeting Room A – Community Meeting Room 224 Main Street Brattleboro VT 05301 United States;X-APPLE-RADIUS=500;X-TITLE=224 Main Street:geo:-72.5599024,42.8553213
END:VEVENT
BEGIN:VEVENT
DTSTART;TZID=America/New_York:20260617T163000
DTEND;TZID=America/New_York:20260617T180000
DTSTAMP:20260423T173735
CREATED:20251204T202935Z
LAST-MODIFIED:20260124T175518Z
UID:10004799-1781713800-1781719200@brookslibraryvt.org
SUMMARY:Friends of the Library
DESCRIPTION:Monthly meeting of the Friends of the Library. Community attendance and commentary is welcome! \nFriends of the Library
URL:https://brookslibraryvt.org/event/friends-of-the-library-4/2026-06-17/
LOCATION:Meeting Room A – Community Meeting Room\, 224 Main Street\, Brattleboro\, VT\, 05301\, United States
CATEGORIES:General
ATTACH;FMTTYPE=image/png:https://eadn-wc04-3360218.nxedge.io/wp-content/uploads/2026/01/Friends-logo-3-2ratio.png
GEO:42.8553213;-72.5599024
X-APPLE-STRUCTURED-LOCATION;VALUE=URI;X-ADDRESS=Meeting Room A – Community Meeting Room 224 Main Street Brattleboro VT 05301 United States;X-APPLE-RADIUS=500;X-TITLE=224 Main Street:geo:-72.5599024,42.8553213
END:VEVENT
BEGIN:VEVENT
DTSTART;TZID=America/New_York:20260617T180000
DTEND;TZID=America/New_York:20260617T204500
DTSTAMP:20260423T173735
CREATED:20251210T213214Z
LAST-MODIFIED:20251210T213956Z
UID:10005025-1781719200-1781729100@brookslibraryvt.org
SUMMARY:Game Cafe!
DESCRIPTION:Come join game enthusiasts in playing Magic the Gathering in various formats (including Commander/EDH) as well as other fun and creative board & card games. \nBring your favorite games- All Ages Welcome!
URL:https://brookslibraryvt.org/event/game-cafe-6/2026-06-17/
LOCATION:Meeting Room D – Quiet Reading Room\, 224 Main Street\, Brattleboro\, VT\, 05301\, United States
CATEGORIES:Children & Families,General,Teens
ATTACH;FMTTYPE=image/webp:https://eadn-wc04-3360218.nxedge.io/wp-content/uploads/2022/07/pic163749.webp
GEO:42.8553213;-72.5599024
X-APPLE-STRUCTURED-LOCATION;VALUE=URI;X-ADDRESS=Meeting Room D – Quiet Reading Room 224 Main Street Brattleboro VT 05301 United States;X-APPLE-RADIUS=500;X-TITLE=224 Main Street:geo:-72.5599024,42.8553213
END:VEVENT
BEGIN:VEVENT
DTSTART;TZID=America/New_York:20260619T100000
DTEND;TZID=America/New_York:20260619T210000
DTSTAMP:20260423T173735
CREATED:20241002T173942Z
LAST-MODIFIED:20241002T173942Z
UID:10003420-1781863200-1781902800@brookslibraryvt.org
SUMMARY:LIBRARY CLOSED
DESCRIPTION:The library will be closed on June 19th in observation of Juneteenth.
URL:https://brookslibraryvt.org/event/library-closed-24/2026-06-19/
LOCATION:Brooks Memorial Library\, 224 Main Street\, Brattleboro\, VT\, 05301\, United States
CATEGORIES:General
ATTACH;FMTTYPE=image/png:https://eadn-wc04-3360218.nxedge.io/wp-content/uploads/2023/11/Library-Closed.png
ORGANIZER;CN="Brooks Memorial Library":MAILTO:outreach@brookslibraryvt.org
GEO:42.8553213;-72.5599024
X-APPLE-STRUCTURED-LOCATION;VALUE=URI;X-ADDRESS=Brooks Memorial Library 224 Main Street Brattleboro VT 05301 United States;X-APPLE-RADIUS=500;X-TITLE=224 Main Street:geo:-72.5599024,42.8553213
END:VEVENT
BEGIN:VEVENT
DTSTART;TZID=America/New_York:20260620T130000
DTEND;TZID=America/New_York:20260620T160000
DTSTAMP:20260423T173735
CREATED:20250103T195250Z
LAST-MODIFIED:20251204T220811Z
UID:10004939-1781960400-1781971200@brookslibraryvt.org
SUMMARY:Brattleboro in Stitches
DESCRIPTION:Bring a work in progress to sew\, knit\, crochet\, embroider\, or mend. Sewing machines\, irons\, and companionship will be provided.
URL:https://brookslibraryvt.org/event/brattleboro-in-stitches-6/2026-06-20/
LOCATION:Meeting Room A – Community Meeting Room\, 224 Main Street\, Brattleboro\, VT\, 05301\, United States
CATEGORIES:Adults,Children & Families,General
ATTACH;FMTTYPE=image/png:https://eadn-wc04-3360218.nxedge.io/wp-content/uploads/2023/03/Brattleboro-in-Stitches-Event-Calendar2.png
ORGANIZER;CN="Brooks Memorial Library":MAILTO:outreach@brookslibraryvt.org
GEO:42.8553213;-72.5599024
X-APPLE-STRUCTURED-LOCATION;VALUE=URI;X-ADDRESS=Meeting Room A – Community Meeting Room 224 Main Street Brattleboro VT 05301 United States;X-APPLE-RADIUS=500;X-TITLE=224 Main Street:geo:-72.5599024,42.8553213
END:VEVENT
END:VCALENDAR