BEGIN:VCALENDAR
VERSION:2.0
PRODID:-//Brooks Memorial Library - Brattleboro VT - ECPv6.15.17.1//NONSGML v1.0//EN
CALSCALE:GREGORIAN
METHOD:PUBLISH
X-ORIGINAL-URL:https://brookslibraryvt.org
X-WR-CALDESC:Events for Brooks Memorial Library - Brattleboro VT
REFRESH-INTERVAL;VALUE=DURATION:PT1H
X-Robots-Tag:noindex
X-PUBLISHED-TTL:PT1H
BEGIN:VTIMEZONE
TZID:America/New_York
BEGIN:DAYLIGHT
TZOFFSETFROM:-0500
TZOFFSETTO:-0400
TZNAME:EDT
DTSTART:20250309T070000
END:DAYLIGHT
BEGIN:STANDARD
TZOFFSETFROM:-0400
TZOFFSETTO:-0500
TZNAME:EST
DTSTART:20251102T060000
END:STANDARD
BEGIN:DAYLIGHT
TZOFFSETFROM:-0500
TZOFFSETTO:-0400
TZNAME:EDT
DTSTART:20260308T070000
END:DAYLIGHT
BEGIN:STANDARD
TZOFFSETFROM:-0400
TZOFFSETTO:-0500
TZNAME:EST
DTSTART:20261101T060000
END:STANDARD
BEGIN:DAYLIGHT
TZOFFSETFROM:-0500
TZOFFSETTO:-0400
TZNAME:EDT
DTSTART:20270314T070000
END:DAYLIGHT
BEGIN:STANDARD
TZOFFSETFROM:-0400
TZOFFSETTO:-0500
TZNAME:EST
DTSTART:20271107T060000
END:STANDARD
END:VTIMEZONE
BEGIN:VEVENT
DTSTART;TZID=America/New_York:20260701T180000
DTEND;TZID=America/New_York:20260701T204500
DTSTAMP:20260423T134906
CREATED:20251210T213214Z
LAST-MODIFIED:20251210T213956Z
UID:10005027-1782928800-1782938700@brookslibraryvt.org
SUMMARY:Game Cafe!
DESCRIPTION:Come join game enthusiasts in playing Magic the Gathering in various formats (including Commander/EDH) as well as other fun and creative board & card games. \nBring your favorite games- All Ages Welcome!
URL:https://brookslibraryvt.org/event/game-cafe-6/2026-07-01/
LOCATION:Meeting Room D – Quiet Reading Room\, 224 Main Street\, Brattleboro\, VT\, 05301\, United States
CATEGORIES:Children & Families,General,Teens
ATTACH;FMTTYPE=image/webp:https://eadn-wc04-3360218.nxedge.io/wp-content/uploads/2022/07/pic163749.webp
GEO:42.8553213;-72.5599024
X-APPLE-STRUCTURED-LOCATION;VALUE=URI;X-ADDRESS=Meeting Room D – Quiet Reading Room 224 Main Street Brattleboro VT 05301 United States;X-APPLE-RADIUS=500;X-TITLE=224 Main Street:geo:-72.5599024,42.8553213
END:VEVENT
BEGIN:VEVENT
DTSTART;TZID=America/New_York:20260701T190000
DTEND;TZID=America/New_York:20260701T210000
DTSTAMP:20260423T134906
CREATED:20260121T192249Z
LAST-MODIFIED:20260121T192720Z
UID:10005235-1782932400-1782939600@brookslibraryvt.org
SUMMARY:Teen Movie Night - TBA
DESCRIPTION:The Teen Advisory Board invites you to the first of our Summer series of Teens Only movie nights! \n\nMovie title TBA. \n\nThe movie will start at 7pm. Snacks and comfy chairs provided!
URL:https://brookslibraryvt.org/event/teen-movie-night-the-adventures-of-priscilla-queen-of-the-desert/
LOCATION:Brooks Memorial Library\, 224 Main Street\, Brattleboro\, VT\, 05301\, United States
CATEGORIES:Teens
ATTACH;FMTTYPE=image/png:https://eadn-wc04-3360218.nxedge.io/wp-content/uploads/2025/05/Teen-Movie-Night3.png
ORGANIZER;CN="Teen Advisory Board":MAILTO:teens@brookslibraryvt.org
GEO:42.8553213;-72.5599024
X-APPLE-STRUCTURED-LOCATION;VALUE=URI;X-ADDRESS=Brooks Memorial Library 224 Main Street Brattleboro VT 05301 United States;X-APPLE-RADIUS=500;X-TITLE=224 Main Street:geo:-72.5599024,42.8553213
END:VEVENT
BEGIN:VEVENT
DTSTART;TZID=America/New_York:20260706T190000
DTEND;TZID=America/New_York:20260706T210000
DTSTAMP:20260423T134906
CREATED:20251210T195740Z
LAST-MODIFIED:20251210T195740Z
UID:10004980-1783364400-1783371600@brookslibraryvt.org
SUMMARY:Brattleboro Great Books Group
DESCRIPTION:Monthly discussion of “Great Books”
URL:https://brookslibraryvt.org/event/brattleboro-great-books-group-4/2026-07-06/
LOCATION:Meeting Room D – Quiet Reading Room\, 224 Main Street\, Brattleboro\, VT\, 05301\, United States
CATEGORIES:General,Teens
ATTACH;FMTTYPE=image/jpeg:https://eadn-wc04-3360218.nxedge.io/wp-content/uploads/2022/10/books.jpg
ORGANIZER;CN="Great Books - Michael Landis":MAILTO:emagicmtman@gmail.com
GEO:42.8553213;-72.5599024
X-APPLE-STRUCTURED-LOCATION;VALUE=URI;X-ADDRESS=Meeting Room D – Quiet Reading Room 224 Main Street Brattleboro VT 05301 United States;X-APPLE-RADIUS=500;X-TITLE=224 Main Street:geo:-72.5599024,42.8553213
END:VEVENT
BEGIN:VEVENT
DTSTART;TZID=America/New_York:20260708T180000
DTEND;TZID=America/New_York:20260708T204500
DTSTAMP:20260423T134906
CREATED:20251210T213214Z
LAST-MODIFIED:20251210T213956Z
UID:10005028-1783533600-1783543500@brookslibraryvt.org
SUMMARY:Game Cafe!
DESCRIPTION:Come join game enthusiasts in playing Magic the Gathering in various formats (including Commander/EDH) as well as other fun and creative board & card games. \nBring your favorite games- All Ages Welcome!
URL:https://brookslibraryvt.org/event/game-cafe-6/2026-07-08/
LOCATION:Meeting Room D – Quiet Reading Room\, 224 Main Street\, Brattleboro\, VT\, 05301\, United States
CATEGORIES:Children & Families,General,Teens
ATTACH;FMTTYPE=image/webp:https://eadn-wc04-3360218.nxedge.io/wp-content/uploads/2022/07/pic163749.webp
GEO:42.8553213;-72.5599024
X-APPLE-STRUCTURED-LOCATION;VALUE=URI;X-ADDRESS=Meeting Room D – Quiet Reading Room 224 Main Street Brattleboro VT 05301 United States;X-APPLE-RADIUS=500;X-TITLE=224 Main Street:geo:-72.5599024,42.8553213
END:VEVENT
BEGIN:VEVENT
DTSTART;TZID=America/New_York:20260708T183000
DTEND;TZID=America/New_York:20260708T203000
DTSTAMP:20260423T134906
CREATED:20260121T193210Z
LAST-MODIFIED:20260121T193212Z
UID:10005236-1783535400-1783542600@brookslibraryvt.org
SUMMARY:Teen Movie Night - TBA
DESCRIPTION:The Teen Advisory Board invites you to the second of our Summer series of Teens Only movie nights! \n\nMovie title TBA. \n\nThe movie will start at 7pm. Snacks and comfy chairs provided!
URL:https://brookslibraryvt.org/event/teen-movie-night-the-adventures-of-priscilla-queen-of-the-desert-2/
LOCATION:Brooks Memorial Library\, 224 Main Street\, Brattleboro\, VT\, 05301\, United States
CATEGORIES:Teens
ATTACH;FMTTYPE=image/png:https://eadn-wc04-3360218.nxedge.io/wp-content/uploads/2025/05/Teen-Movie-Night3.png
ORGANIZER;CN="Teen Advisory Board":MAILTO:teens@brookslibraryvt.org
GEO:42.8553213;-72.5599024
X-APPLE-STRUCTURED-LOCATION;VALUE=URI;X-ADDRESS=Brooks Memorial Library 224 Main Street Brattleboro VT 05301 United States;X-APPLE-RADIUS=500;X-TITLE=224 Main Street:geo:-72.5599024,42.8553213
END:VEVENT
BEGIN:VEVENT
DTSTART;TZID=America/New_York:20260714T163000
DTEND;TZID=America/New_York:20260714T180000
DTSTAMP:20260423T134906
CREATED:20251204T185227Z
LAST-MODIFIED:20251204T185227Z
UID:10004761-1784046600-1784052000@brookslibraryvt.org
SUMMARY:Library Board of Trustees
DESCRIPTION:Monthly meeting of the Brooks Memorial Library Board of Trustees. Citizen attendance and commentary welcome! \nBoard of Trustees
URL:https://brookslibraryvt.org/event/library-board-of-trustees-6/2026-07-14/
LOCATION:Meeting Room A – Community Meeting Room\, 224 Main Street\, Brattleboro\, VT\, 05301\, United States
CATEGORIES:General,Teens
ATTACH;FMTTYPE=image/png:https://eadn-wc04-3360218.nxedge.io/wp-content/uploads/2023/01/BML-medium-logo.png
ORGANIZER;CN="Brooks Memorial Library":MAILTO:outreach@brookslibraryvt.org
GEO:42.8553213;-72.5599024
X-APPLE-STRUCTURED-LOCATION;VALUE=URI;X-ADDRESS=Meeting Room A – Community Meeting Room 224 Main Street Brattleboro VT 05301 United States;X-APPLE-RADIUS=500;X-TITLE=224 Main Street:geo:-72.5599024,42.8553213
END:VEVENT
BEGIN:VEVENT
DTSTART;TZID=America/New_York:20260715T180000
DTEND;TZID=America/New_York:20260715T204500
DTSTAMP:20260423T134906
CREATED:20251210T213214Z
LAST-MODIFIED:20251210T213956Z
UID:10005029-1784138400-1784148300@brookslibraryvt.org
SUMMARY:Game Cafe!
DESCRIPTION:Come join game enthusiasts in playing Magic the Gathering in various formats (including Commander/EDH) as well as other fun and creative board & card games. \nBring your favorite games- All Ages Welcome!
URL:https://brookslibraryvt.org/event/game-cafe-6/2026-07-15/
LOCATION:Meeting Room D – Quiet Reading Room\, 224 Main Street\, Brattleboro\, VT\, 05301\, United States
CATEGORIES:Children & Families,General,Teens
ATTACH;FMTTYPE=image/webp:https://eadn-wc04-3360218.nxedge.io/wp-content/uploads/2022/07/pic163749.webp
GEO:42.8553213;-72.5599024
X-APPLE-STRUCTURED-LOCATION;VALUE=URI;X-ADDRESS=Meeting Room D – Quiet Reading Room 224 Main Street Brattleboro VT 05301 United States;X-APPLE-RADIUS=500;X-TITLE=224 Main Street:geo:-72.5599024,42.8553213
END:VEVENT
BEGIN:VEVENT
DTSTART;TZID=America/New_York:20260717T183000
DTEND;TZID=America/New_York:20260717T213000
DTSTAMP:20260423T134906
CREATED:20260121T191739Z
LAST-MODIFIED:20260121T191740Z
UID:10005233-1784313000-1784323800@brookslibraryvt.org
SUMMARY:Teen Game Night!
DESCRIPTION:Join us on Friday\, July 17th\, from 6:30pm-9:30pm for our second Teen Game Night of the summer! \nWe will have a selection of board and card games to play with as well as a Jack Box Party Pack set up. Feel free to bring your own games as well. \nWe’ll be spread out across the whole 2nd floor. Pizza and snacks provided! \nHosted by the Teen Advisory Board. “Teens Only” events are open to people in grades 7-12.
URL:https://brookslibraryvt.org/event/teen-game-night-14-2/
LOCATION:Brooks Memorial Library\, 224 Main Street\, Brattleboro\, VT\, 05301\, United States
CATEGORIES:Teens
ATTACH;FMTTYPE=image/png:https://eadn-wc04-3360218.nxedge.io/wp-content/uploads/2026/01/Teen-Game-Night15.png
ORGANIZER;CN="BML Children's Room":MAILTO:cr@brookslibraryvt.org
GEO:42.8553213;-72.5599024
X-APPLE-STRUCTURED-LOCATION;VALUE=URI;X-ADDRESS=Brooks Memorial Library 224 Main Street Brattleboro VT 05301 United States;X-APPLE-RADIUS=500;X-TITLE=224 Main Street:geo:-72.5599024,42.8553213
END:VEVENT
BEGIN:VEVENT
DTSTART;TZID=America/New_York:20260720T190000
DTEND;TZID=America/New_York:20260720T203000
DTSTAMP:20260423T134906
CREATED:20260319T182343Z
LAST-MODIFIED:20260319T182344Z
UID:10005479-1784574000-1784579400@brookslibraryvt.org
SUMMARY:Sci-Fi Reading Group
DESCRIPTION:The Sci-Fi Reading Group will meet in the Quiet Reading Room from 7:00pm – 8:30pm to discuss another awesome Sci-Fi book! Title TBA! \nThe Sci-Fi Reading Group meets the third Monday of every month and is open to curious minds\, whether or not they’ve read this month’s selection.
URL:https://brookslibraryvt.org/event/sci-fi-reading-group-4-6/2026-07-20/
LOCATION:Meeting Room D – Quiet Reading Room\, 224 Main Street\, Brattleboro\, VT\, 05301\, United States
CATEGORIES:Adults,General,Teens
ATTACH;FMTTYPE=image/png:https://eadn-wc04-3360218.nxedge.io/wp-content/uploads/2024/12/SFRG-Generic-Icon.png
ORGANIZER;CN="Brooks Memorial Library":MAILTO:outreach@brookslibraryvt.org
GEO:42.8553213;-72.5599024
X-APPLE-STRUCTURED-LOCATION;VALUE=URI;X-ADDRESS=Meeting Room D – Quiet Reading Room 224 Main Street Brattleboro VT 05301 United States;X-APPLE-RADIUS=500;X-TITLE=224 Main Street:geo:-72.5599024,42.8553213
END:VEVENT
BEGIN:VEVENT
DTSTART;TZID=America/New_York:20260722T180000
DTEND;TZID=America/New_York:20260722T204500
DTSTAMP:20260423T134906
CREATED:20251210T213214Z
LAST-MODIFIED:20251210T213956Z
UID:10005030-1784743200-1784753100@brookslibraryvt.org
SUMMARY:Game Cafe!
DESCRIPTION:Come join game enthusiasts in playing Magic the Gathering in various formats (including Commander/EDH) as well as other fun and creative board & card games. \nBring your favorite games- All Ages Welcome!
URL:https://brookslibraryvt.org/event/game-cafe-6/2026-07-22/
LOCATION:Meeting Room D – Quiet Reading Room\, 224 Main Street\, Brattleboro\, VT\, 05301\, United States
CATEGORIES:Children & Families,General,Teens
ATTACH;FMTTYPE=image/webp:https://eadn-wc04-3360218.nxedge.io/wp-content/uploads/2022/07/pic163749.webp
GEO:42.8553213;-72.5599024
X-APPLE-STRUCTURED-LOCATION;VALUE=URI;X-ADDRESS=Meeting Room D – Quiet Reading Room 224 Main Street Brattleboro VT 05301 United States;X-APPLE-RADIUS=500;X-TITLE=224 Main Street:geo:-72.5599024,42.8553213
END:VEVENT
BEGIN:VEVENT
DTSTART;TZID=America/New_York:20260722T183000
DTEND;TZID=America/New_York:20260722T203000
DTSTAMP:20260423T134906
CREATED:20260121T193323Z
LAST-MODIFIED:20260121T193326Z
UID:10005237-1784745000-1784752200@brookslibraryvt.org
SUMMARY:Teen Movie Night - TBA
DESCRIPTION:The Teen Advisory Board invites you to the third of our Summer series of Teens Only movie nights! \n\nMovie title TBA. \n\nThe movie will start at 7pm. Snacks and comfy chairs provided!
URL:https://brookslibraryvt.org/event/teen-movie-night-the-adventures-of-priscilla-queen-of-the-desert-3/
LOCATION:Brooks Memorial Library\, 224 Main Street\, Brattleboro\, VT\, 05301\, United States
CATEGORIES:Teens
ATTACH;FMTTYPE=image/png:https://eadn-wc04-3360218.nxedge.io/wp-content/uploads/2025/05/Teen-Movie-Night3.png
ORGANIZER;CN="Teen Advisory Board":MAILTO:teens@brookslibraryvt.org
GEO:42.8553213;-72.5599024
X-APPLE-STRUCTURED-LOCATION;VALUE=URI;X-ADDRESS=Brooks Memorial Library 224 Main Street Brattleboro VT 05301 United States;X-APPLE-RADIUS=500;X-TITLE=224 Main Street:geo:-72.5599024,42.8553213
END:VEVENT
BEGIN:VEVENT
DTSTART;TZID=America/New_York:20260727T190000
DTEND;TZID=America/New_York:20260727T203000
DTSTAMP:20260423T134906
CREATED:20241119T011618Z
LAST-MODIFIED:20250409T202119Z
UID:10003519-1785178800-1785184200@brookslibraryvt.org
SUMMARY:Green Carnation Reading Group
DESCRIPTION:Discussions of books by and for queer people. For more information\, please visit the Green Carnation Reading Group Facebook page.
URL:https://brookslibraryvt.org/event/green-carnation-book-group/2026-07-27/
LOCATION:Meeting Room D – Quiet Reading Room\, 224 Main Street\, Brattleboro\, VT\, 05301\, United States
CATEGORIES:Adults,General,Teens
ATTACH;FMTTYPE=image/jpeg:https://eadn-wc04-3360218.nxedge.io/wp-content/uploads/2024/11/439240485_122098227206294656_4239700080493349576_n-e1731978675948.jpg
ORGANIZER;CN="Green Carnation - Timothy Williams":MAILTO:readtiph6890@gmail.com
GEO:42.8553213;-72.5599024
X-APPLE-STRUCTURED-LOCATION;VALUE=URI;X-ADDRESS=Meeting Room D – Quiet Reading Room 224 Main Street Brattleboro VT 05301 United States;X-APPLE-RADIUS=500;X-TITLE=224 Main Street:geo:-72.5599024,42.8553213
END:VEVENT
BEGIN:VEVENT
DTSTART;TZID=America/New_York:20260729T180000
DTEND;TZID=America/New_York:20260729T204500
DTSTAMP:20260423T134906
CREATED:20251210T213214Z
LAST-MODIFIED:20251210T213956Z
UID:10005031-1785348000-1785357900@brookslibraryvt.org
SUMMARY:Game Cafe!
DESCRIPTION:Come join game enthusiasts in playing Magic the Gathering in various formats (including Commander/EDH) as well as other fun and creative board & card games. \nBring your favorite games- All Ages Welcome!
URL:https://brookslibraryvt.org/event/game-cafe-6/2026-07-29/
LOCATION:Meeting Room D – Quiet Reading Room\, 224 Main Street\, Brattleboro\, VT\, 05301\, United States
CATEGORIES:Children & Families,General,Teens
ATTACH;FMTTYPE=image/webp:https://eadn-wc04-3360218.nxedge.io/wp-content/uploads/2022/07/pic163749.webp
GEO:42.8553213;-72.5599024
X-APPLE-STRUCTURED-LOCATION;VALUE=URI;X-ADDRESS=Meeting Room D – Quiet Reading Room 224 Main Street Brattleboro VT 05301 United States;X-APPLE-RADIUS=500;X-TITLE=224 Main Street:geo:-72.5599024,42.8553213
END:VEVENT
BEGIN:VEVENT
DTSTART;TZID=America/New_York:20260731T200000
DTEND;TZID=America/New_York:20260731T220000
DTSTAMP:20260423T134906
CREATED:20260121T194234Z
LAST-MODIFIED:20260121T194236Z
UID:10005238-1785528000-1785535200@brookslibraryvt.org
SUMMARY:Outdoor Teen Movie Night - TBA
DESCRIPTION:The Teen Advisory Board invites you to celebrate the end of our Teen Summer Reading Program with a Teens Only Outdoor Movie Night! \n\nMovie title TBA. \n\nThe movie will start at 8pm. Snacks and comfy chairs provided!
URL:https://brookslibraryvt.org/event/teen-movie-night-the-adventures-of-priscilla-queen-of-the-desert-4/
LOCATION:Brooks Memorial Library\, 224 Main Street\, Brattleboro\, VT\, 05301\, United States
CATEGORIES:Teens
ATTACH;FMTTYPE=image/png:https://eadn-wc04-3360218.nxedge.io/wp-content/uploads/2026/01/Teen-Movie-Night14.png
ORGANIZER;CN="Teen Advisory Board":MAILTO:teens@brookslibraryvt.org
GEO:42.8553213;-72.5599024
X-APPLE-STRUCTURED-LOCATION;VALUE=URI;X-ADDRESS=Brooks Memorial Library 224 Main Street Brattleboro VT 05301 United States;X-APPLE-RADIUS=500;X-TITLE=224 Main Street:geo:-72.5599024,42.8553213
END:VEVENT
END:VCALENDAR