BEGIN:VCALENDAR
VERSION:2.0
PRODID:-//Brooks Memorial Library - Brattleboro VT - ECPv6.15.17.1//NONSGML v1.0//EN
CALSCALE:GREGORIAN
METHOD:PUBLISH
X-WR-CALNAME:Brooks Memorial Library - Brattleboro VT
X-ORIGINAL-URL:https://brookslibraryvt.org
X-WR-CALDESC:Events for Brooks Memorial Library - Brattleboro VT
REFRESH-INTERVAL;VALUE=DURATION:PT1H
X-Robots-Tag:noindex
X-PUBLISHED-TTL:PT1H
BEGIN:VTIMEZONE
TZID:America/New_York
BEGIN:DAYLIGHT
TZOFFSETFROM:-0500
TZOFFSETTO:-0400
TZNAME:EDT
DTSTART:20250309T070000
END:DAYLIGHT
BEGIN:STANDARD
TZOFFSETFROM:-0400
TZOFFSETTO:-0500
TZNAME:EST
DTSTART:20251102T060000
END:STANDARD
BEGIN:DAYLIGHT
TZOFFSETFROM:-0500
TZOFFSETTO:-0400
TZNAME:EDT
DTSTART:20260308T070000
END:DAYLIGHT
BEGIN:STANDARD
TZOFFSETFROM:-0400
TZOFFSETTO:-0500
TZNAME:EST
DTSTART:20261101T060000
END:STANDARD
BEGIN:DAYLIGHT
TZOFFSETFROM:-0500
TZOFFSETTO:-0400
TZNAME:EDT
DTSTART:20270314T070000
END:DAYLIGHT
BEGIN:STANDARD
TZOFFSETFROM:-0400
TZOFFSETTO:-0500
TZNAME:EST
DTSTART:20271107T060000
END:STANDARD
END:VTIMEZONE
BEGIN:VEVENT
DTSTART;TZID=America/New_York:20260425T100000
DTEND;TZID=America/New_York:20260425T110000
DTSTAMP:20260423T091608
CREATED:20260126T191152Z
LAST-MODIFIED:20260420T175344Z
UID:10005247-1777111200-1777114800@brookslibraryvt.org
SUMMARY:City Nature Challenge Kick-Off Event
DESCRIPTION:There is nature all around us! Knowing what species are in our city/town and where they are helps us study and protect them\, but the ONLY way to do that is by all of us – scientists\, land managers\, and the community – working together to find and document the nature in our area. \nBy participating in the City Nature Challenge\, not only do you learn more about your local nature\, but you can also make your city/town a better place – for you and other species! \n————- \nKick-Off Event \nSaturday\, April 25 \n10-11am – Intro to the Challenge & ID Tips – Brooks Memorial Library Community Room \n12-1pm – Identification Walk – West River Park (333 West River Road\, Brattleboro\, VT) \n————- \nWe’ll start with a Kick-Off Event on Saturday\, April 25\, from 10am-11am in the Brooks Memorial Library Community Room.  It will be followed by a nature walk from 12-1pm at West River Park (333 West River Road\, Brattleboro\, VT) so folks can apply their news skills\,  contributing to citizen science.  An ID Session is scheduled for Tuesday\, April 28 at 7pm in the Community Room. \n————- \nAbout the ID Session on April 28: whether you’re a seasoned user of iNaturalist and have made many IDs of other people’s observations to bring them to Research Grade\, or you’re using iNaturalist for the first time during the April 24-27 observation period of the City Nature Challenge\, we’d love to have you join the effort to identify as many of the observations made in Windham County during the Challenge as possible. If you’re new to this\, we’ll help you learn how to use the identification features of iNaturalist. \nThe CNC\, held globally by iNaturalist\, is the largest annual biodiversity census in the world\, and this year\, we’re taking part in Windham County! Our local Windham County Nature Challenge is being organized by the Brattleboro Conservation Commission and cosponsored  by several local Conservation Commissions\, Brooks Memorial Library\, and the Connecticut River Conservancy.
URL:https://brookslibraryvt.org/event/city-nature-challenge-kick-off-event/
LOCATION:Main Reading Room
CATEGORIES:Adults,Children & Families,General,Teens
ATTACH;FMTTYPE=image/png:https://eadn-wc04-3360218.nxedge.io/wp-content/uploads/2026/01/CNC_Logo_Color-scaled.png
GEO:42.8553213;-72.5599024
END:VEVENT
BEGIN:VEVENT
DTSTART;TZID=America/New_York:20260427T173000
DTEND;TZID=America/New_York:20260427T190000
DTSTAMP:20260423T091608
CREATED:20260403T205417Z
LAST-MODIFIED:20260403T210413Z
UID:10005211-1777311000-1777316400@brookslibraryvt.org
SUMMARY:Financial Empowerment
DESCRIPTION:Financial Q & A with SEVCA and Mascoma Bank \nAll are welcome to these programs\, held on the 4th Mondays of the month throughout 2026\, with different topics for each session and peer support encouraged throughout.  Representatives from SEVCA and Mascoma Bank facilitate the discussions\, share their expertise\, and respond to individual questions and concerns.  A light meal will be served at 5:30PM; the focused conversation starts at 6:00 PM. \nAs a follow-up to March’s discussion on “Credit Reports”\, the April topic is “Repairing Credit.” \nRegistration is required. To sign-up\, you can call (802-254-5290)\, stop by the circulation desk\, or email us at circ@brookslibraryvt.org
URL:https://brookslibraryvt.org/event/financial-empowerment-8/
LOCATION:Meeting Room A – Community Meeting Room\, 224 Main Street\, Brattleboro\, VT\, 05301\, United States
CATEGORIES:Adults,General,Teens
ATTACH;FMTTYPE=image/png:https://eadn-wc04-3360218.nxedge.io/wp-content/uploads/2026/04/financial-empowerment-credit-repair-1.png
GEO:42.8553213;-72.5599024
X-APPLE-STRUCTURED-LOCATION;VALUE=URI;X-ADDRESS=Meeting Room A – Community Meeting Room 224 Main Street Brattleboro VT 05301 United States;X-APPLE-RADIUS=500;X-TITLE=224 Main Street:geo:-72.5599024,42.8553213
END:VEVENT
BEGIN:VEVENT
DTSTART;TZID=America/New_York:20260427T190000
DTEND;TZID=America/New_York:20260427T203000
DTSTAMP:20260423T091608
CREATED:20241119T011618Z
LAST-MODIFIED:20250409T202119Z
UID:10003516-1777316400-1777321800@brookslibraryvt.org
SUMMARY:Green Carnation Reading Group
DESCRIPTION:Discussions of books by and for queer people. For more information\, please visit the Green Carnation Reading Group Facebook page.
URL:https://brookslibraryvt.org/event/green-carnation-book-group/2026-04-27/
LOCATION:Meeting Room D – Quiet Reading Room\, 224 Main Street\, Brattleboro\, VT\, 05301\, United States
CATEGORIES:Adults,General,Teens
ATTACH;FMTTYPE=image/jpeg:https://eadn-wc04-3360218.nxedge.io/wp-content/uploads/2024/11/439240485_122098227206294656_4239700080493349576_n-e1731978675948.jpg
ORGANIZER;CN="Green Carnation - Timothy Williams":MAILTO:readtiph6890@gmail.com
GEO:42.8553213;-72.5599024
X-APPLE-STRUCTURED-LOCATION;VALUE=URI;X-ADDRESS=Meeting Room D – Quiet Reading Room 224 Main Street Brattleboro VT 05301 United States;X-APPLE-RADIUS=500;X-TITLE=224 Main Street:geo:-72.5599024,42.8553213
END:VEVENT
BEGIN:VEVENT
DTSTART;TZID=America/New_York:20260428T190000
DTEND;TZID=America/New_York:20260428T203000
DTSTAMP:20260423T091608
CREATED:20260326T203433Z
LAST-MODIFIED:20260403T203612Z
UID:10005531-1777402800-1777408200@brookslibraryvt.org
SUMMARY:City Nature Challenge - Nature ID Session
DESCRIPTION:Join us for an identification blitz as part of the Windham County City Nature Challenge (CNC)\, on April 28\, between 7 and 8:30 pm in the library’s Community Room. Whether you’re a seasoned user of iNaturalist and have made many IDs of other people’s observations to bring them to Research Grade\, or you’re using iNaturalist for the first time during the April 24-27 observation period of the City Nature Challenge\, we’d love to have you join the effort to identify as many of the observations made in Windham County during the Challenge as possible. If you’re new to this\, we’ll help you learn how to use the identification features of iNaturalist. \nThe CNC\, held globally by iNaturalist\, is the largest annual biodiversity census in the world\, and this year\, we’re taking part in Windham County! Our local Windham County Nature Challenge is being organized by the Brattleboro Conservation Commission and cosponsored  by several local Conservation Commissions\, Brooks Memorial Library\, and the Connecticut River Conservancy.
URL:https://brookslibraryvt.org/event/city-nature-challenge-kick-off-event-2/
LOCATION:Main Reading Room
CATEGORIES:Adults,Children & Families,General,Teens
ATTACH;FMTTYPE=image/png:https://eadn-wc04-3360218.nxedge.io/wp-content/uploads/2026/01/CNC_Logo_Color-scaled.png
GEO:42.8553213;-72.5599024
END:VEVENT
BEGIN:VEVENT
DTSTART;TZID=America/New_York:20260429T180000
DTEND;TZID=America/New_York:20260429T204500
DTSTAMP:20260423T091608
CREATED:20251210T213214Z
LAST-MODIFIED:20251210T213956Z
UID:10005018-1777485600-1777495500@brookslibraryvt.org
SUMMARY:Game Cafe!
DESCRIPTION:Come join game enthusiasts in playing Magic the Gathering in various formats (including Commander/EDH) as well as other fun and creative board & card games. \nBring your favorite games- All Ages Welcome!
URL:https://brookslibraryvt.org/event/game-cafe-6/2026-04-29/
LOCATION:Meeting Room D – Quiet Reading Room\, 224 Main Street\, Brattleboro\, VT\, 05301\, United States
CATEGORIES:Children & Families,General,Teens
ATTACH;FMTTYPE=image/webp:https://eadn-wc04-3360218.nxedge.io/wp-content/uploads/2022/07/pic163749.webp
GEO:42.8553213;-72.5599024
X-APPLE-STRUCTURED-LOCATION;VALUE=URI;X-ADDRESS=Meeting Room D – Quiet Reading Room 224 Main Street Brattleboro VT 05301 United States;X-APPLE-RADIUS=500;X-TITLE=224 Main Street:geo:-72.5599024,42.8553213
END:VEVENT
END:VCALENDAR