BEGIN:VCALENDAR
VERSION:2.0
PRODID:-//Brooks Memorial Library - Brattleboro VT - ECPv6.15.17.1//NONSGML v1.0//EN
CALSCALE:GREGORIAN
METHOD:PUBLISH
X-WR-CALNAME:Brooks Memorial Library - Brattleboro VT
X-ORIGINAL-URL:https://brookslibraryvt.org
X-WR-CALDESC:Events for Brooks Memorial Library - Brattleboro VT
REFRESH-INTERVAL;VALUE=DURATION:PT1H
X-Robots-Tag:noindex
X-PUBLISHED-TTL:PT1H
BEGIN:VTIMEZONE
TZID:America/New_York
BEGIN:DAYLIGHT
TZOFFSETFROM:-0500
TZOFFSETTO:-0400
TZNAME:EDT
DTSTART:20230312T070000
END:DAYLIGHT
BEGIN:STANDARD
TZOFFSETFROM:-0400
TZOFFSETTO:-0500
TZNAME:EST
DTSTART:20231105T060000
END:STANDARD
BEGIN:DAYLIGHT
TZOFFSETFROM:-0500
TZOFFSETTO:-0400
TZNAME:EDT
DTSTART:20240310T070000
END:DAYLIGHT
BEGIN:STANDARD
TZOFFSETFROM:-0400
TZOFFSETTO:-0500
TZNAME:EST
DTSTART:20241103T060000
END:STANDARD
BEGIN:DAYLIGHT
TZOFFSETFROM:-0500
TZOFFSETTO:-0400
TZNAME:EDT
DTSTART:20250309T070000
END:DAYLIGHT
BEGIN:STANDARD
TZOFFSETFROM:-0400
TZOFFSETTO:-0500
TZNAME:EST
DTSTART:20251102T060000
END:STANDARD
END:VTIMEZONE
BEGIN:VEVENT
DTSTART;TZID=America/New_York:20240902T190000
DTEND;TZID=America/New_York:20240902T210000
DTSTAMP:20260425T063115
CREATED:20230304T175145Z
LAST-MODIFIED:20250210T210843Z
UID:10003979-1725303600-1725310800@brookslibraryvt.org
SUMMARY:Brattleboro Great Books Group
DESCRIPTION:Monthly discussion of “Great Books”
URL:https://brookslibraryvt.org/event/brattleboro-great-books-group/2024-09-02/
LOCATION:Meeting Room D – Quiet Reading Room\, 224 Main Street\, Brattleboro\, VT\, 05301\, United States
CATEGORIES:General,Teens
ATTACH;FMTTYPE=image/jpeg:https://eadn-wc04-3360218.nxedge.io/wp-content/uploads/2022/10/books.jpg
ORGANIZER;CN="Great Books - Michael Landis":MAILTO:emagicmtman@gmail.com
GEO:42.8553213;-72.5599024
X-APPLE-STRUCTURED-LOCATION;VALUE=URI;X-ADDRESS=Meeting Room D – Quiet Reading Room 224 Main Street Brattleboro VT 05301 United States;X-APPLE-RADIUS=500;X-TITLE=224 Main Street:geo:-72.5599024,42.8553213
END:VEVENT
BEGIN:VEVENT
DTSTART;TZID=America/New_York:20240903T180000
DTEND;TZID=America/New_York:20240903T204500
DTSTAMP:20260425T063115
CREATED:20231215T155708Z
LAST-MODIFIED:20240227T163659Z
UID:10001508-1725386400-1725396300@brookslibraryvt.org
SUMMARY:Mineralogical Society
DESCRIPTION:Join the Brattleboro Mineralogical Society to discuss Minerals and other Geological topics!
URL:https://brookslibraryvt.org/event/mineralogical-society-2/2024-09-03/
LOCATION:Meeting Room A – Community Meeting Room\, 224 Main Street\, Brattleboro\, VT\, 05301\, United States
CATEGORIES:General,Teens
ATTACH;FMTTYPE=image/png:https://eadn-wc04-3360218.nxedge.io/wp-content/uploads/2021/12/MineralogicalSociety.png
ORGANIZER;CN="Robert Clements - Mineralogical Society":MAILTO:rwc2esj@comcast.net
GEO:42.8553213;-72.5599024
X-APPLE-STRUCTURED-LOCATION;VALUE=URI;X-ADDRESS=Meeting Room A – Community Meeting Room 224 Main Street Brattleboro VT 05301 United States;X-APPLE-RADIUS=500;X-TITLE=224 Main Street:geo:-72.5599024,42.8553213
END:VEVENT
BEGIN:VEVENT
DTSTART;TZID=America/New_York:20240904T180000
DTEND;TZID=America/New_York:20240904T204500
DTSTAMP:20260425T063115
CREATED:20240308T192843Z
LAST-MODIFIED:20241108T155856Z
UID:10001885-1725472800-1725482700@brookslibraryvt.org
SUMMARY:Game Cafe!
DESCRIPTION:Come join game enthusiasts in playing Magic the Gathering in various formats (including Commander/EDH) as well as other fun and creative board & card games. \nBring your favorite games- All Ages Welcome!
URL:https://brookslibraryvt.org/event/game-cafe-5/2024-09-04/
LOCATION:Meeting Room D – Quiet Reading Room\, 224 Main Street\, Brattleboro\, VT\, 05301\, United States
CATEGORIES:Children & Families,General,Teens
ATTACH;FMTTYPE=image/webp:https://eadn-wc04-3360218.nxedge.io/wp-content/uploads/2022/07/pic163749.webp
GEO:42.8553213;-72.5599024
X-APPLE-STRUCTURED-LOCATION;VALUE=URI;X-ADDRESS=Meeting Room D – Quiet Reading Room 224 Main Street Brattleboro VT 05301 United States;X-APPLE-RADIUS=500;X-TITLE=224 Main Street:geo:-72.5599024,42.8553213
END:VEVENT
BEGIN:VEVENT
DTSTART;TZID=America/New_York:20240905T150000
DTEND;TZID=America/New_York:20240905T170000
DTSTAMP:20260425T063115
CREATED:20240108T201858Z
LAST-MODIFIED:20240801T003409Z
UID:10001555-1725548400-1725555600@brookslibraryvt.org
SUMMARY:LEGO-Palooza
DESCRIPTION:Join us on Thursdays after school from 3-5pm to play with LEGOs! \nWe provide the LEGOs. You build. Do not bring your own LEGOs. \nChildren cannot keep LEGOs\, but if there is enough room\, we will display them in the window. \nFree and open to the public!
URL:https://brookslibraryvt.org/event/lego-palooza-2/2024-09-05/
LOCATION:Meeting Room A – Community Meeting Room\, 224 Main Street\, Brattleboro\, VT\, 05301\, United States
CATEGORIES:Children & Families,General,Teens
ATTACH;FMTTYPE=image/png:https://eadn-wc04-3360218.nxedge.io/wp-content/uploads/2023/01/Untitled-design4.png
ORGANIZER;CN="BML Children's Room":MAILTO:cr@brookslibraryvt.org
GEO:42.8553213;-72.5599024
X-APPLE-STRUCTURED-LOCATION;VALUE=URI;X-ADDRESS=Meeting Room A – Community Meeting Room 224 Main Street Brattleboro VT 05301 United States;X-APPLE-RADIUS=500;X-TITLE=224 Main Street:geo:-72.5599024,42.8553213
END:VEVENT
BEGIN:VEVENT
DTSTART;TZID=America/New_York:20240906T170000
DTEND;TZID=America/New_York:20240906T190000
DTSTAMP:20260425T063115
CREATED:20240822T181754Z
LAST-MODIFIED:20240822T181754Z
UID:10002285-1725642000-1725649200@brookslibraryvt.org
SUMMARY:Friends of the Library Ice Cream Social at Gallery Walk
DESCRIPTION:The Friends of Brooks Memorial Library invite you to an old fashioned ice cream social at September’s Gallery Walk to celebrate Library Card Sign Up Month. Join us at the Harmony Lot on Friday\, September 6 from 5-7pm or until the ice cream runs out! Ice cream is by donation. \n  \n \n 
URL:https://brookslibraryvt.org/event/friends-of-the-library-ice-cream-social-at-gallery-walk/
LOCATION:Gallery Walk\, Harmony Place\, Brattleboro\, Vermont\, 05301\, United States
CATEGORIES:Adults,Children & Families,General,Teens
ATTACH;FMTTYPE=image/png:https://eadn-wc04-3360218.nxedge.io/wp-content/uploads/2024/08/ice-cream-quote-e1724350556576.png
GEO:42.8527891;-72.5589558
X-APPLE-STRUCTURED-LOCATION;VALUE=URI;X-ADDRESS=Gallery Walk Harmony Place Brattleboro Vermont 05301 United States;X-APPLE-RADIUS=500;X-TITLE=Harmony Place:geo:-72.5589558,42.8527891
END:VEVENT
END:VCALENDAR