BEGIN:VCALENDAR
VERSION:2.0
PRODID:-//Brooks Memorial Library - Brattleboro VT - ECPv6.15.17.1//NONSGML v1.0//EN
CALSCALE:GREGORIAN
METHOD:PUBLISH
X-ORIGINAL-URL:https://brookslibraryvt.org
X-WR-CALDESC:Events for Brooks Memorial Library - Brattleboro VT
REFRESH-INTERVAL;VALUE=DURATION:PT1H
X-Robots-Tag:noindex
X-PUBLISHED-TTL:PT1H
BEGIN:VTIMEZONE
TZID:America/New_York
BEGIN:DAYLIGHT
TZOFFSETFROM:-0500
TZOFFSETTO:-0400
TZNAME:EDT
DTSTART:20240310T070000
END:DAYLIGHT
BEGIN:STANDARD
TZOFFSETFROM:-0400
TZOFFSETTO:-0500
TZNAME:EST
DTSTART:20241103T060000
END:STANDARD
BEGIN:DAYLIGHT
TZOFFSETFROM:-0500
TZOFFSETTO:-0400
TZNAME:EDT
DTSTART:20250309T070000
END:DAYLIGHT
BEGIN:STANDARD
TZOFFSETFROM:-0400
TZOFFSETTO:-0500
TZNAME:EST
DTSTART:20251102T060000
END:STANDARD
BEGIN:DAYLIGHT
TZOFFSETFROM:-0500
TZOFFSETTO:-0400
TZNAME:EDT
DTSTART:20260308T070000
END:DAYLIGHT
BEGIN:STANDARD
TZOFFSETFROM:-0400
TZOFFSETTO:-0500
TZNAME:EST
DTSTART:20261101T060000
END:STANDARD
END:VTIMEZONE
BEGIN:VEVENT
DTSTART;TZID=America/New_York:20250707T190000
DTEND;TZID=America/New_York:20250707T210000
DTSTAMP:20260424T041336
CREATED:20230304T175145Z
LAST-MODIFIED:20250210T210843Z
UID:10003989-1751914800-1751922000@brookslibraryvt.org
SUMMARY:Brattleboro Great Books Group
DESCRIPTION:Monthly discussion of “Great Books”
URL:https://brookslibraryvt.org/event/brattleboro-great-books-group/2025-07-07/
LOCATION:Meeting Room D – Quiet Reading Room\, 224 Main Street\, Brattleboro\, VT\, 05301\, United States
CATEGORIES:General,Teens
ATTACH;FMTTYPE=image/jpeg:https://eadn-wc04-3360218.nxedge.io/wp-content/uploads/2022/10/books.jpg
ORGANIZER;CN="Great Books - Michael Landis":MAILTO:emagicmtman@gmail.com
GEO:42.8553213;-72.5599024
X-APPLE-STRUCTURED-LOCATION;VALUE=URI;X-ADDRESS=Meeting Room D – Quiet Reading Room 224 Main Street Brattleboro VT 05301 United States;X-APPLE-RADIUS=500;X-TITLE=224 Main Street:geo:-72.5599024,42.8553213
END:VEVENT
BEGIN:VEVENT
DTSTART;TZID=America/New_York:20250708T163000
DTEND;TZID=America/New_York:20250708T180000
DTSTAMP:20260424T041336
CREATED:20230105T222916Z
LAST-MODIFIED:20250210T194139Z
UID:10003940-1751992200-1751997600@brookslibraryvt.org
SUMMARY:Library Board of Trustees
DESCRIPTION:Monthly meeting of the Brooks Memorial Library Board of Trustees. Citizen attendance and commentary welcome! \nBoard of Trustees
URL:https://brookslibraryvt.org/event/library-board-of-trustees/2025-07-08/
LOCATION:Meeting Room A – Community Meeting Room\, 224 Main Street\, Brattleboro\, VT\, 05301\, United States
CATEGORIES:General,Teens
ATTACH;FMTTYPE=image/png:https://eadn-wc04-3360218.nxedge.io/wp-content/uploads/2023/01/BML-medium-logo.png
ORGANIZER;CN="Brooks Memorial Library":MAILTO:outreach@brookslibraryvt.org
GEO:42.8553213;-72.5599024
X-APPLE-STRUCTURED-LOCATION;VALUE=URI;X-ADDRESS=Meeting Room A – Community Meeting Room 224 Main Street Brattleboro VT 05301 United States;X-APPLE-RADIUS=500;X-TITLE=224 Main Street:geo:-72.5599024,42.8553213
END:VEVENT
BEGIN:VEVENT
DTSTART;TZID=America/New_York:20250709T190000
DTEND;TZID=America/New_York:20250709T210000
DTSTAMP:20260424T041336
CREATED:20250707T142436Z
LAST-MODIFIED:20250707T142438Z
UID:10004220-1752087600-1752094800@brookslibraryvt.org
SUMMARY:Teen Movie Night - Legally Blonde
DESCRIPTION:The Teen Advisory Board invites you to a Summer series of Teens Only movie nights! Join us Wednesday\, July 9th\, for Legally Blonde. \nSorority queen Elle Woods decides to attend Harvard Law School when her snobby boyfriend dumps her for a more “appropriate” woman. Despite her penchant for malls\, makeup\, and tanning\, she shows the elite Ivy League set a thing or two about class and self-confidence. \nThe movie will start at 7pm. Snacks and comfy chairs provided!
URL:https://brookslibraryvt.org/event/teen-movie-night-4-4/
LOCATION:Brooks Memorial Library\, 224 Main Street\, Brattleboro\, VT\, 05301\, United States
CATEGORIES:Teens
ATTACH;FMTTYPE=image/png:https://eadn-wc04-3360218.nxedge.io/wp-content/uploads/2025/05/Teen-Movie-Night3.png
ORGANIZER;CN="Teen Advisory Board":MAILTO:teens@brookslibraryvt.org
GEO:42.8553213;-72.5599024
X-APPLE-STRUCTURED-LOCATION;VALUE=URI;X-ADDRESS=Brooks Memorial Library 224 Main Street Brattleboro VT 05301 United States;X-APPLE-RADIUS=500;X-TITLE=224 Main Street:geo:-72.5599024,42.8553213
END:VEVENT
END:VCALENDAR