BEGIN:VCALENDAR
VERSION:2.0
PRODID:-//Brooks Memorial Library - Brattleboro VT - ECPv6.15.17.1//NONSGML v1.0//EN
CALSCALE:GREGORIAN
METHOD:PUBLISH
X-ORIGINAL-URL:https://brookslibraryvt.org
X-WR-CALDESC:Events for Brooks Memorial Library - Brattleboro VT
REFRESH-INTERVAL;VALUE=DURATION:PT1H
X-Robots-Tag:noindex
X-PUBLISHED-TTL:PT1H
BEGIN:VTIMEZONE
TZID:America/New_York
BEGIN:DAYLIGHT
TZOFFSETFROM:-0500
TZOFFSETTO:-0400
TZNAME:EDT
DTSTART:20240310T070000
END:DAYLIGHT
BEGIN:STANDARD
TZOFFSETFROM:-0400
TZOFFSETTO:-0500
TZNAME:EST
DTSTART:20241103T060000
END:STANDARD
BEGIN:DAYLIGHT
TZOFFSETFROM:-0500
TZOFFSETTO:-0400
TZNAME:EDT
DTSTART:20250309T070000
END:DAYLIGHT
BEGIN:STANDARD
TZOFFSETFROM:-0400
TZOFFSETTO:-0500
TZNAME:EST
DTSTART:20251102T060000
END:STANDARD
BEGIN:DAYLIGHT
TZOFFSETFROM:-0500
TZOFFSETTO:-0400
TZNAME:EDT
DTSTART:20260308T070000
END:DAYLIGHT
BEGIN:STANDARD
TZOFFSETFROM:-0400
TZOFFSETTO:-0500
TZNAME:EST
DTSTART:20261101T060000
END:STANDARD
END:VTIMEZONE
BEGIN:VEVENT
DTSTART;TZID=America/New_York:20250905T170000
DTEND;TZID=America/New_York:20250905T190000
DTSTAMP:20260423T233932
CREATED:20250715T001832Z
LAST-MODIFIED:20250825T220404Z
UID:10004439-1757091600-1757098800@brookslibraryvt.org
SUMMARY:Friends of Brooks Memorial Library Ice Cream Social at Gallery Walk
DESCRIPTION:The Friends of Brooks Memorial Library invite you to an old fashioned ice cream social at September’s Gallery Walk to celebrate Library Card Sign Up Month. Join us from 5-7pm or until the ice cream runs out! Dairy and vegan options available. Ice cream is by donation. \n  \n \n 
URL:https://brookslibraryvt.org/event/friends-of-the-library-ice-cream-social-at-gallery-walk-2/
LOCATION:Gallery Walk\, Harmony Place\, Brattleboro\, Vermont\, 05301\, United States
CATEGORIES:Adults,Children & Families,General,Teens
ATTACH;FMTTYPE=image/png:https://eadn-wc04-3360218.nxedge.io/wp-content/uploads/2025/07/ice-cream-quote3.png
GEO:42.8527891;-72.5589558
X-APPLE-STRUCTURED-LOCATION;VALUE=URI;X-ADDRESS=Gallery Walk Harmony Place Brattleboro Vermont 05301 United States;X-APPLE-RADIUS=500;X-TITLE=Harmony Place:geo:-72.5589558,42.8527891
END:VEVENT
END:VCALENDAR