BEGIN:VCALENDAR
VERSION:2.0
PRODID:-//Brooks Memorial Library - Brattleboro VT - ECPv6.15.17.1//NONSGML v1.0//EN
CALSCALE:GREGORIAN
METHOD:PUBLISH
X-ORIGINAL-URL:https://brookslibraryvt.org
X-WR-CALDESC:Events for Brooks Memorial Library - Brattleboro VT
REFRESH-INTERVAL;VALUE=DURATION:PT1H
X-Robots-Tag:noindex
X-PUBLISHED-TTL:PT1H
BEGIN:VTIMEZONE
TZID:America/New_York
BEGIN:DAYLIGHT
TZOFFSETFROM:-0500
TZOFFSETTO:-0400
TZNAME:EDT
DTSTART:20250309T070000
END:DAYLIGHT
BEGIN:STANDARD
TZOFFSETFROM:-0400
TZOFFSETTO:-0500
TZNAME:EST
DTSTART:20251102T060000
END:STANDARD
BEGIN:DAYLIGHT
TZOFFSETFROM:-0500
TZOFFSETTO:-0400
TZNAME:EDT
DTSTART:20260308T070000
END:DAYLIGHT
BEGIN:STANDARD
TZOFFSETFROM:-0400
TZOFFSETTO:-0500
TZNAME:EST
DTSTART:20261101T060000
END:STANDARD
BEGIN:DAYLIGHT
TZOFFSETFROM:-0500
TZOFFSETTO:-0400
TZNAME:EDT
DTSTART:20270314T070000
END:DAYLIGHT
BEGIN:STANDARD
TZOFFSETFROM:-0400
TZOFFSETTO:-0500
TZNAME:EST
DTSTART:20271107T060000
END:STANDARD
END:VTIMEZONE
BEGIN:VEVENT
DTSTART;TZID=America/New_York:20260223T190000
DTEND;TZID=America/New_York:20260223T203000
DTSTAMP:20260423T135132
CREATED:20241119T011618Z
LAST-MODIFIED:20250409T202119Z
UID:10003514-1771873200-1771878600@brookslibraryvt.org
SUMMARY:Green Carnation Reading Group
DESCRIPTION:Discussions of books by and for queer people. For more information\, please visit the Green Carnation Reading Group Facebook page.
URL:https://brookslibraryvt.org/event/green-carnation-book-group/2026-02-23/
LOCATION:Meeting Room D – Quiet Reading Room\, 224 Main Street\, Brattleboro\, VT\, 05301\, United States
CATEGORIES:Adults,General,Teens
ATTACH;FMTTYPE=image/jpeg:https://eadn-wc04-3360218.nxedge.io/wp-content/uploads/2024/11/439240485_122098227206294656_4239700080493349576_n-e1731978675948.jpg
ORGANIZER;CN="Green Carnation - Timothy Williams":MAILTO:readtiph6890@gmail.com
GEO:42.8553213;-72.5599024
X-APPLE-STRUCTURED-LOCATION;VALUE=URI;X-ADDRESS=Meeting Room D – Quiet Reading Room 224 Main Street Brattleboro VT 05301 United States;X-APPLE-RADIUS=500;X-TITLE=224 Main Street:geo:-72.5599024,42.8553213
END:VEVENT
BEGIN:VEVENT
DTSTART;TZID=America/New_York:20260223T190000
DTEND;TZID=America/New_York:20260223T203000
DTSTAMP:20260423T135132
CREATED:20250916T145729Z
LAST-MODIFIED:20260113T223229Z
UID:10004497-1771873200-1771878600@brookslibraryvt.org
SUMMARY:Sci-Fi Reading Group
DESCRIPTION:The Sci-Fi Reading Group will meet in the Quiet Reading Room from 7:00pm – 8:30pm to discuss The Martian Chronicles by Ray Bradbury! \nIn The Martian Chronicles\, Ray Bradbury imagines a place of hope\, dreams\, and metaphor— of crystal pillars and fossil seas—where a fine dust settles on the great empty cities of a vanished\, devastated civilization. Earthmen conquer Mars and then are conquered by it\, lulled by dangerous lies of comfort and familiarity\, and enchanted by the lingering glamour of an ancient\, mysterious native race. In this classic work of fiction\, Bradbury exposes our ambitions\, weaknesses\, and ignorance in a strange and breathtaking world where man does not belong. \nThe Sci-Fi Reading Group meets the third Monday of every month and is open to curious minds\, whether or not they’ve read this month’s selection.
URL:https://brookslibraryvt.org/event/sci-fi-reading-group-4-3/
LOCATION:Meeting Room D – Quiet Reading Room\, 224 Main Street\, Brattleboro\, VT\, 05301\, United States
CATEGORIES:Adults,General,Teens
ATTACH;FMTTYPE=image/png:https://eadn-wc04-3360218.nxedge.io/wp-content/uploads/2025/09/FEB26-Icon.png
ORGANIZER;CN="Brooks Memorial Library":MAILTO:outreach@brookslibraryvt.org
GEO:42.8553213;-72.5599024
X-APPLE-STRUCTURED-LOCATION;VALUE=URI;X-ADDRESS=Meeting Room D – Quiet Reading Room 224 Main Street Brattleboro VT 05301 United States;X-APPLE-RADIUS=500;X-TITLE=224 Main Street:geo:-72.5599024,42.8553213
END:VEVENT
BEGIN:VEVENT
DTSTART;TZID=America/New_York:20260225T180000
DTEND;TZID=America/New_York:20260225T204500
DTSTAMP:20260423T135132
CREATED:20251210T213214Z
LAST-MODIFIED:20251210T213956Z
UID:10005009-1772042400-1772052300@brookslibraryvt.org
SUMMARY:Game Cafe!
DESCRIPTION:Come join game enthusiasts in playing Magic the Gathering in various formats (including Commander/EDH) as well as other fun and creative board & card games. \nBring your favorite games- All Ages Welcome!
URL:https://brookslibraryvt.org/event/game-cafe-6/2026-02-25/
LOCATION:Meeting Room D – Quiet Reading Room\, 224 Main Street\, Brattleboro\, VT\, 05301\, United States
CATEGORIES:Children & Families,General,Teens
ATTACH;FMTTYPE=image/webp:https://eadn-wc04-3360218.nxedge.io/wp-content/uploads/2022/07/pic163749.webp
GEO:42.8553213;-72.5599024
X-APPLE-STRUCTURED-LOCATION;VALUE=URI;X-ADDRESS=Meeting Room D – Quiet Reading Room 224 Main Street Brattleboro VT 05301 United States;X-APPLE-RADIUS=500;X-TITLE=224 Main Street:geo:-72.5599024,42.8553213
END:VEVENT
BEGIN:VEVENT
DTSTART;TZID=America/New_York:20260226T130000
DTEND;TZID=America/New_York:20260226T170000
DTSTAMP:20260423T135132
CREATED:20251015T165032Z
LAST-MODIFIED:20251015T165032Z
UID:10004612-1772110800-1772125200@brookslibraryvt.org
SUMMARY:LEGO Palooza- Special Session
DESCRIPTION:Join us for a special winter break session of LEGO-Palooza on Thursday\, February 26th from 1-5 pm! \nWe provide the LEGOs. You build. Do not bring your own LEGOs. \nChildren cannot keep LEGOs\, but if there is enough room\, we will display them in the window. \nFree and open to the public!
URL:https://brookslibraryvt.org/event/lego-palooza-special-session-9/
LOCATION:Meeting Room A – Community Meeting Room\, 224 Main Street\, Brattleboro\, VT\, 05301\, United States
CATEGORIES:Children & Families,General,Teens
ATTACH;FMTTYPE=image/png:https://eadn-wc04-3360218.nxedge.io/wp-content/uploads/2024/04/LEGO-palooza-Special-session-event-calendar.png
GEO:42.8553213;-72.5599024
X-APPLE-STRUCTURED-LOCATION;VALUE=URI;X-ADDRESS=Meeting Room A – Community Meeting Room 224 Main Street Brattleboro VT 05301 United States;X-APPLE-RADIUS=500;X-TITLE=224 Main Street:geo:-72.5599024,42.8553213
END:VEVENT
BEGIN:VEVENT
DTSTART;TZID=America/New_York:20260227T183000
DTEND;TZID=America/New_York:20260227T203000
DTSTAMP:20260423T135132
CREATED:20260121T185249Z
LAST-MODIFIED:20260209T150848Z
UID:10005228-1772217000-1772224200@brookslibraryvt.org
SUMMARY:Teen Movie Night! - CLUE
DESCRIPTION:The Teen Advisory Board invites you to join us for a Teens Only movie night showing of Clue! \nThe movie will start at 6:30pm. Snacks and comfy chairs provided! \nHosted by the Teen Advisory Board. “Teens Only” events are open to people in grades 7-12.
URL:https://brookslibraryvt.org/event/teen-movie-night-6/
LOCATION:Meeting Room A – Community Meeting Room\, 224 Main Street\, Brattleboro\, VT\, 05301\, United States
CATEGORIES:Teens
ATTACH;FMTTYPE=image/png:https://eadn-wc04-3360218.nxedge.io/wp-content/uploads/2026/01/Teen-Movie-Night12.png
ORGANIZER;CN="Teen Advisory Board":MAILTO:teens@brookslibraryvt.org
GEO:42.8553213;-72.5599024
X-APPLE-STRUCTURED-LOCATION;VALUE=URI;X-ADDRESS=Meeting Room A – Community Meeting Room 224 Main Street Brattleboro VT 05301 United States;X-APPLE-RADIUS=500;X-TITLE=224 Main Street:geo:-72.5599024,42.8553213
END:VEVENT
BEGIN:VEVENT
DTSTART;TZID=America/New_York:20260228T140000
DTEND;TZID=America/New_York:20260228T160000
DTSTAMP:20260423T135132
CREATED:20260207T195258Z
LAST-MODIFIED:20260218T205311Z
UID:10005346-1772287200-1772294400@brookslibraryvt.org
SUMMARY:A Legacy of Courage: Poetry and Book Readings
DESCRIPTION:In celebration of African American History month\, Brooks Memorial Library and the Windham Co. NAACP are co-sponsoring A Legacy of Courage – Poetry and Book Readings on Saturday\, Feb. 28\, 2026 at 2pm. Join us for an inspiring and illuminating afternoon as we hear the words of African-American poets and writers over the last two hundred years\, voices of courage and resilience. We will hear the powerful words of Sojourner Truth and Frederick Douglass\, Rev. Dr. Martin Luther King\, June Jordan\, Howard Thurman\, Nikki Giovanni and many more. \nIn these challenging times\, we look to these activists\, abolitionists\, poets and writers whose words can strengthen our resolve and offer us vision to continue on\, helping to bend the arc of the universe toward justice. There are few things more powerful than the printed word and hearing voices of history come through. We will honor and celebrate this legacy together. \nIf you have a favorite poem or reading\, please bring to share! \nWe hope you can join us at Brooks Memorial Library for this event. \n——- \n“Life is a hard battle anyway. If we laugh and sing alittle as we fight the good fight of freedom\, it makes it all go easier. I will not allow my life’s light to be determined by the darkness around me.” (attributed to Sojourner Truth) \n“Poetry is a political act because it involves telling the truth.” – June Jordan \nThe Windham County Vermont Branch of the NAACP is dedicated to serving the needs and promoting the social\, economic\, political and inter-personal power of people of color and their allies living in our county. \nFor information and details\, visit www.windhamnaacp.org
URL:https://brookslibraryvt.org/event/a-legacy-of-courage-poetry-and-book-readings/
LOCATION:Main Reading Room
CATEGORIES:Adults,General,Teens
ATTACH;FMTTYPE=image/png:https://eadn-wc04-3360218.nxedge.io/wp-content/uploads/2026/02/image.png
ORGANIZER;CN="Windham County Branch of the NAACP":MAILTO:telosw@gmail.com
GEO:42.8553213;-72.5599024
END:VEVENT
END:VCALENDAR