BEGIN:VCALENDAR
VERSION:2.0
PRODID:-//Brooks Memorial Library - Brattleboro VT - ECPv6.15.17.1//NONSGML v1.0//EN
CALSCALE:GREGORIAN
METHOD:PUBLISH
X-WR-CALNAME:Brooks Memorial Library - Brattleboro VT
X-ORIGINAL-URL:https://brookslibraryvt.org
X-WR-CALDESC:Events for Brooks Memorial Library - Brattleboro VT
REFRESH-INTERVAL;VALUE=DURATION:PT1H
X-Robots-Tag:noindex
X-PUBLISHED-TTL:PT1H
BEGIN:VTIMEZONE
TZID:America/New_York
BEGIN:DAYLIGHT
TZOFFSETFROM:-0500
TZOFFSETTO:-0400
TZNAME:EDT
DTSTART:20250309T070000
END:DAYLIGHT
BEGIN:STANDARD
TZOFFSETFROM:-0400
TZOFFSETTO:-0500
TZNAME:EST
DTSTART:20251102T060000
END:STANDARD
BEGIN:DAYLIGHT
TZOFFSETFROM:-0500
TZOFFSETTO:-0400
TZNAME:EDT
DTSTART:20260308T070000
END:DAYLIGHT
BEGIN:STANDARD
TZOFFSETFROM:-0400
TZOFFSETTO:-0500
TZNAME:EST
DTSTART:20261101T060000
END:STANDARD
BEGIN:DAYLIGHT
TZOFFSETFROM:-0500
TZOFFSETTO:-0400
TZNAME:EDT
DTSTART:20270314T070000
END:DAYLIGHT
BEGIN:STANDARD
TZOFFSETFROM:-0400
TZOFFSETTO:-0500
TZNAME:EST
DTSTART:20271107T060000
END:STANDARD
END:VTIMEZONE
BEGIN:VEVENT
DTSTART;TZID=America/New_York:20260412T130000
DTEND;TZID=America/New_York:20260412T143000
DTSTAMP:20260423T105746
CREATED:20260314T180338Z
LAST-MODIFIED:20260402T195115Z
UID:10005461-1775998800-1776004200@brookslibraryvt.org
SUMMARY:TESTED - Book Launch with Author Anna Monders
DESCRIPTION:Brooks Memorial Library will host a book launch party with debut author—and library employee—Anna Monders at 1 p.m. on Sunday\, April 12 in the main reading room of 224 Main St.\, Brattleboro.\n\n \nSet in a world ruthlessly divided by genetic class\, Tested is a high-stakes novel for ages ten and up. Tested follows fourteen-year-old Mikayla\, a genetic Elite\, in the days before the exam that will secure her privileged life. When Mikayla discovers a secret in her DNA\, she starts questioning her rigid society for the first time in her life.\n\n \nMonders will demonstrate a DNA extraction experiment\, engage in dialogue with Max Newirth\, Teen Services Specialist and convener of the monthly Sci-Fi Readers meet-up\, and answer questions about the novel\, the writing life\, and the publishing process.\n \n\n \nThe Friends of the Brooks Memorial Library will provide twenty-five free copies of the book to kids and teens who attend the event. Books will also be available for purchase. All ages are welcome. There will be high-grade chocolate!
URL:https://brookslibraryvt.org/event/tested-book-launch-with-author-anna-monders/
LOCATION:Main Reading Room
CATEGORIES:Children & Families,General,Teens
ATTACH;FMTTYPE=image/png:https://eadn-wc04-3360218.nxedge.io/wp-content/uploads/2026/03/Library-Web-Icon-TESTED.png
GEO:42.8553213;-72.5599024
END:VEVENT
BEGIN:VEVENT
DTSTART;TZID=America/New_York:20260414T163000
DTEND;TZID=America/New_York:20260414T180000
DTSTAMP:20260423T105746
CREATED:20251204T185227Z
LAST-MODIFIED:20251204T185227Z
UID:10004758-1776184200-1776189600@brookslibraryvt.org
SUMMARY:Library Board of Trustees
DESCRIPTION:Monthly meeting of the Brooks Memorial Library Board of Trustees. Citizen attendance and commentary welcome! \nBoard of Trustees
URL:https://brookslibraryvt.org/event/library-board-of-trustees-6/2026-04-14/
LOCATION:Meeting Room A – Community Meeting Room\, 224 Main Street\, Brattleboro\, VT\, 05301\, United States
CATEGORIES:General,Teens
ATTACH;FMTTYPE=image/png:https://eadn-wc04-3360218.nxedge.io/wp-content/uploads/2023/01/BML-medium-logo.png
ORGANIZER;CN="Brooks Memorial Library":MAILTO:outreach@brookslibraryvt.org
GEO:42.8553213;-72.5599024
X-APPLE-STRUCTURED-LOCATION;VALUE=URI;X-ADDRESS=Meeting Room A – Community Meeting Room 224 Main Street Brattleboro VT 05301 United States;X-APPLE-RADIUS=500;X-TITLE=224 Main Street:geo:-72.5599024,42.8553213
END:VEVENT
BEGIN:VEVENT
DTSTART;TZID=America/New_York:20260415T180000
DTEND;TZID=America/New_York:20260415T204500
DTSTAMP:20260423T105746
CREATED:20251210T213214Z
LAST-MODIFIED:20251210T213956Z
UID:10005016-1776276000-1776285900@brookslibraryvt.org
SUMMARY:Game Cafe!
DESCRIPTION:Come join game enthusiasts in playing Magic the Gathering in various formats (including Commander/EDH) as well as other fun and creative board & card games. \nBring your favorite games- All Ages Welcome!
URL:https://brookslibraryvt.org/event/game-cafe-6/2026-04-15/
LOCATION:Meeting Room D – Quiet Reading Room\, 224 Main Street\, Brattleboro\, VT\, 05301\, United States
CATEGORIES:Children & Families,General,Teens
ATTACH;FMTTYPE=image/webp:https://eadn-wc04-3360218.nxedge.io/wp-content/uploads/2022/07/pic163749.webp
GEO:42.8553213;-72.5599024
X-APPLE-STRUCTURED-LOCATION;VALUE=URI;X-ADDRESS=Meeting Room D – Quiet Reading Room 224 Main Street Brattleboro VT 05301 United States;X-APPLE-RADIUS=500;X-TITLE=224 Main Street:geo:-72.5599024,42.8553213
END:VEVENT
BEGIN:VEVENT
DTSTART;TZID=America/New_York:20260417T183000
DTEND;TZID=America/New_York:20260417T203000
DTSTAMP:20260423T105746
CREATED:20260121T185700Z
LAST-MODIFIED:20260409T160600Z
UID:10005229-1776450600-1776457800@brookslibraryvt.org
SUMMARY:Teen Movie Night! - SUPERMAN
DESCRIPTION:The Teen Advisory Board invites you to join us for a Teens Only movie night showing of Superman! \nDue to construction at the back of the library\, this Teen Movie Night will be downstairs in the Main Reading Room of the library! \nThe movie will start at 6:30pm. Snacks provided! \nHosted by the Teen Advisory Board. “Teens Only” events are open to people in grades 7-12. \n 
URL:https://brookslibraryvt.org/event/teen-movie-night-superman/
LOCATION:Main Reading Room
CATEGORIES:Teens
ATTACH;FMTTYPE=image/png:https://eadn-wc04-3360218.nxedge.io/wp-content/uploads/2026/01/Teen-Movie-Night13.png
ORGANIZER;CN="Teen Advisory Board":MAILTO:teens@brookslibraryvt.org
GEO:42.8553213;-72.5599024
END:VEVENT
END:VCALENDAR