BEGIN:VCALENDAR
VERSION:2.0
PRODID:-//Brooks Memorial Library - Brattleboro VT - ECPv6.15.17.1//NONSGML v1.0//EN
CALSCALE:GREGORIAN
METHOD:PUBLISH
X-WR-CALNAME:Brooks Memorial Library - Brattleboro VT
X-ORIGINAL-URL:https://brookslibraryvt.org
X-WR-CALDESC:Events for Brooks Memorial Library - Brattleboro VT
REFRESH-INTERVAL;VALUE=DURATION:PT1H
X-Robots-Tag:noindex
X-PUBLISHED-TTL:PT1H
BEGIN:VTIMEZONE
TZID:America/New_York
BEGIN:DAYLIGHT
TZOFFSETFROM:-0500
TZOFFSETTO:-0400
TZNAME:EDT
DTSTART:20250309T070000
END:DAYLIGHT
BEGIN:STANDARD
TZOFFSETFROM:-0400
TZOFFSETTO:-0500
TZNAME:EST
DTSTART:20251102T060000
END:STANDARD
BEGIN:DAYLIGHT
TZOFFSETFROM:-0500
TZOFFSETTO:-0400
TZNAME:EDT
DTSTART:20260308T070000
END:DAYLIGHT
BEGIN:STANDARD
TZOFFSETFROM:-0400
TZOFFSETTO:-0500
TZNAME:EST
DTSTART:20261101T060000
END:STANDARD
BEGIN:DAYLIGHT
TZOFFSETFROM:-0500
TZOFFSETTO:-0400
TZNAME:EDT
DTSTART:20270314T070000
END:DAYLIGHT
BEGIN:STANDARD
TZOFFSETFROM:-0400
TZOFFSETTO:-0500
TZNAME:EST
DTSTART:20271107T060000
END:STANDARD
END:VTIMEZONE
BEGIN:VEVENT
DTSTART;TZID=America/New_York:20260609T163000
DTEND;TZID=America/New_York:20260609T180000
DTSTAMP:20260423T152508
CREATED:20251204T185227Z
LAST-MODIFIED:20251204T185227Z
UID:10004760-1781022600-1781028000@brookslibraryvt.org
SUMMARY:Library Board of Trustees
DESCRIPTION:Monthly meeting of the Brooks Memorial Library Board of Trustees. Citizen attendance and commentary welcome! \nBoard of Trustees
URL:https://brookslibraryvt.org/event/library-board-of-trustees-6/2026-06-09/
LOCATION:Meeting Room A – Community Meeting Room\, 224 Main Street\, Brattleboro\, VT\, 05301\, United States
CATEGORIES:General,Teens
ATTACH;FMTTYPE=image/png:https://eadn-wc04-3360218.nxedge.io/wp-content/uploads/2023/01/BML-medium-logo.png
ORGANIZER;CN="Brooks Memorial Library":MAILTO:outreach@brookslibraryvt.org
GEO:42.8553213;-72.5599024
X-APPLE-STRUCTURED-LOCATION;VALUE=URI;X-ADDRESS=Meeting Room A – Community Meeting Room 224 Main Street Brattleboro VT 05301 United States;X-APPLE-RADIUS=500;X-TITLE=224 Main Street:geo:-72.5599024,42.8553213
END:VEVENT
BEGIN:VEVENT
DTSTART;TZID=America/New_York:20260610T180000
DTEND;TZID=America/New_York:20260610T204500
DTSTAMP:20260423T152508
CREATED:20251210T213214Z
LAST-MODIFIED:20251210T213956Z
UID:10005024-1781114400-1781124300@brookslibraryvt.org
SUMMARY:Game Cafe!
DESCRIPTION:Come join game enthusiasts in playing Magic the Gathering in various formats (including Commander/EDH) as well as other fun and creative board & card games. \nBring your favorite games- All Ages Welcome!
URL:https://brookslibraryvt.org/event/game-cafe-6/2026-06-10/
LOCATION:Meeting Room D – Quiet Reading Room\, 224 Main Street\, Brattleboro\, VT\, 05301\, United States
CATEGORIES:Children & Families,General,Teens
ATTACH;FMTTYPE=image/webp:https://eadn-wc04-3360218.nxedge.io/wp-content/uploads/2022/07/pic163749.webp
GEO:42.8553213;-72.5599024
X-APPLE-STRUCTURED-LOCATION;VALUE=URI;X-ADDRESS=Meeting Room D – Quiet Reading Room 224 Main Street Brattleboro VT 05301 United States;X-APPLE-RADIUS=500;X-TITLE=224 Main Street:geo:-72.5599024,42.8553213
END:VEVENT
END:VCALENDAR