BEGIN:VCALENDAR
VERSION:2.0
PRODID:-//Brooks Memorial Library - Brattleboro VT - ECPv6.15.17.1//NONSGML v1.0//EN
CALSCALE:GREGORIAN
METHOD:PUBLISH
X-ORIGINAL-URL:https://brookslibraryvt.org
X-WR-CALDESC:Events for Brooks Memorial Library - Brattleboro VT
REFRESH-INTERVAL;VALUE=DURATION:PT1H
X-Robots-Tag:noindex
X-PUBLISHED-TTL:PT1H
BEGIN:VTIMEZONE
TZID:America/New_York
BEGIN:DAYLIGHT
TZOFFSETFROM:-0500
TZOFFSETTO:-0400
TZNAME:EDT
DTSTART:20200308T070000
END:DAYLIGHT
BEGIN:STANDARD
TZOFFSETFROM:-0400
TZOFFSETTO:-0500
TZNAME:EST
DTSTART:20201101T060000
END:STANDARD
BEGIN:DAYLIGHT
TZOFFSETFROM:-0500
TZOFFSETTO:-0400
TZNAME:EDT
DTSTART:20210314T070000
END:DAYLIGHT
BEGIN:STANDARD
TZOFFSETFROM:-0400
TZOFFSETTO:-0500
TZNAME:EST
DTSTART:20211107T060000
END:STANDARD
BEGIN:DAYLIGHT
TZOFFSETFROM:-0500
TZOFFSETTO:-0400
TZNAME:EDT
DTSTART:20220313T070000
END:DAYLIGHT
BEGIN:STANDARD
TZOFFSETFROM:-0400
TZOFFSETTO:-0500
TZNAME:EST
DTSTART:20221106T060000
END:STANDARD
BEGIN:DAYLIGHT
TZOFFSETFROM:-0500
TZOFFSETTO:-0400
TZNAME:EDT
DTSTART:20230312T070000
END:DAYLIGHT
BEGIN:STANDARD
TZOFFSETFROM:-0400
TZOFFSETTO:-0500
TZNAME:EST
DTSTART:20231105T060000
END:STANDARD
BEGIN:DAYLIGHT
TZOFFSETFROM:-0500
TZOFFSETTO:-0400
TZNAME:EDT
DTSTART:20240310T070000
END:DAYLIGHT
BEGIN:STANDARD
TZOFFSETFROM:-0400
TZOFFSETTO:-0500
TZNAME:EST
DTSTART:20241103T060000
END:STANDARD
BEGIN:DAYLIGHT
TZOFFSETFROM:-0500
TZOFFSETTO:-0400
TZNAME:EDT
DTSTART:20250309T070000
END:DAYLIGHT
BEGIN:STANDARD
TZOFFSETFROM:-0400
TZOFFSETTO:-0500
TZNAME:EST
DTSTART:20251102T060000
END:STANDARD
BEGIN:DAYLIGHT
TZOFFSETFROM:-0500
TZOFFSETTO:-0400
TZNAME:EDT
DTSTART:20260308T070000
END:DAYLIGHT
BEGIN:STANDARD
TZOFFSETFROM:-0400
TZOFFSETTO:-0500
TZNAME:EST
DTSTART:20261101T060000
END:STANDARD
END:VTIMEZONE
BEGIN:VEVENT
DTSTART;TZID=America/New_York:20251001T100000
DTEND;TZID=America/New_York:20251015T200000
DTSTAMP:20260423T234136
CREATED:20250920T153307Z
LAST-MODIFIED:20250920T153307Z
UID:10004523-1759312800-1760558400@brookslibraryvt.org
SUMMARY:Design-A-Plate
DESCRIPTION:Our 44th annual Design-A-Plate workshop in a take-home format! \n Beginning Wednesday\, October 1\, stop by the Children’s Room at Brooks Memorial Library to pick up a Design-A-Plate packet. Create your drawings at home then return the packet to the library by 8:00 pm on Wednesday October 15. Choose between an 8-inch melamine plate\, a 10-inch melamine plate or 12-ounce melamine bowl. The price is $9.00 per item. Please include payment when the completed drawings are dropped off at the library. Cash and checks made out to Brooks Memorial Library are accepted.Plates and bowls will be ready for pickup in early December. \n Design-A-Plate is great for all ages. For more information\, please call the Children’s Room at 802-254-5290 x1210 or visit our website at brookslibraryvt.org/kids/DAP.
URL:https://brookslibraryvt.org/event/design-a-plate/
LOCATION:Children’s Room\, 224 Main Street\, Brattleboro\, VT\, 05301\, United States
CATEGORIES:Children & Families,General
ATTACH;FMTTYPE=image/png:https://eadn-wc04-3360218.nxedge.io/wp-content/uploads/2025/09/DAP-event-calendar.png
ORGANIZER;CN="BML Children's Room":MAILTO:cr@brookslibraryvt.org
GEO:42.8553213;-72.5599024
X-APPLE-STRUCTURED-LOCATION;VALUE=URI;X-ADDRESS=Children’s Room 224 Main Street Brattleboro VT 05301 United States;X-APPLE-RADIUS=500;X-TITLE=224 Main Street:geo:-72.5599024,42.8553213
END:VEVENT
BEGIN:VEVENT
DTSTART;TZID=America/New_York:20231017T100000
DTEND;TZID=America/New_York:20231017T200000
DTSTAMP:20260423T234136
CREATED:20230921T194406Z
LAST-MODIFIED:20231004T162434Z
UID:10001198-1697536800-1697572800@brookslibraryvt.org
SUMMARY:Design-a-Plate DUE TODAY
DESCRIPTION:You can return your packet and payment to the library at any time up to 8pm on Tuesday\, October 17th. \nDesign-A-Plate is a Pay-What-You-Can event; Suggested cost is $6 per item. \n  \nSee our FAQ for more information
URL:https://brookslibraryvt.org/event/design-a-plate-due-today-2/
LOCATION:Children’s Room\, 224 Main Street\, Brattleboro\, VT\, 05301\, United States
CATEGORIES:Children & Families,General,Teens
ATTACH;FMTTYPE=image/png:https://eadn-wc04-3360218.nxedge.io/wp-content/uploads/2023/09/Coming-soon3.png
ORGANIZER;CN="BML Children's Room":MAILTO:cr@brookslibraryvt.org
GEO:42.8553213;-72.5599024
X-APPLE-STRUCTURED-LOCATION;VALUE=URI;X-ADDRESS=Children’s Room 224 Main Street Brattleboro VT 05301 United States;X-APPLE-RADIUS=500;X-TITLE=224 Main Street:geo:-72.5599024,42.8553213
END:VEVENT
BEGIN:VEVENT
DTSTART;TZID=America/New_York:20231012T100000
DTEND;TZID=America/New_York:20231012T210000
DTSTAMP:20260423T234136
CREATED:20230921T194231Z
LAST-MODIFIED:20231004T160424Z
UID:10001197-1697104800-1697144400@brookslibraryvt.org
SUMMARY:42nd Annual (Take Home!) Design-a-Plate Workshop This Week
DESCRIPTION:The 42nd Annual (Take Home) Design-a-Plate Workshop is happening NOW! \nYou can pick up your packet any time between Monday\, October 2nd and Tuesday October 17th. You can return your packet and payment to the library at any point up to 8pm on Tuesday\, October 17th. \nDesign-A-Plate is a Pay-What-You-Can event; Suggested cost is $6 per item. \nSee our FAQ for details
URL:https://brookslibraryvt.org/event/42nd-annual-take-home-design-a-plate-workshop-this-week-2/
LOCATION:Children’s Room\, 224 Main Street\, Brattleboro\, VT\, 05301\, United States
CATEGORIES:Children & Families,General,Teens
ATTACH;FMTTYPE=image/png:https://eadn-wc04-3360218.nxedge.io/wp-content/uploads/2023/09/Coming-soon2.png
ORGANIZER;CN="BML Children's Room":MAILTO:cr@brookslibraryvt.org
GEO:42.8553213;-72.5599024
X-APPLE-STRUCTURED-LOCATION;VALUE=URI;X-ADDRESS=Children’s Room 224 Main Street Brattleboro VT 05301 United States;X-APPLE-RADIUS=500;X-TITLE=224 Main Street:geo:-72.5599024,42.8553213
END:VEVENT
BEGIN:VEVENT
DTSTART;TZID=America/New_York:20231006T100000
DTEND;TZID=America/New_York:20231006T210000
DTSTAMP:20260423T234136
CREATED:20230921T194029Z
LAST-MODIFIED:20231004T160249Z
UID:10001196-1696586400-1696626000@brookslibraryvt.org
SUMMARY:42nd Annual (Take Home!) Design-a-Plate Workshop This Week
DESCRIPTION:The 42nd Annual (Take Home) Design-a-Plate Workshop is happening NOW! \nYou can pick up your packet any time between Monday\, October 2nd and Tuesday October 17th. You can return your packet and payment to the library at any point up to 8pm on Tuesday\, October 17th. \nDesign-A-Plate is a Pay-What-You-Can event; Suggested cost is $6 per item. \nSee our FAQ for details
URL:https://brookslibraryvt.org/event/42nd-annual-take-home-design-a-plate-workshop-this-week/
LOCATION:Children’s Room\, 224 Main Street\, Brattleboro\, VT\, 05301\, United States
CATEGORIES:Children & Families,General,Teens
ATTACH;FMTTYPE=image/png:https://eadn-wc04-3360218.nxedge.io/wp-content/uploads/2023/09/Coming-soon2.png
ORGANIZER;CN="BML Children's Room":MAILTO:cr@brookslibraryvt.org
GEO:42.8553213;-72.5599024
X-APPLE-STRUCTURED-LOCATION;VALUE=URI;X-ADDRESS=Children’s Room 224 Main Street Brattleboro VT 05301 United States;X-APPLE-RADIUS=500;X-TITLE=224 Main Street:geo:-72.5599024,42.8553213
END:VEVENT
BEGIN:VEVENT
DTSTART;TZID=America/New_York:20231002T100000
DTEND;TZID=America/New_York:20231002T210000
DTSTAMP:20260423T234136
CREATED:20230921T193607Z
LAST-MODIFIED:20230922T200747Z
UID:10001195-1696240800-1696280400@brookslibraryvt.org
SUMMARY:42nd Annual (Take Home) Design-a-Plate Workshop Begins
DESCRIPTION:Welcome to the 42nd Annual (Take Home) Design-a-Plate Workshop! \nYou can pick up your packet in the Children’s Room any time between Friday\, October 2nd and Tuesday October 17th. You can return your packet and payment to the library at any point up to 8pm on Tuesday\, October 17th. \nDesign-A-Plate is a Pay-What-You-Can event; Suggested cost is $6 per item. \nSee our FAQ for details
URL:https://brookslibraryvt.org/event/42nd-annual-take-home-design-a-plate-workshop-begins/
LOCATION:Children’s Room\, 224 Main Street\, Brattleboro\, VT\, 05301\, United States
CATEGORIES:Children & Families,General,Teens
ATTACH;FMTTYPE=image/png:https://eadn-wc04-3360218.nxedge.io/wp-content/uploads/2023/09/DAP-for-events-calendar.png
ORGANIZER;CN="BML Children's Room":MAILTO:cr@brookslibraryvt.org
GEO:42.8553213;-72.5599024
X-APPLE-STRUCTURED-LOCATION;VALUE=URI;X-ADDRESS=Children’s Room 224 Main Street Brattleboro VT 05301 United States;X-APPLE-RADIUS=500;X-TITLE=224 Main Street:geo:-72.5599024,42.8553213
END:VEVENT
BEGIN:VEVENT
DTSTART;TZID=America/New_York:20221017T100000
DTEND;TZID=America/New_York:20221017T200000
DTSTAMP:20260423T234136
CREATED:20221012T152816Z
LAST-MODIFIED:20221012T152816Z
UID:10000544-1666000800-1666036800@brookslibraryvt.org
SUMMARY:Design-a-Plate DUE TODAY
DESCRIPTION:You can return your packet and payment to the library at any time up to 8pm on Monday\, October 17th. \nDesign-A-Plate is a Pay-What-You-Can event; Suggested cost is $6 per item. \n  \nSee our FAQ for more information
URL:https://brookslibraryvt.org/event/design-a-plate-due-today/
LOCATION:Children’s Room\, 224 Main Street\, Brattleboro\, VT\, 05301\, United States
CATEGORIES:Children & Families,General,Teens
ATTACH;FMTTYPE=image/png:https://eadn-wc04-3360218.nxedge.io/wp-content/uploads/2022/10/DAPs-for-FacebookDUE.png
ORGANIZER;CN="BML Children's Room":MAILTO:cr@brookslibraryvt.org
GEO:42.8553213;-72.5599024
X-APPLE-STRUCTURED-LOCATION;VALUE=URI;X-ADDRESS=Children’s Room 224 Main Street Brattleboro VT 05301 United States;X-APPLE-RADIUS=500;X-TITLE=224 Main Street:geo:-72.5599024,42.8553213
END:VEVENT
BEGIN:VEVENT
DTSTART;VALUE=DATE:20211013
DTEND;VALUE=DATE:20211014
DTSTAMP:20260423T234136
CREATED:20210914T180536Z
LAST-MODIFIED:20210914T180536Z
UID:10000201-1634083200-1634169599@brookslibraryvt.org
SUMMARY:40th Annual (Take Home) Design-a-Plate Workshop Final Day
DESCRIPTION:The 40th Annual (Take Home) Design-a-Plate Workshop ends TODAY! \nPlease return your packet and payment to the library at any point up to 8pm TODAY Wednesday\, October 13th. \nDesign-A-Plate is a Pay-What-You-Can event; Suggested cost is $6 per item. \nSee our FAQ for details
URL:https://brookslibraryvt.org/event/40th-annual-take-home-design-a-plate-workshop-final-day/
LOCATION:Children’s Room\, 224 Main Street\, Brattleboro\, VT\, 05301\, United States
CATEGORIES:Children & Families,General,Teens
ATTACH;FMTTYPE=image/png:https://eadn-wc04-3360218.nxedge.io/wp-content/uploads/2021/09/DAP-for-Website-2.png
ORGANIZER;CN="BML Children's Room":MAILTO:cr@brookslibraryvt.org
GEO:42.8553213;-72.5599024
X-APPLE-STRUCTURED-LOCATION;VALUE=URI;X-ADDRESS=Children’s Room 224 Main Street Brattleboro VT 05301 United States;X-APPLE-RADIUS=500;X-TITLE=224 Main Street:geo:-72.5599024,42.8553213
END:VEVENT
BEGIN:VEVENT
DTSTART;VALUE=DATE:20211001
DTEND;VALUE=DATE:20211002
DTSTAMP:20260423T234136
CREATED:20210910T194202Z
LAST-MODIFIED:20210914T181301Z
UID:10000183-1633046400-1633132799@brookslibraryvt.org
SUMMARY:40th Annual (Take Home) Design-a-Plate Workshop Begins
DESCRIPTION:Welcome to the 40th Annual (Take Home) Design-a-Plate Workshop! \nYou can pick up your packet any time between Friday\, October 1st and Wednesday October 13th. You can return your packet and payment to the library at any point up to 8pm on Wednesday\, October 13th. \nDesign-A-Plate is a Pay-What-You-Can event; Suggested cost is $6 per item. \nSee our FAQ for details \n 
URL:https://brookslibraryvt.org/event/40th-annual-take-home-design-a-plate-workshop-begins/
LOCATION:Children’s Room\, 224 Main Street\, Brattleboro\, VT\, 05301\, United States
CATEGORIES:Children & Families,General,Teens
ATTACH;FMTTYPE=image/png:https://eadn-wc04-3360218.nxedge.io/wp-content/uploads/2021/09/DAP-for-Website-2.png
ORGANIZER;CN="BML Children's Room":MAILTO:cr@brookslibraryvt.org
GEO:42.8553213;-72.5599024
X-APPLE-STRUCTURED-LOCATION;VALUE=URI;X-ADDRESS=Children’s Room 224 Main Street Brattleboro VT 05301 United States;X-APPLE-RADIUS=500;X-TITLE=224 Main Street:geo:-72.5599024,42.8553213
END:VEVENT
END:VCALENDAR