BEGIN:VCALENDAR
VERSION:2.0
PRODID:-//Brooks Memorial Library - Brattleboro VT - ECPv6.15.17.1//NONSGML v1.0//EN
CALSCALE:GREGORIAN
METHOD:PUBLISH
X-WR-CALNAME:Brooks Memorial Library - Brattleboro VT
X-ORIGINAL-URL:https://brookslibraryvt.org
X-WR-CALDESC:Events for Brooks Memorial Library - Brattleboro VT
REFRESH-INTERVAL;VALUE=DURATION:PT1H
X-Robots-Tag:noindex
X-PUBLISHED-TTL:PT1H
BEGIN:VTIMEZONE
TZID:America/New_York
BEGIN:DAYLIGHT
TZOFFSETFROM:-0500
TZOFFSETTO:-0400
TZNAME:EDT
DTSTART:20210314T070000
END:DAYLIGHT
BEGIN:STANDARD
TZOFFSETFROM:-0400
TZOFFSETTO:-0500
TZNAME:EST
DTSTART:20211107T060000
END:STANDARD
BEGIN:DAYLIGHT
TZOFFSETFROM:-0500
TZOFFSETTO:-0400
TZNAME:EDT
DTSTART:20220313T070000
END:DAYLIGHT
BEGIN:STANDARD
TZOFFSETFROM:-0400
TZOFFSETTO:-0500
TZNAME:EST
DTSTART:20221106T060000
END:STANDARD
BEGIN:DAYLIGHT
TZOFFSETFROM:-0500
TZOFFSETTO:-0400
TZNAME:EDT
DTSTART:20230312T070000
END:DAYLIGHT
BEGIN:STANDARD
TZOFFSETFROM:-0400
TZOFFSETTO:-0500
TZNAME:EST
DTSTART:20231105T060000
END:STANDARD
BEGIN:DAYLIGHT
TZOFFSETFROM:-0500
TZOFFSETTO:-0400
TZNAME:EDT
DTSTART:20240310T070000
END:DAYLIGHT
BEGIN:STANDARD
TZOFFSETFROM:-0400
TZOFFSETTO:-0500
TZNAME:EST
DTSTART:20241103T060000
END:STANDARD
END:VTIMEZONE
BEGIN:VEVENT
DTSTART;TZID=America/New_York:20230630T203000
DTEND;TZID=America/New_York:20230630T223000
DTSTAMP:20260425T112448
CREATED:20230622T000535Z
LAST-MODIFIED:20230622T000641Z
UID:10001033-1688157000-1688164200@brookslibraryvt.org
SUMMARY:Outdoor Movie Night: "The Birdcage"
DESCRIPTION:Join us in the library parking lot for a Teens Only outdoor movie night to kick off Summer Reading Program. Bring your own seating! \nIn honor of Pride Month\, we will watch “The Birdcage”. “The Birdcage” is a campy\, funny\, queer cult classic about an openly gay drag club owner and his drag queen partner putting up a false straight front so that their son can introduce them to his fiancée’s right-wing moralistic parents. The movie will start at 8pm and has a 1 hour and 57 minute run time. \nRATING INFORMATION: \n“The Birdcage” is a fun\, comedic romp set in a South Beach nightclub with a drag show. There’s some strong language. Characters are frequently seen drinking\, usually with a meal or in celebration\, and two characters are occasionally depicted smoking. A lot of extras in the background are scantily clad\, and some phallic home-decor items are seen. \nPlease check out Common Sense Media for more content details from both children and adults: https://www.commonsensemedia.org/movie-reviews/the-birdcage \n  \nHosted by the Teen Advisory Board.\n“Teens Only” events are open to people in grades 7-12.
URL:https://brookslibraryvt.org/event/outdoor-movie-night-the-birdcage/
LOCATION:Parking Lot\, 224 Main Street\, Brattleboro\, VT\, 05301\, United States
CATEGORIES:Teens
ATTACH;FMTTYPE=image/png:https://eadn-wc04-3360218.nxedge.io/wp-content/uploads/2022/06/PrideMovieNight.png
ORGANIZER;CN="Teen Advisory Board":MAILTO:teens@brookslibraryvt.org
GEO:42.8553213;-72.5599024
X-APPLE-STRUCTURED-LOCATION;VALUE=URI;X-ADDRESS=Parking Lot 224 Main Street Brattleboro VT 05301 United States;X-APPLE-RADIUS=500;X-TITLE=224 Main Street:geo:-72.5599024,42.8553213
END:VEVENT
BEGIN:VEVENT
DTSTART;TZID=America/New_York:20220624T200000
DTEND;TZID=America/New_York:20220624T220000
DTSTAMP:20260425T112448
CREATED:20220615T223633Z
LAST-MODIFIED:20220615T224018Z
UID:10000344-1656100800-1656108000@brookslibraryvt.org
SUMMARY:Outdoor Movie Night: "But I'm a Cheerleader"
DESCRIPTION:Join us in the library parking lot for a Teens Only outdoor movie night to kick off Summer Reading Program. Bring your own seating! \nIn honor of Pride Month\, we will watch “But I’m a Cheerleader”. “But I’m a Cheerleader” is a campy\, funny\, queer-positive cult classic about a high school cheerleader whose parents send her to gay conversion therapy where she bonds with other gay teens. The movie will start at 8pm and has a 1 hour and 25 minute run time. \nRATING INFORMATION: \n“But I’m a Cheerleader” is a Rated R movie. Teen Movie Nights are typically Rated PG-13\, however “But I’m a Cheerleader” was made in the 90’s when cultural homophobia demanded an R rating for queer-centric stories. There is some swearing in this movie\, but only enough to receive a PG-13 rating if it were made today. \nPlease check out Common Sense Media for more content details from both children and adults: https://www.commonsensemedia.org/movie-reviews/but-im-a-cheerleader \n  \nHosted by the Teen Advisory Board.\n“Teens Only” events are open to people in grades 7-12.
URL:https://brookslibraryvt.org/event/outdoor-movie-night-cheerleader/
LOCATION:Parking Lot\, 224 Main Street\, Brattleboro\, VT\, 05301\, United States
CATEGORIES:Teens
ATTACH;FMTTYPE=image/png:https://eadn-wc04-3360218.nxedge.io/wp-content/uploads/2022/06/PrideMovieNight.png
ORGANIZER;CN="Teen Advisory Board":MAILTO:teens@brookslibraryvt.org
GEO:42.8553213;-72.5599024
X-APPLE-STRUCTURED-LOCATION;VALUE=URI;X-ADDRESS=Parking Lot 224 Main Street Brattleboro VT 05301 United States;X-APPLE-RADIUS=500;X-TITLE=224 Main Street:geo:-72.5599024,42.8553213
END:VEVENT
END:VCALENDAR