BEGIN:VCALENDAR
VERSION:2.0
PRODID:-//Brooks Memorial Library - Brattleboro VT - ECPv6.15.17.1//NONSGML v1.0//EN
CALSCALE:GREGORIAN
METHOD:PUBLISH
X-WR-CALNAME:Brooks Memorial Library - Brattleboro VT
X-ORIGINAL-URL:https://brookslibraryvt.org
X-WR-CALDESC:Events for Brooks Memorial Library - Brattleboro VT
REFRESH-INTERVAL;VALUE=DURATION:PT1H
X-Robots-Tag:noindex
X-PUBLISHED-TTL:PT1H
BEGIN:VTIMEZONE
TZID:America/New_York
BEGIN:DAYLIGHT
TZOFFSETFROM:-0500
TZOFFSETTO:-0400
TZNAME:EDT
DTSTART:20240310T070000
END:DAYLIGHT
BEGIN:STANDARD
TZOFFSETFROM:-0400
TZOFFSETTO:-0500
TZNAME:EST
DTSTART:20241103T060000
END:STANDARD
BEGIN:DAYLIGHT
TZOFFSETFROM:-0500
TZOFFSETTO:-0400
TZNAME:EDT
DTSTART:20250309T070000
END:DAYLIGHT
BEGIN:STANDARD
TZOFFSETFROM:-0400
TZOFFSETTO:-0500
TZNAME:EST
DTSTART:20251102T060000
END:STANDARD
BEGIN:DAYLIGHT
TZOFFSETFROM:-0500
TZOFFSETTO:-0400
TZNAME:EDT
DTSTART:20260308T070000
END:DAYLIGHT
BEGIN:STANDARD
TZOFFSETFROM:-0400
TZOFFSETTO:-0500
TZNAME:EST
DTSTART:20261101T060000
END:STANDARD
END:VTIMEZONE
BEGIN:VEVENT
DTSTART;TZID=America/New_York:20250701T103000
DTEND;TZID=America/New_York:20250701T233000
DTSTAMP:20260425T093309
CREATED:20250701T135533Z
LAST-MODIFIED:20250701T135534Z
UID:10004337-1751365800-1751412600@brookslibraryvt.org
SUMMARY:MOVED INSIDE DUE TO RAIN-Sing & Dance with Robin
DESCRIPTION:For Ages 0-5 and their caregivers\, held on the Brattleboro Commons. \nThis lovely class is an enriching musical experience for toddlers and preschoolers\, designed to support healthy cognitive\, physical\, and social development. Children will sing\, clap\, stomp\, dance\, and play along with the curriculum of traditional and modern folk songs. Parents will be encouraged to fully sing and participate with their child in the class. \nOn rainy days\, Sing & Dance will be held in the BML Community Meeting Room.
URL:https://brookslibraryvt.org/event/on-the-common-sing-dance-with-robin-2/
LOCATION:VT
CATEGORIES:Children & Families
ATTACH;FMTTYPE=image/png:https://eadn-wc04-3360218.nxedge.io/wp-content/uploads/2024/06/Sing-Dance-with-Robin-on-the-COMMONS.png
ORGANIZER;CN="BML Children's Room":MAILTO:cr@brookslibraryvt.org
END:VEVENT
BEGIN:VEVENT
DTSTART;TZID=America/New_York:20250708T103000
DTEND;TZID=America/New_York:20250708T233000
DTSTAMP:20260425T093309
CREATED:20250617T160527Z
LAST-MODIFIED:20250624T165908Z
UID:10004338-1751970600-1752017400@brookslibraryvt.org
SUMMARY:ON THE COMMONS-Sing & Dance with Robin
DESCRIPTION:For Ages 0-5 and their caregivers\, held on the Brattleboro Commons. \nThis lovely class is an enriching musical experience for toddlers and preschoolers\, designed to support healthy cognitive\, physical\, and social development. Children will sing\, clap\, stomp\, dance\, and play along with the curriculum of traditional and modern folk songs. Parents will be encouraged to fully sing and participate with their child in the class. \nOn rainy days\, Sing & Dance will be held in the BML Community Meeting Room.
URL:https://brookslibraryvt.org/event/on-the-common-sing-dance-with-robin/2025-07-08/
LOCATION:VT
CATEGORIES:Children & Families
ATTACH;FMTTYPE=image/png:https://eadn-wc04-3360218.nxedge.io/wp-content/uploads/2024/06/Sing-Dance-with-Robin-on-the-COMMONS.png
ORGANIZER;CN="BML Children's Room":MAILTO:cr@brookslibraryvt.org
END:VEVENT
BEGIN:VEVENT
DTSTART;TZID=America/New_York:20250715T103000
DTEND;TZID=America/New_York:20250715T233000
DTSTAMP:20260425T093309
CREATED:20250617T160527Z
LAST-MODIFIED:20250624T165908Z
UID:10004339-1752575400-1752622200@brookslibraryvt.org
SUMMARY:ON THE COMMONS-Sing & Dance with Robin
DESCRIPTION:For Ages 0-5 and their caregivers\, held on the Brattleboro Commons. \nThis lovely class is an enriching musical experience for toddlers and preschoolers\, designed to support healthy cognitive\, physical\, and social development. Children will sing\, clap\, stomp\, dance\, and play along with the curriculum of traditional and modern folk songs. Parents will be encouraged to fully sing and participate with their child in the class. \nOn rainy days\, Sing & Dance will be held in the BML Community Meeting Room.
URL:https://brookslibraryvt.org/event/on-the-common-sing-dance-with-robin/2025-07-15/
LOCATION:VT
CATEGORIES:Children & Families
ATTACH;FMTTYPE=image/png:https://eadn-wc04-3360218.nxedge.io/wp-content/uploads/2024/06/Sing-Dance-with-Robin-on-the-COMMONS.png
ORGANIZER;CN="BML Children's Room":MAILTO:cr@brookslibraryvt.org
END:VEVENT
BEGIN:VEVENT
DTSTART;TZID=America/New_York:20250722T103000
DTEND;TZID=America/New_York:20250722T233000
DTSTAMP:20260425T093309
CREATED:20250617T160527Z
LAST-MODIFIED:20250624T165908Z
UID:10004340-1753180200-1753227000@brookslibraryvt.org
SUMMARY:ON THE COMMONS-Sing & Dance with Robin
DESCRIPTION:For Ages 0-5 and their caregivers\, held on the Brattleboro Commons. \nThis lovely class is an enriching musical experience for toddlers and preschoolers\, designed to support healthy cognitive\, physical\, and social development. Children will sing\, clap\, stomp\, dance\, and play along with the curriculum of traditional and modern folk songs. Parents will be encouraged to fully sing and participate with their child in the class. \nOn rainy days\, Sing & Dance will be held in the BML Community Meeting Room.
URL:https://brookslibraryvt.org/event/on-the-common-sing-dance-with-robin/2025-07-22/
LOCATION:VT
CATEGORIES:Children & Families
ATTACH;FMTTYPE=image/png:https://eadn-wc04-3360218.nxedge.io/wp-content/uploads/2024/06/Sing-Dance-with-Robin-on-the-COMMONS.png
ORGANIZER;CN="BML Children's Room":MAILTO:cr@brookslibraryvt.org
END:VEVENT
END:VCALENDAR