BEGIN:VCALENDAR
VERSION:2.0
PRODID:-//Brooks Memorial Library - Brattleboro VT - ECPv6.15.17.1//NONSGML v1.0//EN
CALSCALE:GREGORIAN
METHOD:PUBLISH
X-ORIGINAL-URL:https://brookslibraryvt.org
X-WR-CALDESC:Events for Brooks Memorial Library - Brattleboro VT
REFRESH-INTERVAL;VALUE=DURATION:PT1H
X-Robots-Tag:noindex
X-PUBLISHED-TTL:PT1H
BEGIN:VTIMEZONE
TZID:America/New_York
BEGIN:DAYLIGHT
TZOFFSETFROM:-0500
TZOFFSETTO:-0400
TZNAME:EDT
DTSTART:20230312T070000
END:DAYLIGHT
BEGIN:STANDARD
TZOFFSETFROM:-0400
TZOFFSETTO:-0500
TZNAME:EST
DTSTART:20231105T060000
END:STANDARD
BEGIN:DAYLIGHT
TZOFFSETFROM:-0500
TZOFFSETTO:-0400
TZNAME:EDT
DTSTART:20240310T070000
END:DAYLIGHT
BEGIN:STANDARD
TZOFFSETFROM:-0400
TZOFFSETTO:-0500
TZNAME:EST
DTSTART:20241103T060000
END:STANDARD
BEGIN:DAYLIGHT
TZOFFSETFROM:-0500
TZOFFSETTO:-0400
TZNAME:EDT
DTSTART:20250309T070000
END:DAYLIGHT
BEGIN:STANDARD
TZOFFSETFROM:-0400
TZOFFSETTO:-0500
TZNAME:EST
DTSTART:20251102T060000
END:STANDARD
END:VTIMEZONE
BEGIN:VEVENT
DTSTART;TZID=America/New_York:20240430T190000
DTEND;TZID=America/New_York:20240430T203000
DTSTAMP:20260425T130436
CREATED:20240403T224805Z
LAST-MODIFIED:20240412T213757Z
UID:10001911-1714503600-1714509000@brookslibraryvt.org
SUMMARY:Book Launch--Shades of Mortality\, by Jamal Barbari
DESCRIPTION:Join three time traveling\, universe hopping\, inter-dimensional storytellers as they share stories of life\, death\, love\, and despair in Jamal Barbari’s debut short story collection. Each story features a unique illustration by one of 9 different artists and draws the reader into a mixture of profound\, touching\, and comic tales unlike any you’ve ever read. The dreamlike quality of the collection brings to mind fairy tales with a darkness and capriciousness to the characters reminiscent of Greek mythology. Together\, the collection is a delightful blend of wonder\, tragedy\, and tenderness \nBorn in Bronx\, NY but raised in the Washington DC\, Maryland and Virginia (DMV) area\, Jamal has been traveling and teaching abroad for most of his adult life. His interactions and experiences with different cultures\, people and religions sprouted ideas for his short stories and his love for art prompted him to combine his various literature with unique illustrations from talented artists. When Jamal is not writing\, he’s gaming with friends\, trying new recipes\, listening to a plethora of music\, and slowly becoming a digital nomad.
URL:https://brookslibraryvt.org/event/book-launch-shades-of-mortality-by-jamal-barbari/
LOCATION:Meeting Room A – Community Meeting Room\, 224 Main Street\, Brattleboro\, VT\, 05301\, United States
CATEGORIES:Adults
ATTACH;FMTTYPE=image/jpeg:https://eadn-wc04-3360218.nxedge.io/wp-content/uploads/2024/04/Shades-of-Mortality-Book-Cover-scaled-e1712184464956.jpg
GEO:42.8553213;-72.5599024
X-APPLE-STRUCTURED-LOCATION;VALUE=URI;X-ADDRESS=Meeting Room A – Community Meeting Room 224 Main Street Brattleboro VT 05301 United States;X-APPLE-RADIUS=500;X-TITLE=224 Main Street:geo:-72.5599024,42.8553213
END:VEVENT
BEGIN:VEVENT
DTSTART;TZID=America/New_York:20240430T190000
DTEND;TZID=America/New_York:20240430T203000
DTSTAMP:20260425T130436
CREATED:20240408T213511Z
LAST-MODIFIED:20240412T181609Z
UID:10001913-1714503600-1714509000@brookslibraryvt.org
SUMMARY:Brattleboro's Sustainability in Action
DESCRIPTION:Come hear from community groups and leaders about what’s happening locally to address climate and resilience\, and learn of actions residents can take to improve our Town’s overall sustainability from panelists: \n\nStephen Dotson – Sustainability Coordinator\n\n\nMarilyn Chiarello – Edible Brattleboro\n\n\nDjango Grace – Brattleboro Energy Committee\n\n\nDave Cohen – VBike & Brattleboro Coalition for Active Transport\n\n\nAlex Wilson – Building Green Inc. & the Resilient Design Institute\n\n\nJamina Shupack – Rich Earth Institute
URL:https://brookslibraryvt.org/event/brattleboros-sustainability-in-action/
LOCATION:Main Reading Room
CATEGORIES:Adults
ATTACH;FMTTYPE=image/jpeg:https://eadn-wc04-3360218.nxedge.io/wp-content/uploads/2023/04/banner-e1712613569694.jpg
GEO:42.8553213;-72.5599024
END:VEVENT
BEGIN:VEVENT
DTSTART;TZID=America/New_York:20240501T103000
DTEND;TZID=America/New_York:20240501T110000
DTSTAMP:20260425T130436
CREATED:20240102T163819Z
LAST-MODIFIED:20240524T160500Z
UID:10001669-1714559400-1714561200@brookslibraryvt.org
SUMMARY:Rhyme Time
DESCRIPTION:Join us on Wednesday mornings @ 10:30 am for 30 minutes of stories\, songs\, and fun! \nRhyme Time is for kids 5 & under and their caregivers. \nHere is a handout featuring some of the different songs\, fingerplays\, and movement games we use!
URL:https://brookslibraryvt.org/event/rhyme-time-6/2024-05-01/
LOCATION:Meeting Room A – Community Meeting Room\, 224 Main Street\, Brattleboro\, VT\, 05301\, United States
CATEGORIES:Children & Families
ATTACH;FMTTYPE=image/png:https://eadn-wc04-3360218.nxedge.io/wp-content/uploads/2024/01/New-2-CLJ.png
ORGANIZER;CN="BML Children's Room":MAILTO:cr@brookslibraryvt.org
GEO:42.8553213;-72.5599024
X-APPLE-STRUCTURED-LOCATION;VALUE=URI;X-ADDRESS=Meeting Room A – Community Meeting Room 224 Main Street Brattleboro VT 05301 United States;X-APPLE-RADIUS=500;X-TITLE=224 Main Street:geo:-72.5599024,42.8553213
END:VEVENT
BEGIN:VEVENT
DTSTART;TZID=America/New_York:20240501T151500
DTEND;TZID=America/New_York:20240501T163000
DTSTAMP:20260425T130436
CREATED:20240422T155754Z
LAST-MODIFIED:20240606T154051Z
UID:10001962-1714576500-1714581000@brookslibraryvt.org
SUMMARY:The Board Gaming Guild
DESCRIPTION:Come join in on the fun with the Brooks Memorial Library’s Board Gaming Guild! \nEvery Wednesday at 3:15pm. Stop by to have a great time playing board games in the Children’s Room! \nAges 8 and up. No sign up required!
URL:https://brookslibraryvt.org/event/the-board-gaming-guild-2-2/2024-05-01/
LOCATION:Children’s Room\, 224 Main Street\, Brattleboro\, VT\, 05301\, United States
CATEGORIES:Children & Families
ATTACH;FMTTYPE=image/png:https://eadn-wc04-3360218.nxedge.io/wp-content/uploads/2023/12/Board-Gaming-Guild-Screen.png
ORGANIZER;CN="BML Children's Room":MAILTO:cr@brookslibraryvt.org
GEO:42.8553213;-72.5599024
X-APPLE-STRUCTURED-LOCATION;VALUE=URI;X-ADDRESS=Children’s Room 224 Main Street Brattleboro VT 05301 United States;X-APPLE-RADIUS=500;X-TITLE=224 Main Street:geo:-72.5599024,42.8553213
END:VEVENT
BEGIN:VEVENT
DTSTART;TZID=America/New_York:20240501T180000
DTEND;TZID=America/New_York:20240501T193000
DTSTAMP:20260425T130436
CREATED:20240125T183721Z
LAST-MODIFIED:20240214T011535Z
UID:10001748-1714586400-1714591800@brookslibraryvt.org
SUMMARY:Blue Zones: Could Brattleboro Become One?
DESCRIPTION:Communities have been identified around the world where individuals not only live longer\, but appear to have an enhanced sense of purpose and connection. Several other communities have sought to emulate the example. Could Brattleboro? Join the conversation with panelists: Kate Anderson and Mary Lindquist with moderator: Jim Levinson
URL:https://brookslibraryvt.org/event/blue-zones-could-brattleboro-become-one/
LOCATION:Meeting Room A – Community Meeting Room\, 224 Main Street\, Brattleboro\, VT\, 05301\, United States
CATEGORIES:Adults
ATTACH;FMTTYPE=image/jpeg:https://eadn-wc04-3360218.nxedge.io/wp-content/uploads/2024/02/sign-foot-sneaker-bd1b1e-1024.jpg
ORGANIZER;CN="Compassionate Brattleboro":MAILTO:compassionstory@gmail.com
GEO:42.8553213;-72.5599024
X-APPLE-STRUCTURED-LOCATION;VALUE=URI;X-ADDRESS=Meeting Room A – Community Meeting Room 224 Main Street Brattleboro VT 05301 United States;X-APPLE-RADIUS=500;X-TITLE=224 Main Street:geo:-72.5599024,42.8553213
END:VEVENT
BEGIN:VEVENT
DTSTART;TZID=America/New_York:20240501T180000
DTEND;TZID=America/New_York:20240501T204500
DTSTAMP:20260425T130436
CREATED:20240308T192843Z
LAST-MODIFIED:20241108T155856Z
UID:10001867-1714586400-1714596300@brookslibraryvt.org
SUMMARY:Game Cafe!
DESCRIPTION:Come join game enthusiasts in playing Magic the Gathering in various formats (including Commander/EDH) as well as other fun and creative board & card games. \nBring your favorite games- All Ages Welcome!
URL:https://brookslibraryvt.org/event/game-cafe-5/2024-05-01/
LOCATION:Meeting Room D – Quiet Reading Room\, 224 Main Street\, Brattleboro\, VT\, 05301\, United States
CATEGORIES:Children & Families,General,Teens
ATTACH;FMTTYPE=image/webp:https://eadn-wc04-3360218.nxedge.io/wp-content/uploads/2022/07/pic163749.webp
GEO:42.8553213;-72.5599024
X-APPLE-STRUCTURED-LOCATION;VALUE=URI;X-ADDRESS=Meeting Room D – Quiet Reading Room 224 Main Street Brattleboro VT 05301 United States;X-APPLE-RADIUS=500;X-TITLE=224 Main Street:geo:-72.5599024,42.8553213
END:VEVENT
BEGIN:VEVENT
DTSTART;TZID=America/New_York:20240502T103000
DTEND;TZID=America/New_York:20240502T113000
DTSTAMP:20260425T130436
CREATED:20240131T193125Z
LAST-MODIFIED:20240422T171218Z
UID:10001762-1714645800-1714649400@brookslibraryvt.org
SUMMARY:Sing & Dance with Robin
DESCRIPTION:For Ages 0-5 and their caregivers\, held in the BML Community Meeting Room. \nThis lovely class is an enriching musical experience for toddlers and preschoolers\, designed to support healthy cognitive\, physical\, and social development. Children will sing\, clap\, stomp\, dance\, and play along with the curriculum of traditional and modern folk songs. Parents will be encouraged to fully sing and participate with their child in the class.
URL:https://brookslibraryvt.org/event/sing-dance-with-robin-5/2024-05-02/
LOCATION:Meeting Room A – Community Meeting Room\, 224 Main Street\, Brattleboro\, VT\, 05301\, United States
CATEGORIES:Children & Families
ATTACH;FMTTYPE=image/png:https://eadn-wc04-3360218.nxedge.io/wp-content/uploads/2024/04/Sing-Dance-with-Robin-Event-Calendar.png
ORGANIZER;CN="BML Children's Room":MAILTO:cr@brookslibraryvt.org
GEO:42.8553213;-72.5599024
X-APPLE-STRUCTURED-LOCATION;VALUE=URI;X-ADDRESS=Meeting Room A – Community Meeting Room 224 Main Street Brattleboro VT 05301 United States;X-APPLE-RADIUS=500;X-TITLE=224 Main Street:geo:-72.5599024,42.8553213
END:VEVENT
BEGIN:VEVENT
DTSTART;TZID=America/New_York:20240502T150000
DTEND;TZID=America/New_York:20240502T170000
DTSTAMP:20260425T130436
CREATED:20240108T201858Z
LAST-MODIFIED:20240801T003409Z
UID:10001552-1714662000-1714669200@brookslibraryvt.org
SUMMARY:LEGO-Palooza
DESCRIPTION:Join us on Thursdays after school from 3-5pm to play with LEGOs! \nWe provide the LEGOs. You build. Do not bring your own LEGOs. \nChildren cannot keep LEGOs\, but if there is enough room\, we will display them in the window. \nFree and open to the public!
URL:https://brookslibraryvt.org/event/lego-palooza-2/2024-05-02/
LOCATION:Meeting Room A – Community Meeting Room\, 224 Main Street\, Brattleboro\, VT\, 05301\, United States
CATEGORIES:Children & Families,General,Teens
ATTACH;FMTTYPE=image/png:https://eadn-wc04-3360218.nxedge.io/wp-content/uploads/2023/01/Untitled-design4.png
ORGANIZER;CN="BML Children's Room":MAILTO:cr@brookslibraryvt.org
GEO:42.8553213;-72.5599024
X-APPLE-STRUCTURED-LOCATION;VALUE=URI;X-ADDRESS=Meeting Room A – Community Meeting Room 224 Main Street Brattleboro VT 05301 United States;X-APPLE-RADIUS=500;X-TITLE=224 Main Street:geo:-72.5599024,42.8553213
END:VEVENT
BEGIN:VEVENT
DTSTART;TZID=America/New_York:20240504T103000
DTEND;TZID=America/New_York:20240504T120000
DTSTAMP:20260425T130436
CREATED:20240502T144812Z
LAST-MODIFIED:20240502T144813Z
UID:10001637-1714818600-1714824000@brookslibraryvt.org
SUMMARY:Legislative Forum
DESCRIPTION:State elected officials will be on hand to discuss local\, regional and state issues.
URL:https://brookslibraryvt.org/event/legislative-forum-3/
LOCATION:Meeting Room A – Community Meeting Room\, 224 Main Street\, Brattleboro\, VT\, 05301\, United States
CATEGORIES:Adults
ATTACH;FMTTYPE=image/jpeg:https://eadn-wc04-3360218.nxedge.io/wp-content/uploads/2022/12/vermont-seal.jpg
ORGANIZER;CN="Emilie Kornheiser%2C Vermont State Representative":MAILTO:ekornheiser@gmail.com
GEO:42.8553213;-72.5599024
X-APPLE-STRUCTURED-LOCATION;VALUE=URI;X-ADDRESS=Meeting Room A – Community Meeting Room 224 Main Street Brattleboro VT 05301 United States;X-APPLE-RADIUS=500;X-TITLE=224 Main Street:geo:-72.5599024,42.8553213
END:VEVENT
BEGIN:VEVENT
DTSTART;TZID=America/New_York:20240504T130000
DTEND;TZID=America/New_York:20240504T160000
DTSTAMP:20260425T130436
CREATED:20240417T213734Z
LAST-MODIFIED:20240502T190134Z
UID:10001919-1714827600-1714838400@brookslibraryvt.org
SUMMARY:Brattleboro in Stitches
DESCRIPTION:Bring a work in progress to sew\, knit\, crochet\, embroider\, or mend. Sewing machines\, irons\, and companionship will be provided.
URL:https://brookslibraryvt.org/event/brattleboro-in-stitches-5-2/2024-05-04/
LOCATION:Meeting Room A – Community Meeting Room\, 224 Main Street\, Brattleboro\, VT\, 05301\, United States
CATEGORIES:General
ATTACH;FMTTYPE=image/png:https://eadn-wc04-3360218.nxedge.io/wp-content/uploads/2023/03/Brattleboro-in-Stitches-Event-Calendar2.png
ORGANIZER;CN="Brooks Memorial Library":MAILTO:outreach@brookslibraryvt.org
GEO:42.8553213;-72.5599024
X-APPLE-STRUCTURED-LOCATION;VALUE=URI;X-ADDRESS=Meeting Room A – Community Meeting Room 224 Main Street Brattleboro VT 05301 United States;X-APPLE-RADIUS=500;X-TITLE=224 Main Street:geo:-72.5599024,42.8553213
END:VEVENT
END:VCALENDAR