BEGIN:VCALENDAR
VERSION:2.0
PRODID:-//Brooks Memorial Library - Brattleboro VT - ECPv6.15.17.1//NONSGML v1.0//EN
CALSCALE:GREGORIAN
METHOD:PUBLISH
X-WR-CALNAME:Brooks Memorial Library - Brattleboro VT
X-ORIGINAL-URL:https://brookslibraryvt.org
X-WR-CALDESC:Events for Brooks Memorial Library - Brattleboro VT
REFRESH-INTERVAL;VALUE=DURATION:PT1H
X-Robots-Tag:noindex
X-PUBLISHED-TTL:PT1H
BEGIN:VTIMEZONE
TZID:America/New_York
BEGIN:DAYLIGHT
TZOFFSETFROM:-0500
TZOFFSETTO:-0400
TZNAME:EDT
DTSTART:20230312T070000
END:DAYLIGHT
BEGIN:STANDARD
TZOFFSETFROM:-0400
TZOFFSETTO:-0500
TZNAME:EST
DTSTART:20231105T060000
END:STANDARD
BEGIN:DAYLIGHT
TZOFFSETFROM:-0500
TZOFFSETTO:-0400
TZNAME:EDT
DTSTART:20240310T070000
END:DAYLIGHT
BEGIN:STANDARD
TZOFFSETFROM:-0400
TZOFFSETTO:-0500
TZNAME:EST
DTSTART:20241103T060000
END:STANDARD
BEGIN:DAYLIGHT
TZOFFSETFROM:-0500
TZOFFSETTO:-0400
TZNAME:EDT
DTSTART:20250309T070000
END:DAYLIGHT
BEGIN:STANDARD
TZOFFSETFROM:-0400
TZOFFSETTO:-0500
TZNAME:EST
DTSTART:20251102T060000
END:STANDARD
END:VTIMEZONE
BEGIN:VEVENT
DTSTART;TZID=America/New_York:20240520T190000
DTEND;TZID=America/New_York:20240520T203000
DTSTAMP:20260425T201753
CREATED:20240415T160106Z
LAST-MODIFIED:20241218T195009Z
UID:10001916-1716231600-1716237000@brookslibraryvt.org
SUMMARY:May Sci-Fi Reading Group Meetup
DESCRIPTION:The Sci-Fi Reading Group will meet Monday\, May 20th\, in the Quiet Reading Room from 7-8:30 pm to discuss The Kaiju Preservation Society by John Scalzi. \n“When COVID-19 sweeps through New York City\, Jamie Gray is stuck as a dead-end driver for food delivery apps. That is\, until Jamie makes a delivery to an old acquaintance\, Tom\, who works at what he calls “an animal rights organization.” Tom’s team needs a last-minute grunt to handle things on their next field visit. Jamie\, eager to do anything\, immediately signs on. What Tom doesn’t tell Jamie is that the animals his team cares for are not here on Earth. Not our Earth\, at least. In an alternate dimension\, massive dinosaur-like creatures named Kaiju roam a warm\, human-free world. They’re the universe’s largest and most dangerous panda and they’re in trouble. It’s not just the Kaiju Preservation Society who have found their way to the alternate world. Others have\, too. And their carelessness could cause millions back on our Earth to die.” \nThe Sci-Fi Reading Group meets the third Monday of every month and is open to curious minds of all ages\, whether or not they’ve read this month’s selection.
URL:https://brookslibraryvt.org/event/may-sci-fi-reading-group-meetup-2/
LOCATION:Meeting Room D – Quiet Reading Room\, 224 Main Street\, Brattleboro\, VT\, 05301\, United States
CATEGORIES:General,Teens
ATTACH;FMTTYPE=image/png:https://eadn-wc04-3360218.nxedge.io/wp-content/uploads/2024/04/MAY24-Web-Icon.png
ORGANIZER;CN="Brooks Memorial Library":MAILTO:outreach@brookslibraryvt.org
GEO:42.8553213;-72.5599024
X-APPLE-STRUCTURED-LOCATION;VALUE=URI;X-ADDRESS=Meeting Room D – Quiet Reading Room 224 Main Street Brattleboro VT 05301 United States;X-APPLE-RADIUS=500;X-TITLE=224 Main Street:geo:-72.5599024,42.8553213
END:VEVENT
BEGIN:VEVENT
DTSTART;TZID=America/New_York:20240520T190000
DTEND;TZID=America/New_York:20240520T204500
DTSTAMP:20260425T201753
CREATED:20231215T155130Z
LAST-MODIFIED:20251002T212015Z
UID:10001485-1716231600-1716237900@brookslibraryvt.org
SUMMARY:Brattleboro Stamp Club
DESCRIPTION:Join the Brattleboro Stamp Club for all sorts of philatelic curios\, conversation\, and comradery!
URL:https://brookslibraryvt.org/event/brattleboro-stamp-club-4/2024-05-20/
LOCATION:Meeting Room A – Community Meeting Room\, 224 Main Street\, Brattleboro\, VT\, 05301\, United States
CATEGORIES:General
ATTACH;FMTTYPE=image/png:https://eadn-wc04-3360218.nxedge.io/wp-content/uploads/2022/04/Stamp-Club-Event.png
ORGANIZER;CN="Marshall Brooks%2C Stamp Club":MAILTO:marshallbrooks53@gmail.com
GEO:42.8553213;-72.5599024
X-APPLE-STRUCTURED-LOCATION;VALUE=URI;X-ADDRESS=Meeting Room A – Community Meeting Room 224 Main Street Brattleboro VT 05301 United States;X-APPLE-RADIUS=500;X-TITLE=224 Main Street:geo:-72.5599024,42.8553213
END:VEVENT
BEGIN:VEVENT
DTSTART;TZID=America/New_York:20240521T190000
DTEND;TZID=America/New_York:20240521T210000
DTSTAMP:20260425T201753
CREATED:20231215T160138Z
LAST-MODIFIED:20250714T202752Z
UID:10001528-1716318000-1716325200@brookslibraryvt.org
SUMMARY:SEVT Audubon Society
DESCRIPTION:Join South Eastern Vermont’s Audubon Society on for a monthly program featuring nature and the environment.
URL:https://brookslibraryvt.org/event/sevt-audubon-society-2-5/2024-05-21/
LOCATION:Meeting Room A – Community Meeting Room\, 224 Main Street\, Brattleboro\, VT\, 05301\, United States
CATEGORIES:General
ATTACH;FMTTYPE=image/jpeg:https://eadn-wc04-3360218.nxedge.io/wp-content/uploads/2023/01/birds.jpg
ORGANIZER;CN="Hollie Bowen":MAILTO:HSB@sover.net
GEO:42.8553213;-72.5599024
X-APPLE-STRUCTURED-LOCATION;VALUE=URI;X-ADDRESS=Meeting Room A – Community Meeting Room 224 Main Street Brattleboro VT 05301 United States;X-APPLE-RADIUS=500;X-TITLE=224 Main Street:geo:-72.5599024,42.8553213
END:VEVENT
BEGIN:VEVENT
DTSTART;TZID=America/New_York:20240522T103000
DTEND;TZID=America/New_York:20240522T110000
DTSTAMP:20260425T201753
CREATED:20240102T163819Z
LAST-MODIFIED:20240524T160500Z
UID:10001672-1716373800-1716375600@brookslibraryvt.org
SUMMARY:Rhyme Time
DESCRIPTION:Join us on Wednesday mornings @ 10:30 am for 30 minutes of stories\, songs\, and fun! \nRhyme Time is for kids 5 & under and their caregivers. \nHere is a handout featuring some of the different songs\, fingerplays\, and movement games we use!
URL:https://brookslibraryvt.org/event/rhyme-time-6/2024-05-22/
LOCATION:Meeting Room A – Community Meeting Room\, 224 Main Street\, Brattleboro\, VT\, 05301\, United States
CATEGORIES:Children & Families
ATTACH;FMTTYPE=image/png:https://eadn-wc04-3360218.nxedge.io/wp-content/uploads/2024/01/New-2-CLJ.png
ORGANIZER;CN="BML Children's Room":MAILTO:cr@brookslibraryvt.org
GEO:42.8553213;-72.5599024
X-APPLE-STRUCTURED-LOCATION;VALUE=URI;X-ADDRESS=Meeting Room A – Community Meeting Room 224 Main Street Brattleboro VT 05301 United States;X-APPLE-RADIUS=500;X-TITLE=224 Main Street:geo:-72.5599024,42.8553213
END:VEVENT
BEGIN:VEVENT
DTSTART;TZID=America/New_York:20240522T151500
DTEND;TZID=America/New_York:20240522T163000
DTSTAMP:20260425T201753
CREATED:20240422T155754Z
LAST-MODIFIED:20240606T154051Z
UID:10001965-1716390900-1716395400@brookslibraryvt.org
SUMMARY:The Board Gaming Guild
DESCRIPTION:Come join in on the fun with the Brooks Memorial Library’s Board Gaming Guild! \nEvery Wednesday at 3:15pm. Stop by to have a great time playing board games in the Children’s Room! \nAges 8 and up. No sign up required!
URL:https://brookslibraryvt.org/event/the-board-gaming-guild-2-2/2024-05-22/
LOCATION:Children’s Room\, 224 Main Street\, Brattleboro\, VT\, 05301\, United States
CATEGORIES:Children & Families
ATTACH;FMTTYPE=image/png:https://eadn-wc04-3360218.nxedge.io/wp-content/uploads/2023/12/Board-Gaming-Guild-Screen.png
ORGANIZER;CN="BML Children's Room":MAILTO:cr@brookslibraryvt.org
GEO:42.8553213;-72.5599024
X-APPLE-STRUCTURED-LOCATION;VALUE=URI;X-ADDRESS=Children’s Room 224 Main Street Brattleboro VT 05301 United States;X-APPLE-RADIUS=500;X-TITLE=224 Main Street:geo:-72.5599024,42.8553213
END:VEVENT
BEGIN:VEVENT
DTSTART;TZID=America/New_York:20240522T180000
DTEND;TZID=America/New_York:20240522T193000
DTSTAMP:20260425T201753
CREATED:20240430T235401Z
LAST-MODIFIED:20240501T182152Z
UID:10002045-1716400800-1716406200@brookslibraryvt.org
SUMMARY:Harm Reduction and Overdose Prevention 101
DESCRIPTION:Community Substance Use Response (CSUR) invites you to a free informative and engaging Harm Reduction and Overdose Prevention training\, presented by Vermont Cares. \nThe session will cover: What is Harm Reduction and how does it work; Addressing stigma around substance use; Understanding overdose prevention; Recognizing signs of an overdose and how to respond. \nParticipants will gain a compassionate\, informed\, and practical approach to harm reduction. They will be equipped to positively impact their communities and offer non-judgmental support to those in need. \nNaloxone (an overdose reversal medication) training will be included\, and participants will have the option to take a free naloxone kit home\, empowering them to potentially save lives. \nLight refreshments will be served. For more information: CSUR802VT@gmail.com or call (802) 275-7232.
URL:https://brookslibraryvt.org/event/harm-reduction-and-overdose-prevention-101/
LOCATION:Main Reading Room
CATEGORIES:Adults
ATTACH;FMTTYPE=image/png:https://eadn-wc04-3360218.nxedge.io/wp-content/uploads/2024/04/CSUR-HR-training-Brooks-003.png
ORGANIZER;CN="Community Substance Use Response (CSUR)":MAILTO: jjohnston@turningpointwc.org
GEO:42.8553213;-72.5599024
END:VEVENT
BEGIN:VEVENT
DTSTART;TZID=America/New_York:20240522T180000
DTEND;TZID=America/New_York:20240522T204500
DTSTAMP:20260425T201753
CREATED:20240308T192843Z
LAST-MODIFIED:20241108T155856Z
UID:10001870-1716400800-1716410700@brookslibraryvt.org
SUMMARY:Game Cafe!
DESCRIPTION:Come join game enthusiasts in playing Magic the Gathering in various formats (including Commander/EDH) as well as other fun and creative board & card games. \nBring your favorite games- All Ages Welcome!
URL:https://brookslibraryvt.org/event/game-cafe-5/2024-05-22/
LOCATION:Meeting Room D – Quiet Reading Room\, 224 Main Street\, Brattleboro\, VT\, 05301\, United States
CATEGORIES:Children & Families,General,Teens
ATTACH;FMTTYPE=image/webp:https://eadn-wc04-3360218.nxedge.io/wp-content/uploads/2022/07/pic163749.webp
GEO:42.8553213;-72.5599024
X-APPLE-STRUCTURED-LOCATION;VALUE=URI;X-ADDRESS=Meeting Room D – Quiet Reading Room 224 Main Street Brattleboro VT 05301 United States;X-APPLE-RADIUS=500;X-TITLE=224 Main Street:geo:-72.5599024,42.8553213
END:VEVENT
BEGIN:VEVENT
DTSTART;TZID=America/New_York:20240523T103000
DTEND;TZID=America/New_York:20240523T113000
DTSTAMP:20260425T201753
CREATED:20240131T193125Z
LAST-MODIFIED:20240422T171218Z
UID:10001765-1716460200-1716463800@brookslibraryvt.org
SUMMARY:Sing & Dance with Robin
DESCRIPTION:For Ages 0-5 and their caregivers\, held in the BML Community Meeting Room. \nThis lovely class is an enriching musical experience for toddlers and preschoolers\, designed to support healthy cognitive\, physical\, and social development. Children will sing\, clap\, stomp\, dance\, and play along with the curriculum of traditional and modern folk songs. Parents will be encouraged to fully sing and participate with their child in the class.
URL:https://brookslibraryvt.org/event/sing-dance-with-robin-5/2024-05-23/
LOCATION:Meeting Room A – Community Meeting Room\, 224 Main Street\, Brattleboro\, VT\, 05301\, United States
CATEGORIES:Children & Families
ATTACH;FMTTYPE=image/png:https://eadn-wc04-3360218.nxedge.io/wp-content/uploads/2024/04/Sing-Dance-with-Robin-Event-Calendar.png
ORGANIZER;CN="BML Children's Room":MAILTO:cr@brookslibraryvt.org
GEO:42.8553213;-72.5599024
X-APPLE-STRUCTURED-LOCATION;VALUE=URI;X-ADDRESS=Meeting Room A – Community Meeting Room 224 Main Street Brattleboro VT 05301 United States;X-APPLE-RADIUS=500;X-TITLE=224 Main Street:geo:-72.5599024,42.8553213
END:VEVENT
BEGIN:VEVENT
DTSTART;TZID=America/New_York:20240525T130000
DTEND;TZID=America/New_York:20240525T160000
DTSTAMP:20260425T201753
CREATED:20240417T213941Z
LAST-MODIFIED:20240417T213942Z
UID:10001924-1716642000-1716652800@brookslibraryvt.org
SUMMARY:Brattleboro in Stitches
DESCRIPTION:Bring a work in progress to sew\, knit\, crochet\, embroider\, or mend. Sewing machines\, irons\, and companionship will be provided.
URL:https://brookslibraryvt.org/event/brattleboro-in-stitches-4-3/2024-05-25/
LOCATION:Meeting Room A – Community Meeting Room\, 224 Main Street\, Brattleboro\, VT\, 05301\, United States
CATEGORIES:General
ATTACH;FMTTYPE=image/png:https://eadn-wc04-3360218.nxedge.io/wp-content/uploads/2023/03/Brattleboro-in-Stitches-Event-Calendar2.png
ORGANIZER;CN="Brooks Memorial Library":MAILTO:outreach@brookslibraryvt.org
GEO:42.8553213;-72.5599024
X-APPLE-STRUCTURED-LOCATION;VALUE=URI;X-ADDRESS=Meeting Room A – Community Meeting Room 224 Main Street Brattleboro VT 05301 United States;X-APPLE-RADIUS=500;X-TITLE=224 Main Street:geo:-72.5599024,42.8553213
END:VEVENT
END:VCALENDAR