BEGIN:VCALENDAR
VERSION:2.0
PRODID:-//Brooks Memorial Library - Brattleboro VT - ECPv6.15.17.1//NONSGML v1.0//EN
CALSCALE:GREGORIAN
METHOD:PUBLISH
X-ORIGINAL-URL:https://brookslibraryvt.org
X-WR-CALDESC:Events for Brooks Memorial Library - Brattleboro VT
REFRESH-INTERVAL;VALUE=DURATION:PT1H
X-Robots-Tag:noindex
X-PUBLISHED-TTL:PT1H
BEGIN:VTIMEZONE
TZID:America/New_York
BEGIN:DAYLIGHT
TZOFFSETFROM:-0500
TZOFFSETTO:-0400
TZNAME:EDT
DTSTART:20230312T070000
END:DAYLIGHT
BEGIN:STANDARD
TZOFFSETFROM:-0400
TZOFFSETTO:-0500
TZNAME:EST
DTSTART:20231105T060000
END:STANDARD
BEGIN:DAYLIGHT
TZOFFSETFROM:-0500
TZOFFSETTO:-0400
TZNAME:EDT
DTSTART:20240310T070000
END:DAYLIGHT
BEGIN:STANDARD
TZOFFSETFROM:-0400
TZOFFSETTO:-0500
TZNAME:EST
DTSTART:20241103T060000
END:STANDARD
BEGIN:DAYLIGHT
TZOFFSETFROM:-0500
TZOFFSETTO:-0400
TZNAME:EDT
DTSTART:20250309T070000
END:DAYLIGHT
BEGIN:STANDARD
TZOFFSETFROM:-0400
TZOFFSETTO:-0500
TZNAME:EST
DTSTART:20251102T060000
END:STANDARD
END:VTIMEZONE
BEGIN:VEVENT
DTSTART;TZID=America/New_York:20240527T100000
DTEND;TZID=America/New_York:20240527T210000
DTSTAMP:20260425T114228
CREATED:20240116T211546Z
LAST-MODIFIED:20240116T211546Z
UID:10001707-1716804000-1716843600@brookslibraryvt.org
SUMMARY:LIBRARY CLOSED
DESCRIPTION:The library will be closed on May 27th in observation of Memorial Day.
URL:https://brookslibraryvt.org/event/library-closed-11/
LOCATION:Brooks Memorial Library\, 224 Main Street\, Brattleboro\, VT\, 05301\, United States
CATEGORIES:General
ATTACH;FMTTYPE=image/png:https://eadn-wc04-3360218.nxedge.io/wp-content/uploads/2023/11/Library-Closed.png
ORGANIZER;CN="Brooks Memorial Library":MAILTO:outreach@brookslibraryvt.org
GEO:42.8553213;-72.5599024
X-APPLE-STRUCTURED-LOCATION;VALUE=URI;X-ADDRESS=Brooks Memorial Library 224 Main Street Brattleboro VT 05301 United States;X-APPLE-RADIUS=500;X-TITLE=224 Main Street:geo:-72.5599024,42.8553213
END:VEVENT
BEGIN:VEVENT
DTSTART;TZID=America/New_York:20240528T170000
DTEND;TZID=America/New_York:20240528T190000
DTSTAMP:20260425T114228
CREATED:20220730T191036Z
LAST-MODIFIED:20250210T195725Z
UID:10001539-1716915600-1716922800@brookslibraryvt.org
SUMMARY:Town Arts Committee
DESCRIPTION:The monthly meeting of the Town Arts Committee members invites guests and the public to discuss town arts!
URL:https://brookslibraryvt.org/event/town-arts-committee/2024-05-28/
LOCATION:Meeting Room A – Community Meeting Room\, 224 Main Street\, Brattleboro\, VT\, 05301\, United States
CATEGORIES:General
ATTACH;FMTTYPE=image/jpeg:https://eadn-wc04-3360218.nxedge.io/wp-content/uploads/2022/07/bratt-mural.jpg
ORGANIZER;CN="Brattleboro Town Arts Committee":MAILTO:brattleboroartscommittee@gmail.com
GEO:42.8553213;-72.5599024
X-APPLE-STRUCTURED-LOCATION;VALUE=URI;X-ADDRESS=Meeting Room A – Community Meeting Room 224 Main Street Brattleboro VT 05301 United States;X-APPLE-RADIUS=500;X-TITLE=224 Main Street:geo:-72.5599024,42.8553213
END:VEVENT
BEGIN:VEVENT
DTSTART;TZID=America/New_York:20240528T180000
DTEND;TZID=America/New_York:20240528T193000
DTSTAMP:20260425T114228
CREATED:20240217T203956Z
LAST-MODIFIED:20240503T140503Z
UID:10001781-1716919200-1716924600@brookslibraryvt.org
SUMMARY:Community Discussion of the Constitutionality of Encampments on Public Land
DESCRIPTION:Paul Rodrigue will lead a community discussion following up on Meg Mott’s presentation of 5/15/24 on the constitutionality\, or lack thereof\, of encampment on public land by people who are unhoused. \nCo-sponsored by Compassionate Brattleboro and Windham World Affairs with support from Vermont Humanities as part of the America at 250 series.
URL:https://brookslibraryvt.org/event/community-discussion-of-the-constitutionality-of-encampments-on-public-land/
LOCATION:Main Reading Room
ATTACH;FMTTYPE=image/jpeg:https://eadn-wc04-3360218.nxedge.io/wp-content/uploads/2024/02/Encampment.jpg
GEO:42.8553213;-72.5599024
END:VEVENT
BEGIN:VEVENT
DTSTART;TZID=America/New_York:20240529T103000
DTEND;TZID=America/New_York:20240529T110000
DTSTAMP:20260425T114228
CREATED:20240102T163819Z
LAST-MODIFIED:20240524T160500Z
UID:10001673-1716978600-1716980400@brookslibraryvt.org
SUMMARY:Rhyme Time
DESCRIPTION:Join us on Wednesday mornings @ 10:30 am for 30 minutes of stories\, songs\, and fun! \nRhyme Time is for kids 5 & under and their caregivers. \nHere is a handout featuring some of the different songs\, fingerplays\, and movement games we use!
URL:https://brookslibraryvt.org/event/rhyme-time-6/2024-05-29/
LOCATION:Meeting Room A – Community Meeting Room\, 224 Main Street\, Brattleboro\, VT\, 05301\, United States
CATEGORIES:Children & Families
ATTACH;FMTTYPE=image/png:https://eadn-wc04-3360218.nxedge.io/wp-content/uploads/2024/01/New-2-CLJ.png
ORGANIZER;CN="BML Children's Room":MAILTO:cr@brookslibraryvt.org
GEO:42.8553213;-72.5599024
X-APPLE-STRUCTURED-LOCATION;VALUE=URI;X-ADDRESS=Meeting Room A – Community Meeting Room 224 Main Street Brattleboro VT 05301 United States;X-APPLE-RADIUS=500;X-TITLE=224 Main Street:geo:-72.5599024,42.8553213
END:VEVENT
BEGIN:VEVENT
DTSTART;TZID=America/New_York:20240529T151500
DTEND;TZID=America/New_York:20240529T163000
DTSTAMP:20260425T114228
CREATED:20240422T155754Z
LAST-MODIFIED:20240606T154051Z
UID:10001966-1716995700-1717000200@brookslibraryvt.org
SUMMARY:The Board Gaming Guild
DESCRIPTION:Come join in on the fun with the Brooks Memorial Library’s Board Gaming Guild! \nEvery Wednesday at 3:15pm. Stop by to have a great time playing board games in the Children’s Room! \nAges 8 and up. No sign up required!
URL:https://brookslibraryvt.org/event/the-board-gaming-guild-2-2/2024-05-29/
LOCATION:Children’s Room\, 224 Main Street\, Brattleboro\, VT\, 05301\, United States
CATEGORIES:Children & Families
ATTACH;FMTTYPE=image/png:https://eadn-wc04-3360218.nxedge.io/wp-content/uploads/2023/12/Board-Gaming-Guild-Screen.png
ORGANIZER;CN="BML Children's Room":MAILTO:cr@brookslibraryvt.org
GEO:42.8553213;-72.5599024
X-APPLE-STRUCTURED-LOCATION;VALUE=URI;X-ADDRESS=Children’s Room 224 Main Street Brattleboro VT 05301 United States;X-APPLE-RADIUS=500;X-TITLE=224 Main Street:geo:-72.5599024,42.8553213
END:VEVENT
BEGIN:VEVENT
DTSTART;TZID=America/New_York:20240529T180000
DTEND;TZID=America/New_York:20240529T190000
DTSTAMP:20260425T114228
CREATED:20240501T191428Z
LAST-MODIFIED:20240503T201139Z
UID:10002046-1717005600-1717009200@brookslibraryvt.org
SUMMARY:Town Committee Fair
DESCRIPTION:BE A PART OF THE COMMUNITY YOU LOVE! \nThe Town of Brattleboro is holding its first-ever Committee Fair on May 29. \nBeginning this summer\, the Selectboard will be appointing new members to the Town’s numerous Boards and Committees. This fair is an opportunity for the public to learn how to get involved in the community. Speak with current members and Town staff to find a group that interests you. \nWhy join?\n\nCommunity building\nHave a say in your local government\nMeet and work with your neighbors\nCivic duty looks amazing on a résumé\nMake new friends!\n\nClick here to learn more about our boards and committees and apply online.
URL:https://brookslibraryvt.org/event/town-committee-fair/
LOCATION:Main Reading Room
CATEGORIES:Adults
ATTACH;FMTTYPE=image/png:https://eadn-wc04-3360218.nxedge.io/wp-content/uploads/2024/05/Committee-Fair-e1714759080812.png
GEO:42.8553213;-72.5599024
END:VEVENT
BEGIN:VEVENT
DTSTART;TZID=America/New_York:20240529T180000
DTEND;TZID=America/New_York:20240529T204500
DTSTAMP:20260425T114228
CREATED:20240308T192843Z
LAST-MODIFIED:20241108T155856Z
UID:10001871-1717005600-1717015500@brookslibraryvt.org
SUMMARY:Game Cafe!
DESCRIPTION:Come join game enthusiasts in playing Magic the Gathering in various formats (including Commander/EDH) as well as other fun and creative board & card games. \nBring your favorite games- All Ages Welcome!
URL:https://brookslibraryvt.org/event/game-cafe-5/2024-05-29/
LOCATION:Meeting Room D – Quiet Reading Room\, 224 Main Street\, Brattleboro\, VT\, 05301\, United States
CATEGORIES:Children & Families,General,Teens
ATTACH;FMTTYPE=image/webp:https://eadn-wc04-3360218.nxedge.io/wp-content/uploads/2022/07/pic163749.webp
GEO:42.8553213;-72.5599024
X-APPLE-STRUCTURED-LOCATION;VALUE=URI;X-ADDRESS=Meeting Room D – Quiet Reading Room 224 Main Street Brattleboro VT 05301 United States;X-APPLE-RADIUS=500;X-TITLE=224 Main Street:geo:-72.5599024,42.8553213
END:VEVENT
BEGIN:VEVENT
DTSTART;TZID=America/New_York:20240530T103000
DTEND;TZID=America/New_York:20240530T113000
DTSTAMP:20260425T114228
CREATED:20240131T193125Z
LAST-MODIFIED:20240422T171218Z
UID:10001766-1717065000-1717068600@brookslibraryvt.org
SUMMARY:Sing & Dance with Robin
DESCRIPTION:For Ages 0-5 and their caregivers\, held in the BML Community Meeting Room. \nThis lovely class is an enriching musical experience for toddlers and preschoolers\, designed to support healthy cognitive\, physical\, and social development. Children will sing\, clap\, stomp\, dance\, and play along with the curriculum of traditional and modern folk songs. Parents will be encouraged to fully sing and participate with their child in the class.
URL:https://brookslibraryvt.org/event/sing-dance-with-robin-5/2024-05-30/
LOCATION:Meeting Room A – Community Meeting Room\, 224 Main Street\, Brattleboro\, VT\, 05301\, United States
CATEGORIES:Children & Families
ATTACH;FMTTYPE=image/png:https://eadn-wc04-3360218.nxedge.io/wp-content/uploads/2024/04/Sing-Dance-with-Robin-Event-Calendar.png
ORGANIZER;CN="BML Children's Room":MAILTO:cr@brookslibraryvt.org
GEO:42.8553213;-72.5599024
X-APPLE-STRUCTURED-LOCATION;VALUE=URI;X-ADDRESS=Meeting Room A – Community Meeting Room 224 Main Street Brattleboro VT 05301 United States;X-APPLE-RADIUS=500;X-TITLE=224 Main Street:geo:-72.5599024,42.8553213
END:VEVENT
BEGIN:VEVENT
DTSTART;TZID=America/New_York:20240601T103000
DTEND;TZID=America/New_York:20240601T140000
DTSTAMP:20260425T114228
CREATED:20231214T182454Z
LAST-MODIFIED:20240106T153353Z
UID:10001638-1717237800-1717250400@brookslibraryvt.org
SUMMARY:Legislative Forum
DESCRIPTION:State elected officials will be on hand to discuss local\, regional and state issues.
URL:https://brookslibraryvt.org/event/legislative-forum/2024-06-01/
LOCATION:Meeting Room A – Community Meeting Room\, 224 Main Street\, Brattleboro\, VT\, 05301\, United States
CATEGORIES:Adults
ATTACH;FMTTYPE=image/jpeg:https://eadn-wc04-3360218.nxedge.io/wp-content/uploads/2022/12/vermont-seal.jpg
ORGANIZER;CN="Emilie Kornheiser%2C Vermont State Representative":MAILTO:ekornheiser@gmail.com
GEO:42.8553213;-72.5599024
X-APPLE-STRUCTURED-LOCATION;VALUE=URI;X-ADDRESS=Meeting Room A – Community Meeting Room 224 Main Street Brattleboro VT 05301 United States;X-APPLE-RADIUS=500;X-TITLE=224 Main Street:geo:-72.5599024,42.8553213
END:VEVENT
BEGIN:VEVENT
DTSTART;TZID=America/New_York:20240601T130000
DTEND;TZID=America/New_York:20240601T160000
DTSTAMP:20260425T114228
CREATED:20240417T213734Z
LAST-MODIFIED:20240502T190134Z
UID:10001920-1717246800-1717257600@brookslibraryvt.org
SUMMARY:Brattleboro in Stitches
DESCRIPTION:Bring a work in progress to sew\, knit\, crochet\, embroider\, or mend. Sewing machines\, irons\, and companionship will be provided.
URL:https://brookslibraryvt.org/event/brattleboro-in-stitches-5-2/2024-06-01/
LOCATION:Meeting Room A – Community Meeting Room\, 224 Main Street\, Brattleboro\, VT\, 05301\, United States
CATEGORIES:General
ATTACH;FMTTYPE=image/png:https://eadn-wc04-3360218.nxedge.io/wp-content/uploads/2023/03/Brattleboro-in-Stitches-Event-Calendar2.png
ORGANIZER;CN="Brooks Memorial Library":MAILTO:outreach@brookslibraryvt.org
GEO:42.8553213;-72.5599024
X-APPLE-STRUCTURED-LOCATION;VALUE=URI;X-ADDRESS=Meeting Room A – Community Meeting Room 224 Main Street Brattleboro VT 05301 United States;X-APPLE-RADIUS=500;X-TITLE=224 Main Street:geo:-72.5599024,42.8553213
END:VEVENT
END:VCALENDAR