BEGIN:VCALENDAR
VERSION:2.0
PRODID:-//Brooks Memorial Library - Brattleboro VT - ECPv6.15.17.1//NONSGML v1.0//EN
CALSCALE:GREGORIAN
METHOD:PUBLISH
X-WR-CALNAME:Brooks Memorial Library - Brattleboro VT
X-ORIGINAL-URL:https://brookslibraryvt.org
X-WR-CALDESC:Events for Brooks Memorial Library - Brattleboro VT
REFRESH-INTERVAL;VALUE=DURATION:PT1H
X-Robots-Tag:noindex
X-PUBLISHED-TTL:PT1H
BEGIN:VTIMEZONE
TZID:America/New_York
BEGIN:DAYLIGHT
TZOFFSETFROM:-0500
TZOFFSETTO:-0400
TZNAME:EDT
DTSTART:20230312T070000
END:DAYLIGHT
BEGIN:STANDARD
TZOFFSETFROM:-0400
TZOFFSETTO:-0500
TZNAME:EST
DTSTART:20231105T060000
END:STANDARD
BEGIN:DAYLIGHT
TZOFFSETFROM:-0500
TZOFFSETTO:-0400
TZNAME:EDT
DTSTART:20240310T070000
END:DAYLIGHT
BEGIN:STANDARD
TZOFFSETFROM:-0400
TZOFFSETTO:-0500
TZNAME:EST
DTSTART:20241103T060000
END:STANDARD
BEGIN:DAYLIGHT
TZOFFSETFROM:-0500
TZOFFSETTO:-0400
TZNAME:EDT
DTSTART:20250309T070000
END:DAYLIGHT
BEGIN:STANDARD
TZOFFSETFROM:-0400
TZOFFSETTO:-0500
TZNAME:EST
DTSTART:20251102T060000
END:STANDARD
END:VTIMEZONE
BEGIN:VEVENT
DTSTART;TZID=America/New_York:20240826T103000
DTEND;TZID=America/New_York:20240826T123000
DTSTAMP:20260425T075017
CREATED:20240724T222526Z
LAST-MODIFIED:20240724T222526Z
UID:10002222-1724668200-1724675400@brookslibraryvt.org
SUMMARY:Monday Movie Matinee: Kung Fu Panda 4 - ENCORE
DESCRIPTION:Join us at a NEW TIME\, 10:30am\, for our Monday Movie Matinee. Kung Fu Panda 4.
URL:https://brookslibraryvt.org/event/monday-movie-matinee-kung-fu-panda-4-encore/
LOCATION:Meeting Room A – Community Meeting Room\, 224 Main Street\, Brattleboro\, VT\, 05301\, United States
CATEGORIES:Children & Families
ATTACH;FMTTYPE=image/png:https://eadn-wc04-3360218.nxedge.io/wp-content/uploads/2024/06/Monday-Movie-Matinee-SLIDESHOW.png
ORGANIZER;CN="BML Children's Room":MAILTO:cr@brookslibraryvt.org
GEO:42.8553213;-72.5599024
X-APPLE-STRUCTURED-LOCATION;VALUE=URI;X-ADDRESS=Meeting Room A – Community Meeting Room 224 Main Street Brattleboro VT 05301 United States;X-APPLE-RADIUS=500;X-TITLE=224 Main Street:geo:-72.5599024,42.8553213
END:VEVENT
BEGIN:VEVENT
DTSTART;TZID=America/New_York:20240827T170000
DTEND;TZID=America/New_York:20240827T190000
DTSTAMP:20260425T075017
CREATED:20220730T191036Z
LAST-MODIFIED:20250210T195725Z
UID:10001542-1724778000-1724785200@brookslibraryvt.org
SUMMARY:Town Arts Committee
DESCRIPTION:The monthly meeting of the Town Arts Committee members invites guests and the public to discuss town arts!
URL:https://brookslibraryvt.org/event/town-arts-committee/2024-08-27/
LOCATION:Meeting Room A – Community Meeting Room\, 224 Main Street\, Brattleboro\, VT\, 05301\, United States
CATEGORIES:General
ATTACH;FMTTYPE=image/jpeg:https://eadn-wc04-3360218.nxedge.io/wp-content/uploads/2022/07/bratt-mural.jpg
ORGANIZER;CN="Brattleboro Town Arts Committee":MAILTO:brattleboroartscommittee@gmail.com
GEO:42.8553213;-72.5599024
X-APPLE-STRUCTURED-LOCATION;VALUE=URI;X-ADDRESS=Meeting Room A – Community Meeting Room 224 Main Street Brattleboro VT 05301 United States;X-APPLE-RADIUS=500;X-TITLE=224 Main Street:geo:-72.5599024,42.8553213
END:VEVENT
BEGIN:VEVENT
DTSTART;TZID=America/New_York:20240827T190000
DTEND;TZID=America/New_York:20240827T203000
DTSTAMP:20260425T075017
CREATED:20240802T200849Z
LAST-MODIFIED:20241116T153200Z
UID:10002228-1724785200-1724790600@brookslibraryvt.org
SUMMARY:Queer Council of Brattleboro - Monthly Volunteer Meeting
DESCRIPTION:Join the Queer Council of Brattleboro for this a month meeting offering information\, trainings\, and organizing for those who are interested in learning about supporting LGBTQ+ resilience and revelry! \nMeeting on the last Tuesday of every month from 7 – 8:30 pm.
URL:https://brookslibraryvt.org/event/queer-council-of-brattleboro-monthly-volunteer-meeting/2024-08-27/
LOCATION:Meeting Room A – Community Meeting Room\, 224 Main Street\, Brattleboro\, VT\, 05301\, United States
CATEGORIES:General
ATTACH;FMTTYPE=image/jpeg:https://eadn-wc04-3360218.nxedge.io/wp-content/uploads/2024/08/QCBVT.jpg
ORGANIZER;CN="Queer Council of Brattleboro":MAILTO:driftmavynlicsw@gmail.com
GEO:42.8553213;-72.5599024
X-APPLE-STRUCTURED-LOCATION;VALUE=URI;X-ADDRESS=Meeting Room A – Community Meeting Room 224 Main Street Brattleboro VT 05301 United States;X-APPLE-RADIUS=500;X-TITLE=224 Main Street:geo:-72.5599024,42.8553213
END:VEVENT
BEGIN:VEVENT
DTSTART;TZID=America/New_York:20240827T190000
DTEND;TZID=America/New_York:20240827T203000
DTSTAMP:20260425T075017
CREATED:20241210T153439Z
LAST-MODIFIED:20241210T153440Z
UID:10002233-1724785200-1724790600@brookslibraryvt.org
SUMMARY:Queer Council of Brattleboro - Monthly Volunteer Meeting
DESCRIPTION:Join the Queer Council of Brattleboro for this a month meeting offering information\, trainings\, and organizing for those who are interested in learning about supporting LGBTQ+ resilience and revelry! \nMeeting on the last Tuesday of every month from 7 – 8:30 pm.
URL:https://brookslibraryvt.org/event/queer-council-of-brattleboro-monthly-volunteer-meeting-2/2024-08-27/
LOCATION:Meeting Room A – Community Meeting Room\, 224 Main Street\, Brattleboro\, VT\, 05301\, United States
CATEGORIES:General
ATTACH;FMTTYPE=image/jpeg:https://eadn-wc04-3360218.nxedge.io/wp-content/uploads/2024/08/QCBVT.jpg
ORGANIZER;CN="Queer Council of Brattleboro":MAILTO:driftmavynlicsw@gmail.com
GEO:42.8553213;-72.5599024
X-APPLE-STRUCTURED-LOCATION;VALUE=URI;X-ADDRESS=Meeting Room A – Community Meeting Room 224 Main Street Brattleboro VT 05301 United States;X-APPLE-RADIUS=500;X-TITLE=224 Main Street:geo:-72.5599024,42.8553213
END:VEVENT
BEGIN:VEVENT
DTSTART;TZID=America/New_York:20240828T180000
DTEND;TZID=America/New_York:20240828T204500
DTSTAMP:20260425T075017
CREATED:20240308T192843Z
LAST-MODIFIED:20241108T155856Z
UID:10001884-1724868000-1724877900@brookslibraryvt.org
SUMMARY:Game Cafe!
DESCRIPTION:Come join game enthusiasts in playing Magic the Gathering in various formats (including Commander/EDH) as well as other fun and creative board & card games. \nBring your favorite games- All Ages Welcome!
URL:https://brookslibraryvt.org/event/game-cafe-5/2024-08-28/
LOCATION:Meeting Room D – Quiet Reading Room\, 224 Main Street\, Brattleboro\, VT\, 05301\, United States
CATEGORIES:Children & Families,General,Teens
ATTACH;FMTTYPE=image/webp:https://eadn-wc04-3360218.nxedge.io/wp-content/uploads/2022/07/pic163749.webp
GEO:42.8553213;-72.5599024
X-APPLE-STRUCTURED-LOCATION;VALUE=URI;X-ADDRESS=Meeting Room D – Quiet Reading Room 224 Main Street Brattleboro VT 05301 United States;X-APPLE-RADIUS=500;X-TITLE=224 Main Street:geo:-72.5599024,42.8553213
END:VEVENT
BEGIN:VEVENT
DTSTART;TZID=America/New_York:20240831T103000
DTEND;TZID=America/New_York:20240831T123000
DTSTAMP:20260425T075017
CREATED:20240612T203945Z
LAST-MODIFIED:20240612T204650Z
UID:10002193-1725100200-1725107400@brookslibraryvt.org
SUMMARY:Nature Journaling with Patti Smith
DESCRIPTION:A nature journal that captures observations and experiences can bring your full attention to the world around you. Keeping a nature journal can be a potent tool for learning or for finding peace and beauty. In this workshop\, Bonnyvale Environmental Education Center naturalist Patti Smith will share some tips for creating a beautiful journal that will help you meet your observation goals. Smith will introduce the materials she uses in the field and suggest prompts for observation. She will share her tips for being safe and comfortable outdoors at all times of day and in all seasons. The group will practice sketching exercises that improve observation and drawing skills. Are there books that can help? Of course! We’ll look at some of those too. \nPatti Smith has worked at BEEC since its founding in 1991\, continuing to develop and share her lifelong fascination with the natural world. Those who read her View from Heifer columns know that some of her best friends are rodents and they will be acquainted with Willow the beaver\, Burdock the porcupine\, and the other wild creatures she has befriended and cared for. Patti is a licensed wildlife rehabilitator and fields the many calls that come in to BEEC about wildlife woes. Her favorite season is winter.
URL:https://brookslibraryvt.org/event/nature-journaling/
LOCATION:Meeting Room A – Community Meeting Room\, 224 Main Street\, Brattleboro\, VT\, 05301\, United States
CATEGORIES:Adults,Children & Families,General
ATTACH;FMTTYPE=image/jpeg:https://eadn-wc04-3360218.nxedge.io/wp-content/uploads/2024/06/IMG_5200.jpeg
ORGANIZER;CN="Brooks Memorial Library":MAILTO:outreach@brookslibraryvt.org
GEO:42.8553213;-72.5599024
X-APPLE-STRUCTURED-LOCATION;VALUE=URI;X-ADDRESS=Meeting Room A – Community Meeting Room 224 Main Street Brattleboro VT 05301 United States;X-APPLE-RADIUS=500;X-TITLE=224 Main Street:geo:-72.5599024,42.8553213
END:VEVENT
BEGIN:VEVENT
DTSTART;TZID=America/New_York:20240831T130000
DTEND;TZID=America/New_York:20240831T160000
DTSTAMP:20260425T075017
CREATED:20240829T203853Z
LAST-MODIFIED:20240829T204025Z
UID:10001937-1725109200-1725120000@brookslibraryvt.org
SUMMARY:CANCELLED: Brattleboro in Stitches
DESCRIPTION:Cancelled! Series will resume on September 7th\, 2024.
URL:https://brookslibraryvt.org/event/brattleboro-in-stitches-4-3-3/
LOCATION:Meeting Room A – Community Meeting Room\, 224 Main Street\, Brattleboro\, VT\, 05301\, United States
CATEGORIES:General
ATTACH;FMTTYPE=image/png:https://eadn-wc04-3360218.nxedge.io/wp-content/uploads/2023/03/Brattleboro-in-Stitches-Event-Calendar2.png
ORGANIZER;CN="Brooks Memorial Library":MAILTO:outreach@brookslibraryvt.org
GEO:42.8553213;-72.5599024
X-APPLE-STRUCTURED-LOCATION;VALUE=URI;X-ADDRESS=Meeting Room A – Community Meeting Room 224 Main Street Brattleboro VT 05301 United States;X-APPLE-RADIUS=500;X-TITLE=224 Main Street:geo:-72.5599024,42.8553213
END:VEVENT
END:VCALENDAR