BEGIN:VCALENDAR
VERSION:2.0
PRODID:-//Brooks Memorial Library - Brattleboro VT - ECPv6.15.17.1//NONSGML v1.0//EN
CALSCALE:GREGORIAN
METHOD:PUBLISH
X-WR-CALNAME:Brooks Memorial Library - Brattleboro VT
X-ORIGINAL-URL:https://brookslibraryvt.org
X-WR-CALDESC:Events for Brooks Memorial Library - Brattleboro VT
REFRESH-INTERVAL;VALUE=DURATION:PT1H
X-Robots-Tag:noindex
X-PUBLISHED-TTL:PT1H
BEGIN:VTIMEZONE
TZID:America/New_York
BEGIN:DAYLIGHT
TZOFFSETFROM:-0500
TZOFFSETTO:-0400
TZNAME:EDT
DTSTART:20230312T070000
END:DAYLIGHT
BEGIN:STANDARD
TZOFFSETFROM:-0400
TZOFFSETTO:-0500
TZNAME:EST
DTSTART:20231105T060000
END:STANDARD
BEGIN:DAYLIGHT
TZOFFSETFROM:-0500
TZOFFSETTO:-0400
TZNAME:EDT
DTSTART:20240310T070000
END:DAYLIGHT
BEGIN:STANDARD
TZOFFSETFROM:-0400
TZOFFSETTO:-0500
TZNAME:EST
DTSTART:20241103T060000
END:STANDARD
BEGIN:DAYLIGHT
TZOFFSETFROM:-0500
TZOFFSETTO:-0400
TZNAME:EDT
DTSTART:20250309T070000
END:DAYLIGHT
BEGIN:STANDARD
TZOFFSETFROM:-0400
TZOFFSETTO:-0500
TZNAME:EST
DTSTART:20251102T060000
END:STANDARD
END:VTIMEZONE
BEGIN:VEVENT
DTSTART;TZID=America/New_York:20241125T190000
DTEND;TZID=America/New_York:20241125T203000
DTSTAMP:20260425T001306
CREATED:20241119T011618Z
LAST-MODIFIED:20250409T202119Z
UID:10003499-1732561200-1732566600@brookslibraryvt.org
SUMMARY:Green Carnation Reading Group
DESCRIPTION:Discussions of books by and for queer people. For more information\, please visit the Green Carnation Reading Group Facebook page.
URL:https://brookslibraryvt.org/event/green-carnation-book-group/2024-11-25/
LOCATION:Meeting Room D – Quiet Reading Room\, 224 Main Street\, Brattleboro\, VT\, 05301\, United States
CATEGORIES:Adults,General,Teens
ATTACH;FMTTYPE=image/jpeg:https://eadn-wc04-3360218.nxedge.io/wp-content/uploads/2024/11/439240485_122098227206294656_4239700080493349576_n-e1731978675948.jpg
ORGANIZER;CN="Green Carnation - Timothy Williams":MAILTO:readtiph6890@gmail.com
GEO:42.8553213;-72.5599024
X-APPLE-STRUCTURED-LOCATION;VALUE=URI;X-ADDRESS=Meeting Room D – Quiet Reading Room 224 Main Street Brattleboro VT 05301 United States;X-APPLE-RADIUS=500;X-TITLE=224 Main Street:geo:-72.5599024,42.8553213
END:VEVENT
BEGIN:VEVENT
DTSTART;TZID=America/New_York:20241126T170000
DTEND;TZID=America/New_York:20241126T190000
DTSTAMP:20260425T001306
CREATED:20220730T191036Z
LAST-MODIFIED:20250210T195725Z
UID:10001545-1732640400-1732647600@brookslibraryvt.org
SUMMARY:Town Arts Committee
DESCRIPTION:The monthly meeting of the Town Arts Committee members invites guests and the public to discuss town arts!
URL:https://brookslibraryvt.org/event/town-arts-committee/2024-11-26/
LOCATION:Meeting Room A – Community Meeting Room\, 224 Main Street\, Brattleboro\, VT\, 05301\, United States
CATEGORIES:General
ATTACH;FMTTYPE=image/jpeg:https://eadn-wc04-3360218.nxedge.io/wp-content/uploads/2022/07/bratt-mural.jpg
ORGANIZER;CN="Brattleboro Town Arts Committee":MAILTO:brattleboroartscommittee@gmail.com
GEO:42.8553213;-72.5599024
X-APPLE-STRUCTURED-LOCATION;VALUE=URI;X-ADDRESS=Meeting Room A – Community Meeting Room 224 Main Street Brattleboro VT 05301 United States;X-APPLE-RADIUS=500;X-TITLE=224 Main Street:geo:-72.5599024,42.8553213
END:VEVENT
BEGIN:VEVENT
DTSTART;TZID=America/New_York:20241127T103000
DTEND;TZID=America/New_York:20241127T110000
DTSTAMP:20260425T001306
CREATED:20240821T220547Z
LAST-MODIFIED:20240903T154644Z
UID:10002281-1732703400-1732705200@brookslibraryvt.org
SUMMARY:Rhyme Time
DESCRIPTION:Join us on Wednesday mornings @ 10:30 am for 30 minutes of stories\, songs\, and fun! \nRhyme Time is for kids 5 & under and their caregivers. \n 
URL:https://brookslibraryvt.org/event/rhyme-time-7/2024-11-27/
LOCATION:Meeting Room A – Community Meeting Room\, 224 Main Street\, Brattleboro\, VT\, 05301\, United States
CATEGORIES:Children & Families
ATTACH;FMTTYPE=image/png:https://eadn-wc04-3360218.nxedge.io/wp-content/uploads/2024/01/New-2-CLJ.png
ORGANIZER;CN="BML Children's Room":MAILTO:cr@brookslibraryvt.org
GEO:42.8553213;-72.5599024
X-APPLE-STRUCTURED-LOCATION;VALUE=URI;X-ADDRESS=Meeting Room A – Community Meeting Room 224 Main Street Brattleboro VT 05301 United States;X-APPLE-RADIUS=500;X-TITLE=224 Main Street:geo:-72.5599024,42.8553213
END:VEVENT
BEGIN:VEVENT
DTSTART;TZID=America/New_York:20241127T180000
DTEND;TZID=America/New_York:20241127T210000
DTSTAMP:20260425T001306
CREATED:20240116T215201Z
LAST-MODIFIED:20240116T215201Z
UID:10001716-1732730400-1732741200@brookslibraryvt.org
SUMMARY:EARLY CLOSING
DESCRIPTION:The library will close at 6:00 p.m. on November 27nd in observance of Thanksgiving.
URL:https://brookslibraryvt.org/event/early-closing/
LOCATION:Brooks Memorial Library\, 224 Main Street\, Brattleboro\, VT\, 05301\, United States
CATEGORIES:General
ATTACH;FMTTYPE=image/png:https://eadn-wc04-3360218.nxedge.io/wp-content/uploads/2023/11/Parchmen.png
ORGANIZER;CN="Brooks Memorial Library":MAILTO:outreach@brookslibraryvt.org
GEO:42.8553213;-72.5599024
X-APPLE-STRUCTURED-LOCATION;VALUE=URI;X-ADDRESS=Brooks Memorial Library 224 Main Street Brattleboro VT 05301 United States;X-APPLE-RADIUS=500;X-TITLE=224 Main Street:geo:-72.5599024,42.8553213
END:VEVENT
BEGIN:VEVENT
DTSTART;TZID=America/New_York:20241128T100000
DTEND;TZID=America/New_York:20241128T180000
DTSTAMP:20260425T001306
CREATED:20240116T212823Z
LAST-MODIFIED:20240116T212823Z
UID:10001713-1732788000-1732816800@brookslibraryvt.org
SUMMARY:LIBRARY CLOSED
DESCRIPTION:The library will be closed on November 28th in observation of Thanksgiving Day.
URL:https://brookslibraryvt.org/event/library-closed-17/
LOCATION:Brooks Memorial Library\, 224 Main Street\, Brattleboro\, VT\, 05301\, United States
CATEGORIES:General
ATTACH;FMTTYPE=image/png:https://eadn-wc04-3360218.nxedge.io/wp-content/uploads/2023/11/Library-Closed.png
ORGANIZER;CN="Brooks Memorial Library":MAILTO:outreach@brookslibraryvt.org
GEO:42.8553213;-72.5599024
X-APPLE-STRUCTURED-LOCATION;VALUE=URI;X-ADDRESS=Brooks Memorial Library 224 Main Street Brattleboro VT 05301 United States;X-APPLE-RADIUS=500;X-TITLE=224 Main Street:geo:-72.5599024,42.8553213
END:VEVENT
BEGIN:VEVENT
DTSTART;TZID=America/New_York:20241129T100000
DTEND;TZID=America/New_York:20241129T180000
DTSTAMP:20260425T001306
CREATED:20240910T200721Z
LAST-MODIFIED:20241112T171113Z
UID:10002348-1732874400-1732903200@brookslibraryvt.org
SUMMARY:Friends of the Library Book Sale Kick Off
DESCRIPTION:The Friends of the Library’s Annual Book Sale will begin on Friday\, November 29th and Saturday\, November 30th. Remainders will be available through the end of the year during regular library hours. \nMost items will be $2 or less and you will have the opportunity to purchase raffle tickets for some fabulous literary-themed gift baskets. \nProceeds from the sale support the patrons of the Brooks Memorial Library by funding programming\, museum\, passes\, and much more!
URL:https://brookslibraryvt.org/event/friends-of-the-library-book-sale-kick-off/2024-11-29/
LOCATION:Brooks Memorial Library\, 224 Main Street\, Brattleboro\, VT\, 05301\, United States
CATEGORIES:Adults,Children & Families,General
ATTACH;FMTTYPE=image/png:https://eadn-wc04-3360218.nxedge.io/wp-content/uploads/2024/09/Book-sale-newsletter-social-mediaInstagram-Post-e1725998886220.png
GEO:42.8553213;-72.5599024
X-APPLE-STRUCTURED-LOCATION;VALUE=URI;X-ADDRESS=Brooks Memorial Library 224 Main Street Brattleboro VT 05301 United States;X-APPLE-RADIUS=500;X-TITLE=224 Main Street:geo:-72.5599024,42.8553213
END:VEVENT
BEGIN:VEVENT
DTSTART;TZID=America/New_York:20241129T153000
DTEND;TZID=America/New_York:20241129T163000
DTSTAMP:20260425T001306
CREATED:20240904T180539Z
LAST-MODIFIED:20241206T144026Z
UID:10003485-1732894200-1732897800@brookslibraryvt.org
SUMMARY:The Board Gaming Guild
DESCRIPTION:Come join in on the fun with the Brooks Memorial Library’s Board Gaming Guild! \nNow every Friday at 3:30pm. Stop by to have a great time playing board games in the Children’s Room! \nAges 8 and up. No sign up required!
URL:https://brookslibraryvt.org/event/the-board-gaming-guild-3/2024-11-29/
LOCATION:Children’s Room\, 224 Main Street\, Brattleboro\, VT\, 05301\, United States
CATEGORIES:Children & Families
ATTACH;FMTTYPE=image/png:https://eadn-wc04-3360218.nxedge.io/wp-content/uploads/2024/09/BGG-Fall24.png
ORGANIZER;CN="BML Children's Room":MAILTO:cr@brookslibraryvt.org
GEO:42.8553213;-72.5599024
X-APPLE-STRUCTURED-LOCATION;VALUE=URI;X-ADDRESS=Children’s Room 224 Main Street Brattleboro VT 05301 United States;X-APPLE-RADIUS=500;X-TITLE=224 Main Street:geo:-72.5599024,42.8553213
END:VEVENT
BEGIN:VEVENT
DTSTART;TZID=America/New_York:20241130T100000
DTEND;TZID=America/New_York:20241130T170000
DTSTAMP:20260425T001306
CREATED:20240910T200721Z
LAST-MODIFIED:20241112T171113Z
UID:10002349-1732960800-1732986000@brookslibraryvt.org
SUMMARY:Friends of the Library Book Sale Kick Off
DESCRIPTION:The Friends of the Library’s Annual Book Sale will begin on Friday\, November 29th and Saturday\, November 30th. Remainders will be available through the end of the year during regular library hours. \nMost items will be $2 or less and you will have the opportunity to purchase raffle tickets for some fabulous literary-themed gift baskets. \nProceeds from the sale support the patrons of the Brooks Memorial Library by funding programming\, museum\, passes\, and much more!
URL:https://brookslibraryvt.org/event/friends-of-the-library-book-sale-kick-off/2024-11-30/
LOCATION:Brooks Memorial Library\, 224 Main Street\, Brattleboro\, VT\, 05301\, United States
CATEGORIES:Adults,Children & Families,General
ATTACH;FMTTYPE=image/png:https://eadn-wc04-3360218.nxedge.io/wp-content/uploads/2024/09/Book-sale-newsletter-social-mediaInstagram-Post-e1725998886220.png
GEO:42.8553213;-72.5599024
X-APPLE-STRUCTURED-LOCATION;VALUE=URI;X-ADDRESS=Brooks Memorial Library 224 Main Street Brattleboro VT 05301 United States;X-APPLE-RADIUS=500;X-TITLE=224 Main Street:geo:-72.5599024,42.8553213
END:VEVENT
BEGIN:VEVENT
DTSTART;TZID=America/New_York:20241130T130000
DTEND;TZID=America/New_York:20241130T160000
DTSTAMP:20260425T001306
CREATED:20240417T213941Z
LAST-MODIFIED:20240417T213942Z
UID:10001950-1732971600-1732982400@brookslibraryvt.org
SUMMARY:Brattleboro in Stitches
DESCRIPTION:Bring a work in progress to sew\, knit\, crochet\, embroider\, or mend. Sewing machines\, irons\, and companionship will be provided.
URL:https://brookslibraryvt.org/event/brattleboro-in-stitches-4-3/2024-11-30/
LOCATION:Meeting Room A – Community Meeting Room\, 224 Main Street\, Brattleboro\, VT\, 05301\, United States
CATEGORIES:General
ATTACH;FMTTYPE=image/png:https://eadn-wc04-3360218.nxedge.io/wp-content/uploads/2023/03/Brattleboro-in-Stitches-Event-Calendar2.png
ORGANIZER;CN="Brooks Memorial Library":MAILTO:outreach@brookslibraryvt.org
GEO:42.8553213;-72.5599024
X-APPLE-STRUCTURED-LOCATION;VALUE=URI;X-ADDRESS=Meeting Room A – Community Meeting Room 224 Main Street Brattleboro VT 05301 United States;X-APPLE-RADIUS=500;X-TITLE=224 Main Street:geo:-72.5599024,42.8553213
END:VEVENT
END:VCALENDAR