BEGIN:VCALENDAR
VERSION:2.0
PRODID:-//Brooks Memorial Library - Brattleboro VT - ECPv6.15.17.1//NONSGML v1.0//EN
CALSCALE:GREGORIAN
METHOD:PUBLISH
X-WR-CALNAME:Brooks Memorial Library - Brattleboro VT
X-ORIGINAL-URL:https://brookslibraryvt.org
X-WR-CALDESC:Events for Brooks Memorial Library - Brattleboro VT
REFRESH-INTERVAL;VALUE=DURATION:PT1H
X-Robots-Tag:noindex
X-PUBLISHED-TTL:PT1H
BEGIN:VTIMEZONE
TZID:America/New_York
BEGIN:DAYLIGHT
TZOFFSETFROM:-0500
TZOFFSETTO:-0400
TZNAME:EDT
DTSTART:20240310T070000
END:DAYLIGHT
BEGIN:STANDARD
TZOFFSETFROM:-0400
TZOFFSETTO:-0500
TZNAME:EST
DTSTART:20241103T060000
END:STANDARD
BEGIN:DAYLIGHT
TZOFFSETFROM:-0500
TZOFFSETTO:-0400
TZNAME:EDT
DTSTART:20250309T070000
END:DAYLIGHT
BEGIN:STANDARD
TZOFFSETFROM:-0400
TZOFFSETTO:-0500
TZNAME:EST
DTSTART:20251102T060000
END:STANDARD
BEGIN:DAYLIGHT
TZOFFSETFROM:-0500
TZOFFSETTO:-0400
TZNAME:EDT
DTSTART:20260308T070000
END:DAYLIGHT
BEGIN:STANDARD
TZOFFSETFROM:-0400
TZOFFSETTO:-0500
TZNAME:EST
DTSTART:20261101T060000
END:STANDARD
END:VTIMEZONE
BEGIN:VEVENT
DTSTART;TZID=America/New_York:20250217T100000
DTEND;TZID=America/New_York:20250217T210000
DTSTAMP:20260424T181000
CREATED:20241002T173244Z
LAST-MODIFIED:20241002T173244Z
UID:10003407-1739786400-1739826000@brookslibraryvt.org
SUMMARY:LIBRARY CLOSED
DESCRIPTION:The library will be closed in observation of Presidents’ Day.
URL:https://brookslibraryvt.org/event/library-closed-22/2025-02-17/
LOCATION:Brooks Memorial Library\, 224 Main Street\, Brattleboro\, VT\, 05301\, United States
CATEGORIES:General
ATTACH;FMTTYPE=image/png:https://eadn-wc04-3360218.nxedge.io/wp-content/uploads/2023/11/Library-Closed.png
ORGANIZER;CN="Brooks Memorial Library":MAILTO:outreach@brookslibraryvt.org
GEO:42.8553213;-72.5599024
X-APPLE-STRUCTURED-LOCATION;VALUE=URI;X-ADDRESS=Brooks Memorial Library 224 Main Street Brattleboro VT 05301 United States;X-APPLE-RADIUS=500;X-TITLE=224 Main Street:geo:-72.5599024,42.8553213
END:VEVENT
BEGIN:VEVENT
DTSTART;TZID=America/New_York:20250218T190000
DTEND;TZID=America/New_York:20250218T210000
DTSTAMP:20260424T181000
CREATED:20231215T160138Z
LAST-MODIFIED:20250714T202752Z
UID:10004176-1739905200-1739912400@brookslibraryvt.org
SUMMARY:SEVT Audubon Society
DESCRIPTION:Join South Eastern Vermont’s Audubon Society on for a monthly program featuring nature and the environment.
URL:https://brookslibraryvt.org/event/sevt-audubon-society-2-5/2025-02-18/
LOCATION:Meeting Room A – Community Meeting Room\, 224 Main Street\, Brattleboro\, VT\, 05301\, United States
CATEGORIES:General
ATTACH;FMTTYPE=image/jpeg:https://eadn-wc04-3360218.nxedge.io/wp-content/uploads/2023/01/birds.jpg
ORGANIZER;CN="Hollie Bowen":MAILTO:HSB@sover.net
GEO:42.8553213;-72.5599024
X-APPLE-STRUCTURED-LOCATION;VALUE=URI;X-ADDRESS=Meeting Room A – Community Meeting Room 224 Main Street Brattleboro VT 05301 United States;X-APPLE-RADIUS=500;X-TITLE=224 Main Street:geo:-72.5599024,42.8553213
END:VEVENT
BEGIN:VEVENT
DTSTART;TZID=America/New_York:20250218T190000
DTEND;TZID=America/New_York:20250218T210000
DTSTAMP:20260424T181000
CREATED:20250215T212030Z
LAST-MODIFIED:20250215T212042Z
UID:10003947-1739905200-1739912400@brookslibraryvt.org
SUMMARY:SEVT Audubon Society
DESCRIPTION:This meeting of South Eastern Vermont’s Audubon Society has been canceled. Please join them again this time next month!
URL:https://brookslibraryvt.org/event/sevt-audubon-society-2-4/
LOCATION:Meeting Room A – Community Meeting Room\, 224 Main Street\, Brattleboro\, VT\, 05301\, United States
CATEGORIES:General
ATTACH;FMTTYPE=image/jpeg:https://eadn-wc04-3360218.nxedge.io/wp-content/uploads/2023/01/birds.jpg
ORGANIZER;CN="Hollie Bowen":MAILTO:HSB@sover.net
GEO:42.8553213;-72.5599024
X-APPLE-STRUCTURED-LOCATION;VALUE=URI;X-ADDRESS=Meeting Room A – Community Meeting Room 224 Main Street Brattleboro VT 05301 United States;X-APPLE-RADIUS=500;X-TITLE=224 Main Street:geo:-72.5599024,42.8553213
END:VEVENT
BEGIN:VEVENT
DTSTART;TZID=America/New_York:20250219T163000
DTEND;TZID=America/New_York:20250219T180000
DTSTAMP:20260424T181000
CREATED:20250220T175632Z
LAST-MODIFIED:20250220T175633Z
UID:10003857-1739982600-1739988000@brookslibraryvt.org
SUMMARY:Friends of the Library
DESCRIPTION:Monthly meeting of the Friends of the Library. Community attendance and commentary is welcome! \nFriends of the Library
URL:https://brookslibraryvt.org/event/friends-of-the-library-3-2/
LOCATION:Meeting Room A – Community Meeting Room\, 224 Main Street\, Brattleboro\, VT\, 05301\, United States
CATEGORIES:General
ATTACH;FMTTYPE=image/gif:https://eadn-wc04-3360218.nxedge.io/wp-content/uploads/2020/07/FOBML_Logo_resized.gif
GEO:42.8553213;-72.5599024
X-APPLE-STRUCTURED-LOCATION;VALUE=URI;X-ADDRESS=Meeting Room A – Community Meeting Room 224 Main Street Brattleboro VT 05301 United States;X-APPLE-RADIUS=500;X-TITLE=224 Main Street:geo:-72.5599024,42.8553213
END:VEVENT
BEGIN:VEVENT
DTSTART;TZID=America/New_York:20250219T190000
DTEND;TZID=America/New_York:20250219T203000
DTSTAMP:20260424T181000
CREATED:20241224T181747Z
LAST-MODIFIED:20250123T190238Z
UID:10003756-1739991600-1739997000@brookslibraryvt.org
SUMMARY:Vermont Humanities Snapshot Series: Finding a Voice in the Arts
DESCRIPTION:Join Brooks Memorial Library – ONLINE – as we host Vermont Humanities Snapshot Series with James Lockridge.   \nAlmost 20 years ago\, Lockridge co-founded the nonprofit organization Big Heavy World to archive and promote original Vermont-made music. In this talk\, he shares historic and current examples of how the arts can invite changemaking and community building for those who are still finding their voice. \nAbout the presenter: James Lockridge has been directing Big Heavy World as a volunteer since co-founding the organization in 1996. He has guided its growth into a recognized music office\, archive\, and media center. His roles include development\, volunteer oversight\, and project management. James graduated with a BA from the University of Vermont in 1991. He participates on several cultural heritage and arts-related boards and is a longtime advocate for equity and transparency in government\, especially in relation to the arts. He enjoys motorcycle riding and lives in Tucson with his wife\, daughter and a house full of cats and dogs. \nRegistration for this online program is required through this link\, HERE.
URL:https://brookslibraryvt.org/event/vermont-humanities-snapshot-series-finding-a-voice-in-the-arts/
CATEGORIES:General
ATTACH;FMTTYPE=image/png:https://eadn-wc04-3360218.nxedge.io/wp-content/uploads/2024/12/Snapshot-series-3.png
ORGANIZER;CN="Vermont Humanities":MAILTO:info@vermonthumanities.org
LOCATION:https://us02web.zoom.us/webinar/register/WN_RXt7oYMuTEK1QI3AOU3VQg?fbclid=IwZXh0bgNhZW0CMTAAAR19aIAJg7TrCM7WCQQ7gQRt3TEsfb7-JyBJcoEXGJ7q4-4CAriU-aR2NNc_aem_N1zM5klZjF6sk260iKKclA#/registration
END:VEVENT
BEGIN:VEVENT
DTSTART;TZID=America/New_York:20250220T100000
DTEND;TZID=America/New_York:20250220T180000
DTSTAMP:20260424T181000
CREATED:20241226T153530Z
LAST-MODIFIED:20250211T161206Z
UID:10003751-1740045600-1740074400@brookslibraryvt.org
SUMMARY:SEVCA's Volunteer Tax Prep Assistance (VITA) Program
DESCRIPTION:The IRS’s Volunteer Income Tax Assistance (VITA) program offers free basic tax return preparation to qualified individuals. \nThe VITA program has operated for over 50 years. VITA sites offer free tax help to people who need assistance in preparing their own tax returns\, including: \n-People who generally make $67\,000 or less\n-Persons with disabilities\, and\n-Limited English-speaking taxpayers \nSEVCA’s VITA program also assists Vermont homeowners and renters with Homestead Declarations\, Property Tax Credit Claims\, and Renter Rebate Claims\, even if they are not required to file a tax return. \nVITA services are not only free\, they are also a reliable and trusted source for preparing tax returns. \nServices are by appointment only. Click HERE to request an appointment. \nIf you would like more information\, visit sevca.org/tax services\, email estrasser@sevca.org\, or call or text 802-428-3032.
URL:https://brookslibraryvt.org/event/sevcas-volunteer-tax-prep-assistance-vita-program/2025-02-20/
LOCATION:Brooks Memorial Library\, 224 Main Street\, Brattleboro\, VT\, 05301\, United States
ATTACH;FMTTYPE=image/png:https://eadn-wc04-3360218.nxedge.io/wp-content/uploads/2024/12/SEVCA-VITA.png
GEO:42.8553213;-72.5599024
X-APPLE-STRUCTURED-LOCATION;VALUE=URI;X-ADDRESS=Brooks Memorial Library 224 Main Street Brattleboro VT 05301 United States;X-APPLE-RADIUS=500;X-TITLE=224 Main Street:geo:-72.5599024,42.8553213
END:VEVENT
BEGIN:VEVENT
DTSTART;TZID=America/New_York:20250220T103000
DTEND;TZID=America/New_York:20250220T113000
DTSTAMP:20260424T181000
CREATED:20241220T163209Z
LAST-MODIFIED:20250110T153012Z
UID:10003746-1740047400-1740051000@brookslibraryvt.org
SUMMARY:DINOMAN DINOSAURS
DESCRIPTION:How do we know dinosaurs were here? What is a fossil? How are they made? \nFind out the answer to these questions and more when Dinoman visits Brooks Memorial Library on Thursday\, February 20 at 10:30 am. \nAccompanied by huge inflatable dinosaurs\, Dinoman brings his fun and informative show to the Main Reading Room of the library. Doors open at 10:00 am\, the show begins at 10:30 am. FREE and fun for all ages.  \nDinoman is presented by the Children’s Room and Brattleboro Winter Carnival Committee and is sponsored by the Friends of Brooks Memorial Library. The library is located at 224 Main Street\, Brattleboro. For more information call the Children’s Room at 802-254-5290 ext. 1210.
URL:https://brookslibraryvt.org/event/dinoman-dinosaurs/
LOCATION:Main Reading Room
CATEGORIES:Children & Families,General
ATTACH;FMTTYPE=image/png:https://eadn-wc04-3360218.nxedge.io/wp-content/uploads/2024/12/image001.png
ORGANIZER;CN="BML Children's Room":MAILTO:cr@brookslibraryvt.org
GEO:42.8553213;-72.5599024
END:VEVENT
BEGIN:VEVENT
DTSTART;TZID=America/New_York:20250220T130000
DTEND;TZID=America/New_York:20250220T170000
DTSTAMP:20260424T181000
CREATED:20250110T152806Z
LAST-MODIFIED:20250110T152806Z
UID:10003879-1740056400-1740070800@brookslibraryvt.org
SUMMARY:Lego-Palooza Special Session!
DESCRIPTION:Join us on Thursday\, February 20th  from 1-5pm for a Special Session of LEGO-Palooza! \nWe provide the LEGOs. You build to your imagination’s content! Do not bring your own LEGOs. \nChildren cannot keep LEGOs\, but if there is enough room\, we will display them in the library. \nFree and open to the public!
URL:https://brookslibraryvt.org/event/lego-palooza-special-session-8/
LOCATION:Meeting Room A – Community Meeting Room\, 224 Main Street\, Brattleboro\, VT\, 05301\, United States
CATEGORIES:Children & Families,General
ATTACH;FMTTYPE=image/png:https://eadn-wc04-3360218.nxedge.io/wp-content/uploads/2024/04/LEGO-palooza-Special-session-event-calendar.png
ORGANIZER;CN="BML Children's Room":MAILTO:cr@brookslibraryvt.org
GEO:42.8553213;-72.5599024
X-APPLE-STRUCTURED-LOCATION;VALUE=URI;X-ADDRESS=Meeting Room A – Community Meeting Room 224 Main Street Brattleboro VT 05301 United States;X-APPLE-RADIUS=500;X-TITLE=224 Main Street:geo:-72.5599024,42.8553213
END:VEVENT
BEGIN:VEVENT
DTSTART;TZID=America/New_York:20250221T190000
DTEND;TZID=America/New_York:20250221T210000
DTSTAMP:20260424T181000
CREATED:20241226T211754Z
LAST-MODIFIED:20250213T172302Z
UID:10003758-1740164400-1740171600@brookslibraryvt.org
SUMMARY:Teen Movie Night - MEAN GIRLS
DESCRIPTION:The Teen Advisory Board invites you to join us for a Teens Only movie night showing of MEAN GIRLS! \nTeenage Cady Heron (Lindsay Lohan) was home schooled abroad by her scientist parents. When her family moves to the suburbs of Illinois\, Cady finally gets to experience public school and gets a quick primer on the cruel\, tacit laws of popularity that divide her fellow students into tightly knit cliques. She unwittingly finds herself in the good graces of an elite group of cool students dubbed “the Plastics\,” but Cady soon realizes how her shallow group of new friends earned this nickname. \nThe movie will start at 7pm. Snacks and comfy chairs provided!
URL:https://brookslibraryvt.org/event/teen-movie-night/
LOCATION:Meeting Room A – Community Meeting Room\, 224 Main Street\, Brattleboro\, VT\, 05301\, United States
CATEGORIES:Teens
ATTACH;FMTTYPE=image/png:https://eadn-wc04-3360218.nxedge.io/wp-content/uploads/2024/10/Teen-Movie-Night.png
ORGANIZER;CN="Teen Advisory Board":MAILTO:teens@brookslibraryvt.org
GEO:42.8553213;-72.5599024
X-APPLE-STRUCTURED-LOCATION;VALUE=URI;X-ADDRESS=Meeting Room A – Community Meeting Room 224 Main Street Brattleboro VT 05301 United States;X-APPLE-RADIUS=500;X-TITLE=224 Main Street:geo:-72.5599024,42.8553213
END:VEVENT
BEGIN:VEVENT
DTSTART;TZID=America/New_York:20250222T101500
DTEND;TZID=America/New_York:20250222T123000
DTSTAMP:20260424T181000
CREATED:20250213T205230Z
LAST-MODIFIED:20250213T205230Z
UID:10003996-1740219300-1740227400@brookslibraryvt.org
SUMMARY:Actors Theatre Playhouse Public Reading
DESCRIPTION:Staged reading of “Untethered” by Carol Mark
URL:https://brookslibraryvt.org/event/actors-theatre-playhouse-public-reading/
LOCATION:Meeting Room A – Community Meeting Room\, 224 Main Street\, Brattleboro\, VT\, 05301\, United States
CATEGORIES:General
ORGANIZER;CN="Jim Bombicino - Actors Theatre Playhouse":MAILTO:jbombicino@gmail.com
GEO:42.8553213;-72.5599024
X-APPLE-STRUCTURED-LOCATION;VALUE=URI;X-ADDRESS=Meeting Room A – Community Meeting Room 224 Main Street Brattleboro VT 05301 United States;X-APPLE-RADIUS=500;X-TITLE=224 Main Street:geo:-72.5599024,42.8553213
END:VEVENT
BEGIN:VEVENT
DTSTART;TZID=America/New_York:20250222T130000
DTEND;TZID=America/New_York:20250222T160000
DTSTAMP:20260424T181000
CREATED:20250103T195250Z
LAST-MODIFIED:20251204T220811Z
UID:10003805-1740229200-1740240000@brookslibraryvt.org
SUMMARY:Brattleboro in Stitches
DESCRIPTION:Bring a work in progress to sew\, knit\, crochet\, embroider\, or mend. Sewing machines\, irons\, and companionship will be provided.
URL:https://brookslibraryvt.org/event/brattleboro-in-stitches-6/2025-02-22/
LOCATION:Meeting Room A – Community Meeting Room\, 224 Main Street\, Brattleboro\, VT\, 05301\, United States
CATEGORIES:Adults,Children & Families,General
ATTACH;FMTTYPE=image/png:https://eadn-wc04-3360218.nxedge.io/wp-content/uploads/2023/03/Brattleboro-in-Stitches-Event-Calendar2.png
ORGANIZER;CN="Brooks Memorial Library":MAILTO:outreach@brookslibraryvt.org
GEO:42.8553213;-72.5599024
X-APPLE-STRUCTURED-LOCATION;VALUE=URI;X-ADDRESS=Meeting Room A – Community Meeting Room 224 Main Street Brattleboro VT 05301 United States;X-APPLE-RADIUS=500;X-TITLE=224 Main Street:geo:-72.5599024,42.8553213
END:VEVENT
END:VCALENDAR