BEGIN:VCALENDAR
VERSION:2.0
PRODID:-//Brooks Memorial Library - Brattleboro VT - ECPv6.15.17.1//NONSGML v1.0//EN
CALSCALE:GREGORIAN
METHOD:PUBLISH
X-ORIGINAL-URL:https://brookslibraryvt.org
X-WR-CALDESC:Events for Brooks Memorial Library - Brattleboro VT
REFRESH-INTERVAL;VALUE=DURATION:PT1H
X-Robots-Tag:noindex
X-PUBLISHED-TTL:PT1H
BEGIN:VTIMEZONE
TZID:America/New_York
BEGIN:DAYLIGHT
TZOFFSETFROM:-0500
TZOFFSETTO:-0400
TZNAME:EDT
DTSTART:20240310T070000
END:DAYLIGHT
BEGIN:STANDARD
TZOFFSETFROM:-0400
TZOFFSETTO:-0500
TZNAME:EST
DTSTART:20241103T060000
END:STANDARD
BEGIN:DAYLIGHT
TZOFFSETFROM:-0500
TZOFFSETTO:-0400
TZNAME:EDT
DTSTART:20250309T070000
END:DAYLIGHT
BEGIN:STANDARD
TZOFFSETFROM:-0400
TZOFFSETTO:-0500
TZNAME:EST
DTSTART:20251102T060000
END:STANDARD
BEGIN:DAYLIGHT
TZOFFSETFROM:-0500
TZOFFSETTO:-0400
TZNAME:EDT
DTSTART:20260308T070000
END:DAYLIGHT
BEGIN:STANDARD
TZOFFSETFROM:-0400
TZOFFSETTO:-0500
TZNAME:EST
DTSTART:20261101T060000
END:STANDARD
END:VTIMEZONE
BEGIN:VEVENT
DTSTART;TZID=America/New_York:20250303T183000
DTEND;TZID=America/New_York:20250303T200000
DTSTAMP:20260424T144839
CREATED:20250128T201512Z
LAST-MODIFIED:20250128T201533Z
UID:10003904-1741026600-1741032000@brookslibraryvt.org
SUMMARY:BEEC Mud Season Speaker Series: Celebrating Community Science
DESCRIPTION:Spring in Vermont means one thing: mud season! It’s also a perfect time to discover how you can meaningfully contribute to science and conservation in our community. Join Bonnyvale Environmental Education Center for this second session in an inspiring Mud Season Speaker Series featuring experts and enthusiasts who will share stories\, tips\, and inspiration for getting involved in community science. \nThis second session brings James S. Andrews\, Vermont’s only full-time herpetologist\, to Brooks Memorial Library to offer an engaging presentation: “Vernal Pool Reptiles and Amphibians and How You Can Help Document Them.” \nJim will show us a variety of frogs\, salamanders\, snakes\, and turtles (herptiles) in our area that depend on vernal pools or similar habitat.  The southeastern corner of Vermont supports some very rare pool-associated reptiles and amphibians that we should be looking and listening for and reporting any time they are observed.   He will also identify some fairly common amphibians that need to be reported from certain towns in our area (Spring Peeper in Marlboro).   He will introduce us to these herptiles and encourage us to help document the herptiles that we see.\n—\nBe sure to mark your calendar for the last session on April 15th\, when we close out this series with another special presenter.
URL:https://brookslibraryvt.org/event/beec-mud-season-speaker-series-celebrating-community-science-2/
CATEGORIES:General
ATTACH;FMTTYPE=image/png:https://eadn-wc04-3360218.nxedge.io/wp-content/uploads/2024/12/274894713_333291412174332_4132904632526613929_n.png
END:VEVENT
BEGIN:VEVENT
DTSTART;TZID=America/New_York:20250303T190000
DTEND;TZID=America/New_York:20250303T210000
DTSTAMP:20260424T144839
CREATED:20230304T175145Z
LAST-MODIFIED:20250210T210843Z
UID:10003985-1741028400-1741035600@brookslibraryvt.org
SUMMARY:Brattleboro Great Books Group
DESCRIPTION:Monthly discussion of “Great Books”
URL:https://brookslibraryvt.org/event/brattleboro-great-books-group/2025-03-03/
LOCATION:Meeting Room D – Quiet Reading Room\, 224 Main Street\, Brattleboro\, VT\, 05301\, United States
CATEGORIES:General,Teens
ATTACH;FMTTYPE=image/jpeg:https://eadn-wc04-3360218.nxedge.io/wp-content/uploads/2022/10/books.jpg
ORGANIZER;CN="Great Books - Michael Landis":MAILTO:emagicmtman@gmail.com
GEO:42.8553213;-72.5599024
X-APPLE-STRUCTURED-LOCATION;VALUE=URI;X-ADDRESS=Meeting Room D – Quiet Reading Room 224 Main Street Brattleboro VT 05301 United States;X-APPLE-RADIUS=500;X-TITLE=224 Main Street:geo:-72.5599024,42.8553213
END:VEVENT
BEGIN:VEVENT
DTSTART;TZID=America/New_York:20250304T133000
DTEND;TZID=America/New_York:20250304T153000
DTSTAMP:20260424T144839
CREATED:20250221T185300Z
LAST-MODIFIED:20250221T185422Z
UID:10004012-1741095000-1741102200@brookslibraryvt.org
SUMMARY:Vermont Farm Show - Revisioning Community Gathering
DESCRIPTION:The Vermont Farm Show has been one of Vermont’s longest standing events in support of agricultural and land-based enterprises. The last Farm Show was held in 2020 and the Vermont Farm Show Board of Trustees are looking for community input to help define a farm show that can successfully serve Vermont’s needs while also being financially viable. Everyone is invited to participate in the information gathering process on the Vermont Farm Show’s future. Folks from across the state and beyond are being asked to engage and all ideas are welcome.  \nIn addition to in-person gatherings\, virtual focus groups have been held and a survey has been widely disbursed. The Vermont Farm Show Board is calling on farmers of all scales & types\, farm workers\, agricultural students\, educators\, and professionals\, farm service providers\, and anyone who supports Vermont’s food system and working landscape to join in conversation about the future of the Vermont Farm Show. This gathering is one of five occurring across the state this winter. Attendees will connect with others\, engage in facilitated conversation\, and offer their input on what kind of Farm Show can best serve Vermont’s changing agricultural needs. Snacks will be provided.  \nFor more information visit\, www.vtfarmshow.com.
URL:https://brookslibraryvt.org/event/vermont-farm-show-revisioning-community-gathering/
LOCATION:Meeting Room A – Community Meeting Room\, 224 Main Street\, Brattleboro\, VT\, 05301\, United States
CATEGORIES:General
ATTACH;FMTTYPE=image/png:https://eadn-wc04-3360218.nxedge.io/wp-content/uploads/2025/02/Vermont-Community-Farm-Community-Gathering.png
ORGANIZER;CN="Vermont Farm Show":MAILTO:vermontfarmshow@gmail.com
GEO:42.8553213;-72.5599024
X-APPLE-STRUCTURED-LOCATION;VALUE=URI;X-ADDRESS=Meeting Room A – Community Meeting Room 224 Main Street Brattleboro VT 05301 United States;X-APPLE-RADIUS=500;X-TITLE=224 Main Street:geo:-72.5599024,42.8553213
END:VEVENT
BEGIN:VEVENT
DTSTART;TZID=America/New_York:20250304T180000
DTEND;TZID=America/New_York:20250304T204500
DTSTAMP:20260424T144839
CREATED:20250205T200216Z
LAST-MODIFIED:20251204T183206Z
UID:10003922-1741111200-1741121100@brookslibraryvt.org
SUMMARY:Mineralogical Society
DESCRIPTION:Join the Brattleboro Mineralogical Society to discuss Minerals and other Geological topics!
URL:https://brookslibraryvt.org/event/mineralogical-society-4/2025-03-04/
LOCATION:Meeting Room A – Community Meeting Room\, 224 Main Street\, Brattleboro\, VT\, 05301\, United States
CATEGORIES:Adults,General
ATTACH;FMTTYPE=image/png:https://eadn-wc04-3360218.nxedge.io/wp-content/uploads/2021/12/MineralogicalSociety.png
ORGANIZER;CN="Robert Clements - Mineralogical Society":MAILTO:rwc2esj@comcast.net
GEO:42.8553213;-72.5599024
X-APPLE-STRUCTURED-LOCATION;VALUE=URI;X-ADDRESS=Meeting Room A – Community Meeting Room 224 Main Street Brattleboro VT 05301 United States;X-APPLE-RADIUS=500;X-TITLE=224 Main Street:geo:-72.5599024,42.8553213
END:VEVENT
BEGIN:VEVENT
DTSTART;TZID=America/New_York:20250305T103000
DTEND;TZID=America/New_York:20250305T110000
DTSTAMP:20260424T144839
CREATED:20241209T213420Z
LAST-MODIFIED:20251020T171452Z
UID:10003589-1741170600-1741172400@brookslibraryvt.org
SUMMARY:Rhyme Time
DESCRIPTION:Join us on Wednesday mornings @ 10:30 am for 30 minutes of stories\, songs\, and fun! \nRhyme Time is for kids 5 & under and their caregivers. \nFree and open to the public. \n  \n 
URL:https://brookslibraryvt.org/event/rhyme-time-8/2025-03-05/
LOCATION:Meeting Room A – Community Meeting Room\, 224 Main Street\, Brattleboro\, VT\, 05301\, United States
CATEGORIES:Children & Families
ATTACH;FMTTYPE=image/png:https://eadn-wc04-3360218.nxedge.io/wp-content/uploads/2024/01/New-2-CLJ.png
ORGANIZER;CN="BML Children's Room":MAILTO:cr@brookslibraryvt.org
GEO:42.8553213;-72.5599024
X-APPLE-STRUCTURED-LOCATION;VALUE=URI;X-ADDRESS=Meeting Room A – Community Meeting Room 224 Main Street Brattleboro VT 05301 United States;X-APPLE-RADIUS=500;X-TITLE=224 Main Street:geo:-72.5599024,42.8553213
END:VEVENT
BEGIN:VEVENT
DTSTART;TZID=America/New_York:20250305T133000
DTEND;TZID=America/New_York:20250305T143000
DTSTAMP:20260424T144839
CREATED:20250226T204833Z
LAST-MODIFIED:20250226T204833Z
UID:10004015-1741181400-1741185000@brookslibraryvt.org
SUMMARY:Lifelong Learning - Families First
DESCRIPTION:Lifelong Learning provides ongoing educational opportunities for adults with developmental disabilities. Participants become experts in areas of interest and share their knowledge with peers!
URL:https://brookslibraryvt.org/event/lifelong-learning-families-first/2025-03-05/
LOCATION:Meeting Room A – Community Meeting Room\, 224 Main Street\, Brattleboro\, VT\, 05301\, United States
CATEGORIES:Adults
ATTACH;FMTTYPE=image/jpeg:https://eadn-wc04-3360218.nxedge.io/wp-content/uploads/2025/02/th.jpg
ORGANIZER;CN="Families First - Lifelong Learning":MAILTO:Sarah.Duprey@lincolnstreetinc.org
GEO:42.8553213;-72.5599024
X-APPLE-STRUCTURED-LOCATION;VALUE=URI;X-ADDRESS=Meeting Room A – Community Meeting Room 224 Main Street Brattleboro VT 05301 United States;X-APPLE-RADIUS=500;X-TITLE=224 Main Street:geo:-72.5599024,42.8553213
END:VEVENT
BEGIN:VEVENT
DTSTART;TZID=America/New_York:20250306T110000
DTEND;TZID=America/New_York:20250306T120000
DTSTAMP:20260424T144839
CREATED:20241217T183003Z
LAST-MODIFIED:20250314T185522Z
UID:10004131-1741258800-1741262400@brookslibraryvt.org
SUMMARY:Sing & Dance With Robin
DESCRIPTION:Designed for ages under 6- all ages welcome! Free and open to the public. \nThis lovely class is an enriching musical experience for toddlers and preschoolers\, designed to support healthy cognitive\, physical\, and social development. Children will sing\, clap\, stomp\, dance\, and play along with the curriculum of traditional and modern folk songs. Parents will be encouraged to fully sing and participate with their child in the class. \nSponsored by the Friends of Brooks Memorial Library.
URL:https://brookslibraryvt.org/event/sing-dance-with-robin-7/2025-03-06/
LOCATION:Meeting Room A – Community Meeting Room\, 224 Main Street\, Brattleboro\, VT\, 05301\, United States
CATEGORIES:Children & Families
ATTACH;FMTTYPE=image/png:https://eadn-wc04-3360218.nxedge.io/wp-content/uploads/2024/04/Sing-Dance-with-Robin-Event-Calendar.png
ORGANIZER;CN="BML Children's Room":MAILTO:cr@brookslibraryvt.org
GEO:42.8553213;-72.5599024
X-APPLE-STRUCTURED-LOCATION;VALUE=URI;X-ADDRESS=Meeting Room A – Community Meeting Room 224 Main Street Brattleboro VT 05301 United States;X-APPLE-RADIUS=500;X-TITLE=224 Main Street:geo:-72.5599024,42.8553213
END:VEVENT
BEGIN:VEVENT
DTSTART;TZID=America/New_York:20250306T150000
DTEND;TZID=America/New_York:20250306T170000
DTSTAMP:20260424T144839
CREATED:20241209T214655Z
LAST-MODIFIED:20250830T194519Z
UID:10003636-1741273200-1741280400@brookslibraryvt.org
SUMMARY:LEGO-Palooza
DESCRIPTION:Join us on the first Thursday of every month after school from 3-5pm to play with LEGOs! \nWe provide the LEGOs. You build. Do not bring your own LEGOs. \nChildren cannot keep LEGOs\, but if there is enough room\, we will display them in the window. \nFree and open to the public!
URL:https://brookslibraryvt.org/event/lego-palooza-4/2025-03-06/
LOCATION:Meeting Room A – Community Meeting Room\, 224 Main Street\, Brattleboro\, VT\, 05301\, United States
CATEGORIES:Children & Families,General
ATTACH;FMTTYPE=image/png:https://eadn-wc04-3360218.nxedge.io/wp-content/uploads/2023/01/Untitled-design4.png
ORGANIZER;CN="BML Children's Room":MAILTO:cr@brookslibraryvt.org
GEO:42.8553213;-72.5599024
X-APPLE-STRUCTURED-LOCATION;VALUE=URI;X-ADDRESS=Meeting Room A – Community Meeting Room 224 Main Street Brattleboro VT 05301 United States;X-APPLE-RADIUS=500;X-TITLE=224 Main Street:geo:-72.5599024,42.8553213
END:VEVENT
BEGIN:VEVENT
DTSTART;TZID=America/New_York:20250308T110000
DTEND;TZID=America/New_York:20250308T120000
DTSTAMP:20260424T144839
CREATED:20250219T221413Z
LAST-MODIFIED:20250219T221832Z
UID:10004004-1741431600-1741435200@brookslibraryvt.org
SUMMARY:Functional Play! For Older Adults with Marissa Peck
DESCRIPTION:Join us for a functional movement workshop series where we will move\, shake\, strengthen\, stretch\, and connect. Designed for adults 50+ of all abilities and mobility levels. \nSessions are on the 2nd & 4th Saturdays in March and April (03/08\, 03/22\, 04/12 & 04/26)  \n(From the creator of SilverCircus)
URL:https://brookslibraryvt.org/event/functional-play-for-older-adults-with-marissa-peck-2/2025-03-08/
LOCATION:Meeting Room A – Community Meeting Room\, 224 Main Street\, Brattleboro\, VT\, 05301\, United States
CATEGORIES:Adults
ATTACH;FMTTYPE=image/png:https://eadn-wc04-3360218.nxedge.io/wp-content/uploads/2025/02/1.png
ORGANIZER;CN="Marissa Peck":MAILTO:marissafpeck@gmail.com
GEO:42.8553213;-72.5599024
X-APPLE-STRUCTURED-LOCATION;VALUE=URI;X-ADDRESS=Meeting Room A – Community Meeting Room 224 Main Street Brattleboro VT 05301 United States;X-APPLE-RADIUS=500;X-TITLE=224 Main Street:geo:-72.5599024,42.8553213
END:VEVENT
BEGIN:VEVENT
DTSTART;TZID=America/New_York:20250308T130000
DTEND;TZID=America/New_York:20250308T160000
DTSTAMP:20260424T144839
CREATED:20250103T195250Z
LAST-MODIFIED:20251204T220811Z
UID:10003807-1741438800-1741449600@brookslibraryvt.org
SUMMARY:Brattleboro in Stitches
DESCRIPTION:Bring a work in progress to sew\, knit\, crochet\, embroider\, or mend. Sewing machines\, irons\, and companionship will be provided.
URL:https://brookslibraryvt.org/event/brattleboro-in-stitches-6/2025-03-08/
LOCATION:Meeting Room A – Community Meeting Room\, 224 Main Street\, Brattleboro\, VT\, 05301\, United States
CATEGORIES:Adults,Children & Families,General
ATTACH;FMTTYPE=image/png:https://eadn-wc04-3360218.nxedge.io/wp-content/uploads/2023/03/Brattleboro-in-Stitches-Event-Calendar2.png
ORGANIZER;CN="Brooks Memorial Library":MAILTO:outreach@brookslibraryvt.org
GEO:42.8553213;-72.5599024
X-APPLE-STRUCTURED-LOCATION;VALUE=URI;X-ADDRESS=Meeting Room A – Community Meeting Room 224 Main Street Brattleboro VT 05301 United States;X-APPLE-RADIUS=500;X-TITLE=224 Main Street:geo:-72.5599024,42.8553213
END:VEVENT
END:VCALENDAR