BEGIN:VCALENDAR
VERSION:2.0
PRODID:-//Brooks Memorial Library - Brattleboro VT - ECPv6.15.17.1//NONSGML v1.0//EN
CALSCALE:GREGORIAN
METHOD:PUBLISH
X-ORIGINAL-URL:https://brookslibraryvt.org
X-WR-CALDESC:Events for Brooks Memorial Library - Brattleboro VT
REFRESH-INTERVAL;VALUE=DURATION:PT1H
X-Robots-Tag:noindex
X-PUBLISHED-TTL:PT1H
BEGIN:VTIMEZONE
TZID:America/New_York
BEGIN:DAYLIGHT
TZOFFSETFROM:-0500
TZOFFSETTO:-0400
TZNAME:EDT
DTSTART:20240310T070000
END:DAYLIGHT
BEGIN:STANDARD
TZOFFSETFROM:-0400
TZOFFSETTO:-0500
TZNAME:EST
DTSTART:20241103T060000
END:STANDARD
BEGIN:DAYLIGHT
TZOFFSETFROM:-0500
TZOFFSETTO:-0400
TZNAME:EDT
DTSTART:20250309T070000
END:DAYLIGHT
BEGIN:STANDARD
TZOFFSETFROM:-0400
TZOFFSETTO:-0500
TZNAME:EST
DTSTART:20251102T060000
END:STANDARD
BEGIN:DAYLIGHT
TZOFFSETFROM:-0500
TZOFFSETTO:-0400
TZNAME:EDT
DTSTART:20260308T070000
END:DAYLIGHT
BEGIN:STANDARD
TZOFFSETFROM:-0400
TZOFFSETTO:-0500
TZNAME:EST
DTSTART:20261101T060000
END:STANDARD
END:VTIMEZONE
BEGIN:VEVENT
DTSTART;TZID=America/New_York:20250310T163000
DTEND;TZID=America/New_York:20250310T173000
DTSTAMP:20260424T162808
CREATED:20250203T185213Z
LAST-MODIFIED:20250304T165619Z
UID:10003909-1741624200-1741627800@brookslibraryvt.org
SUMMARY:Family Game Night for Preschoolers hosted by Windham Southeast Supervisory Union and Early Education Services
DESCRIPTION:Family game night with families and children 3-5 years old. Simple games and rhymes.
URL:https://brookslibraryvt.org/event/family-game-night-for-preschoolers-hosted-by-windham-southeast-supervisory-union-and-early-education-services/
LOCATION:Meeting Room A – Community Meeting Room\, 224 Main Street\, Brattleboro\, VT\, 05301\, United States
CATEGORIES:Children & Families
ATTACH;FMTTYPE=image/png:https://eadn-wc04-3360218.nxedge.io/wp-content/uploads/2025/02/Untitled-1800-x-200-px-Facebook-Post-Square.png
ORGANIZER;CN="Windham Southeast Supervisory Union & Early Educational Services":MAILTO:kbeebe@wsesdvt.org
GEO:42.8553213;-72.5599024
X-APPLE-STRUCTURED-LOCATION;VALUE=URI;X-ADDRESS=Meeting Room A – Community Meeting Room 224 Main Street Brattleboro VT 05301 United States;X-APPLE-RADIUS=500;X-TITLE=224 Main Street:geo:-72.5599024,42.8553213
END:VEVENT
BEGIN:VEVENT
DTSTART;TZID=America/New_York:20250310T183000
DTEND;TZID=America/New_York:20250310T200000
DTSTAMP:20260424T162808
CREATED:20250203T193436Z
LAST-MODIFIED:20250203T193436Z
UID:10003910-1741631400-1741636800@brookslibraryvt.org
SUMMARY:Silent Book Club of Windham County
DESCRIPTION:Silent Book Club is a global community of readers and introverts\, with more than 500 chapters around the world led by local volunteers. SBC is about community. Everyone is welcome\, and anyone can join. Silent Book Club of Windham County is a casual\, monthly gathering where book lovers can meet fellow bibliophiles and enjoy dedicated reading time. There are no assigned books—just bring whatever you’re currently reading and settle in for a quiet\, cozy evening. Whether you’re looking to make new literary-minded friends or simply carve out space in your month for uninterrupted reading\, we’d love to have you join us!
URL:https://brookslibraryvt.org/event/silent-book-club-of-windham-county/
LOCATION:Meeting Room A – Community Meeting Room\, 224 Main Street\, Brattleboro\, VT\, 05301\, United States
CATEGORIES:General
ORGANIZER;CN="Silent Book Club of Windham County":MAILTO:sbcwindhamcountyvt@gmail.com
GEO:42.8553213;-72.5599024
X-APPLE-STRUCTURED-LOCATION;VALUE=URI;X-ADDRESS=Meeting Room A – Community Meeting Room 224 Main Street Brattleboro VT 05301 United States;X-APPLE-RADIUS=500;X-TITLE=224 Main Street:geo:-72.5599024,42.8553213
END:VEVENT
BEGIN:VEVENT
DTSTART;TZID=America/New_York:20250311T163000
DTEND;TZID=America/New_York:20250311T180000
DTSTAMP:20260424T162808
CREATED:20230105T222916Z
LAST-MODIFIED:20250210T194139Z
UID:10003936-1741710600-1741716000@brookslibraryvt.org
SUMMARY:Library Board of Trustees
DESCRIPTION:Monthly meeting of the Brooks Memorial Library Board of Trustees. Citizen attendance and commentary welcome! \nBoard of Trustees
URL:https://brookslibraryvt.org/event/library-board-of-trustees/2025-03-11/
LOCATION:Meeting Room A – Community Meeting Room\, 224 Main Street\, Brattleboro\, VT\, 05301\, United States
CATEGORIES:General,Teens
ATTACH;FMTTYPE=image/png:https://eadn-wc04-3360218.nxedge.io/wp-content/uploads/2023/01/BML-medium-logo.png
ORGANIZER;CN="Brooks Memorial Library":MAILTO:outreach@brookslibraryvt.org
GEO:42.8553213;-72.5599024
X-APPLE-STRUCTURED-LOCATION;VALUE=URI;X-ADDRESS=Meeting Room A – Community Meeting Room 224 Main Street Brattleboro VT 05301 United States;X-APPLE-RADIUS=500;X-TITLE=224 Main Street:geo:-72.5599024,42.8553213
END:VEVENT
BEGIN:VEVENT
DTSTART;TZID=America/New_York:20250312T103000
DTEND;TZID=America/New_York:20250312T110000
DTSTAMP:20260424T162808
CREATED:20241209T213420Z
LAST-MODIFIED:20251020T171452Z
UID:10003590-1741775400-1741777200@brookslibraryvt.org
SUMMARY:Rhyme Time
DESCRIPTION:Join us on Wednesday mornings @ 10:30 am for 30 minutes of stories\, songs\, and fun! \nRhyme Time is for kids 5 & under and their caregivers. \nFree and open to the public. \n  \n 
URL:https://brookslibraryvt.org/event/rhyme-time-8/2025-03-12/
LOCATION:Meeting Room A – Community Meeting Room\, 224 Main Street\, Brattleboro\, VT\, 05301\, United States
CATEGORIES:Children & Families
ATTACH;FMTTYPE=image/png:https://eadn-wc04-3360218.nxedge.io/wp-content/uploads/2024/01/New-2-CLJ.png
ORGANIZER;CN="BML Children's Room":MAILTO:cr@brookslibraryvt.org
GEO:42.8553213;-72.5599024
X-APPLE-STRUCTURED-LOCATION;VALUE=URI;X-ADDRESS=Meeting Room A – Community Meeting Room 224 Main Street Brattleboro VT 05301 United States;X-APPLE-RADIUS=500;X-TITLE=224 Main Street:geo:-72.5599024,42.8553213
END:VEVENT
BEGIN:VEVENT
DTSTART;TZID=America/New_York:20250312T133000
DTEND;TZID=America/New_York:20250312T143000
DTSTAMP:20260424T162808
CREATED:20250226T204833Z
LAST-MODIFIED:20250226T204833Z
UID:10004016-1741786200-1741789800@brookslibraryvt.org
SUMMARY:Lifelong Learning - Families First
DESCRIPTION:Lifelong Learning provides ongoing educational opportunities for adults with developmental disabilities. Participants become experts in areas of interest and share their knowledge with peers!
URL:https://brookslibraryvt.org/event/lifelong-learning-families-first/2025-03-12/
LOCATION:Meeting Room A – Community Meeting Room\, 224 Main Street\, Brattleboro\, VT\, 05301\, United States
CATEGORIES:Adults
ATTACH;FMTTYPE=image/jpeg:https://eadn-wc04-3360218.nxedge.io/wp-content/uploads/2025/02/th.jpg
ORGANIZER;CN="Families First - Lifelong Learning":MAILTO:Sarah.Duprey@lincolnstreetinc.org
GEO:42.8553213;-72.5599024
X-APPLE-STRUCTURED-LOCATION;VALUE=URI;X-ADDRESS=Meeting Room A – Community Meeting Room 224 Main Street Brattleboro VT 05301 United States;X-APPLE-RADIUS=500;X-TITLE=224 Main Street:geo:-72.5599024,42.8553213
END:VEVENT
BEGIN:VEVENT
DTSTART;TZID=America/New_York:20250312T190000
DTEND;TZID=America/New_York:20250312T204500
DTSTAMP:20260424T162808
CREATED:20250224T162741Z
LAST-MODIFIED:20250224T163243Z
UID:10004013-1741806000-1741812300@brookslibraryvt.org
SUMMARY:The Nelson Legacy Project presents "Eyes on Freedom" an audio documentary about nonviolent activists Wally and Juanita Nelson
DESCRIPTION:The Nelson Legacy project invites you to a listening event “Eyes on Freedom”\, a one-hour audio documentary about Wally & Juanita Nelson produced by Carrie and Michael Kline of “Talking Across the Lines”. \n“Eyes on Freedom” is an audio tapestry that weaves together voices of people who knew and were influenced by the Nelsons. The audio documentary also includes vintage recordings of the Nelsons themselves.  \nAfter decades of involvement in the civil rights and antiwar movements\, Wally and Juanita Nelson lived just south of the Vermont border in Franklin County\, Massachusetts starting in 1974. They lived there until Wally died in 2002 and Juanita in 2015. They had a significant impact on our region through their advocacy of local agriculture\, land trusts\, war tax refusal\, and simple living.  \nNonviolence was the umbrella concept that underscored everything they did. For the Nelsons\, nonviolence represented so much more than a tactic to be used in a conflict situation. While it could include freedom rides\, boycotts\, lunch counter sit-ins\, war tax refusal\, and other forms of noncooperation\, it was also a way of life\, a way of being in the world\, a way of relating to people and to all of nature. It was a measuring stick they used to evaluate their actions and choices. Nonviolence encompassed dignity\, humanity\, truth\, justice\, and freedom and it was a lens through which to view the violence of our modern-day economic system. \nFor more information\, contact Bob Bady at: bobbady@gmail.com.
URL:https://brookslibraryvt.org/event/the-nelson-legacy-project-presents-eyes-on-freedom-an-audio-documentary-about-nonviolent-activists-wally-and-juanita-nelson/
CATEGORIES:General
ATTACH;FMTTYPE=image/png:https://eadn-wc04-3360218.nxedge.io/wp-content/uploads/2025/02/Screenshot-2025-02-24-110532.png
END:VEVENT
BEGIN:VEVENT
DTSTART;TZID=America/New_York:20250313T110000
DTEND;TZID=America/New_York:20250313T120000
DTSTAMP:20260424T162808
CREATED:20241217T183003Z
LAST-MODIFIED:20250314T185522Z
UID:10004132-1741863600-1741867200@brookslibraryvt.org
SUMMARY:Sing & Dance With Robin
DESCRIPTION:Designed for ages under 6- all ages welcome! Free and open to the public. \nThis lovely class is an enriching musical experience for toddlers and preschoolers\, designed to support healthy cognitive\, physical\, and social development. Children will sing\, clap\, stomp\, dance\, and play along with the curriculum of traditional and modern folk songs. Parents will be encouraged to fully sing and participate with their child in the class. \nSponsored by the Friends of Brooks Memorial Library.
URL:https://brookslibraryvt.org/event/sing-dance-with-robin-7/2025-03-13/
LOCATION:Meeting Room A – Community Meeting Room\, 224 Main Street\, Brattleboro\, VT\, 05301\, United States
CATEGORIES:Children & Families
ATTACH;FMTTYPE=image/png:https://eadn-wc04-3360218.nxedge.io/wp-content/uploads/2024/04/Sing-Dance-with-Robin-Event-Calendar.png
ORGANIZER;CN="BML Children's Room":MAILTO:cr@brookslibraryvt.org
GEO:42.8553213;-72.5599024
X-APPLE-STRUCTURED-LOCATION;VALUE=URI;X-ADDRESS=Meeting Room A – Community Meeting Room 224 Main Street Brattleboro VT 05301 United States;X-APPLE-RADIUS=500;X-TITLE=224 Main Street:geo:-72.5599024,42.8553213
END:VEVENT
BEGIN:VEVENT
DTSTART;TZID=America/New_York:20250313T150000
DTEND;TZID=America/New_York:20250313T170000
DTSTAMP:20260424T162808
CREATED:20241216T164247Z
LAST-MODIFIED:20250304T175727Z
UID:10004029-1741878000-1741885200@brookslibraryvt.org
SUMMARY:LEGO-Palooza Winter Session!
DESCRIPTION:Join us on Thursdays after school from 3-5pm to play with LEGOs! \nWe provide the LEGOs. You build. Do not bring your own LEGOs. \nChildren cannot keep LEGOs\, but if there is enough room\, we will display them in the window. \nFree and open to the public!
URL:https://brookslibraryvt.org/event/lego-palooza-special-session-6/2025-03-13/
LOCATION:Meeting Room A – Community Meeting Room\, 224 Main Street\, Brattleboro\, VT\, 05301\, United States
CATEGORIES:Children & Families,General,Teens
ATTACH;FMTTYPE=image/png:https://eadn-wc04-3360218.nxedge.io/wp-content/uploads/2024/12/LEGO-palooza-Winter-Session.png
ORGANIZER;CN="BML Children's Room":MAILTO:cr@brookslibraryvt.org
GEO:42.8553213;-72.5599024
X-APPLE-STRUCTURED-LOCATION;VALUE=URI;X-ADDRESS=Meeting Room A – Community Meeting Room 224 Main Street Brattleboro VT 05301 United States;X-APPLE-RADIUS=500;X-TITLE=224 Main Street:geo:-72.5599024,42.8553213
END:VEVENT
BEGIN:VEVENT
DTSTART;TZID=America/New_York:20250314T170000
DTEND;TZID=America/New_York:20250314T190000
DTSTAMP:20260424T162808
CREATED:20250131T204659Z
LAST-MODIFIED:20250204T210052Z
UID:10003905-1741971600-1741978800@brookslibraryvt.org
SUMMARY:A Literary Cocktail Hour – The Invisible Doctrine: The Secret History of Neoliberalism
DESCRIPTION:The March Cocktail Hour is a collaborative ONLINE event with our host\, the Windham World Affairs Council\, and partner organizations:  Vermont Independent Media\, the Vermont Humanities\, The Latchis\, and Everyone’s Books\, along with Brooks Memorial Library. \nThe book to be discussed is a Times UK #1 bestseller\, “The Invisible Doctrine: The Secret History of Neoliberalism” with authors George Monbiot & Peter Hutchison. \nGeorge Monbiot and filmmaker Peter Hutchison show how a fringe philosophy in the 1930s—championing competition as the defining feature of humankind—was systematically hijacked by a group of wealthy elites\, determined to guard their fortunes and power. Think tanks\, corporations\, the media\, university departments and politicians were all deployed to promote the idea that people are consumers\, rather than citizens. \nA community screening of The Invisible Doctrine documentary followed by a Q & A with filmmaker Peter Hutchison is scheduled the next day\, 3/15\, at 5 PM at the Latchis.  \nTo register and receive the Zoom link for the 3/14 Literary Cocktail Hour\, please visit: https://us02web.zoom.us/webinar/register/WN__FJqLOn_TgOzySUxytRurw#/registration
URL:https://brookslibraryvt.org/event/a-literary-cocktail-hour-the-invisible-doctrine-the-secret-history-of-neoliberalism/
CATEGORIES:General
ATTACH;FMTTYPE=image/png:https://eadn-wc04-3360218.nxedge.io/wp-content/uploads/2025/01/Note-card-A-Literary-Cocktail-Hour-with-Peter-Hutchison-George-Monbiot.png
END:VEVENT
BEGIN:VEVENT
DTSTART;TZID=America/New_York:20250315T103000
DTEND;TZID=America/New_York:20250315T123000
DTSTAMP:20260424T162808
CREATED:20250124T162349Z
LAST-MODIFIED:20250124T162418Z
UID:10003888-1742034600-1742041800@brookslibraryvt.org
SUMMARY:Windham County Genealogy Interest Group
DESCRIPTION:Genealogical research and presentation
URL:https://brookslibraryvt.org/event/windham-county-genealogy-interest-group-3/
LOCATION:Meeting Room A – Community Meeting Room\, 224 Main Street\, Brattleboro\, VT\, 05301\, United States
CATEGORIES:General
ATTACH;FMTTYPE=image/jpeg:https://eadn-wc04-3360218.nxedge.io/wp-content/uploads/2021/09/thumbnail_WCGIG-banner.jpg
ORGANIZER;CN="Windham County Genealogy Interest Group":MAILTO:windhamcountygig@gmail.com
GEO:42.8553213;-72.5599024
X-APPLE-STRUCTURED-LOCATION;VALUE=URI;X-ADDRESS=Meeting Room A – Community Meeting Room 224 Main Street Brattleboro VT 05301 United States;X-APPLE-RADIUS=500;X-TITLE=224 Main Street:geo:-72.5599024,42.8553213
END:VEVENT
BEGIN:VEVENT
DTSTART;TZID=America/New_York:20250315T130000
DTEND;TZID=America/New_York:20250315T160000
DTSTAMP:20260424T162808
CREATED:20250103T195250Z
LAST-MODIFIED:20251204T220811Z
UID:10003808-1742043600-1742054400@brookslibraryvt.org
SUMMARY:Brattleboro in Stitches
DESCRIPTION:Bring a work in progress to sew\, knit\, crochet\, embroider\, or mend. Sewing machines\, irons\, and companionship will be provided.
URL:https://brookslibraryvt.org/event/brattleboro-in-stitches-6/2025-03-15/
LOCATION:Meeting Room A – Community Meeting Room\, 224 Main Street\, Brattleboro\, VT\, 05301\, United States
CATEGORIES:Adults,Children & Families,General
ATTACH;FMTTYPE=image/png:https://eadn-wc04-3360218.nxedge.io/wp-content/uploads/2023/03/Brattleboro-in-Stitches-Event-Calendar2.png
ORGANIZER;CN="Brooks Memorial Library":MAILTO:outreach@brookslibraryvt.org
GEO:42.8553213;-72.5599024
X-APPLE-STRUCTURED-LOCATION;VALUE=URI;X-ADDRESS=Meeting Room A – Community Meeting Room 224 Main Street Brattleboro VT 05301 United States;X-APPLE-RADIUS=500;X-TITLE=224 Main Street:geo:-72.5599024,42.8553213
END:VEVENT
END:VCALENDAR