BEGIN:VCALENDAR
VERSION:2.0
PRODID:-//Brooks Memorial Library - Brattleboro VT - ECPv6.15.17.1//NONSGML v1.0//EN
CALSCALE:GREGORIAN
METHOD:PUBLISH
X-WR-CALNAME:Brooks Memorial Library - Brattleboro VT
X-ORIGINAL-URL:https://brookslibraryvt.org
X-WR-CALDESC:Events for Brooks Memorial Library - Brattleboro VT
REFRESH-INTERVAL;VALUE=DURATION:PT1H
X-Robots-Tag:noindex
X-PUBLISHED-TTL:PT1H
BEGIN:VTIMEZONE
TZID:America/New_York
BEGIN:DAYLIGHT
TZOFFSETFROM:-0500
TZOFFSETTO:-0400
TZNAME:EDT
DTSTART:20240310T070000
END:DAYLIGHT
BEGIN:STANDARD
TZOFFSETFROM:-0400
TZOFFSETTO:-0500
TZNAME:EST
DTSTART:20241103T060000
END:STANDARD
BEGIN:DAYLIGHT
TZOFFSETFROM:-0500
TZOFFSETTO:-0400
TZNAME:EDT
DTSTART:20250309T070000
END:DAYLIGHT
BEGIN:STANDARD
TZOFFSETFROM:-0400
TZOFFSETTO:-0500
TZNAME:EST
DTSTART:20251102T060000
END:STANDARD
BEGIN:DAYLIGHT
TZOFFSETFROM:-0500
TZOFFSETTO:-0400
TZNAME:EDT
DTSTART:20260308T070000
END:DAYLIGHT
BEGIN:STANDARD
TZOFFSETFROM:-0400
TZOFFSETTO:-0500
TZNAME:EST
DTSTART:20261101T060000
END:STANDARD
END:VTIMEZONE
BEGIN:VEVENT
DTSTART;TZID=America/New_York:20250316T170000
DTEND;TZID=America/New_York:20250316T200000
DTSTAMP:20260424T182024
CREATED:20250131T211337Z
LAST-MODIFIED:20250224T221621Z
UID:10003906-1742144400-1742155200@brookslibraryvt.org
SUMMARY:A Community Screening of "The Invisible Doctrine: The Secret History of Neoliberalism"
DESCRIPTION:Through a partnership of Windham World Affairs\, Vermont Independent Media\, the Vermont Humanities\, the Brattleboro Lit Fest\, The Latchis\, Everyone’s Books\, and Brooks Memorial Library\, we are pleased to offer this community screening of “The Invisible Doctrine: The Secret History of Neoliberalism”\, followed by a Q & A with filmmaker Peter Hutchison\, on Sunday\, March 16 from 5 – 8 PM at The Latchis.  \n“Imagine that the people of the Soviet Union had never heard of Communism.  That’s more or less where we find ourselves today.  The dominant ideology of our times – which affects nearly every aspect of our lives – for most of us has no name.” \nThe Invisible Doctrine does more than merely provide a critique of  neoliberalism and the forces  that have come to guide our lives\, it provides a way forward – proposing avenues for the  revitalization of community\, the commons\, democratic participation\, and reclamation of  government (in particular on the local & community level) – thereby planting the seeds for  systemic\, long-term change.  \nFor a preview\, visit: https://youtu.be/OeLNRzqCpCE
URL:https://brookslibraryvt.org/event/a-community-screening-of-the-invisible-doctrine-the-secret-history-of-neoliberalism/
LOCATION:The Latchis Theatre\, 50 Main Street\, Brattleboro\, Vermont\, 05301\, United States
ATTACH;FMTTYPE=image/jpeg:https://eadn-wc04-3360218.nxedge.io/wp-content/uploads/2025/01/F6uNTP-WAAAhiRB.jpg
GEO:42.8512944;-72.5578585
X-APPLE-STRUCTURED-LOCATION;VALUE=URI;X-ADDRESS=The Latchis Theatre 50 Main Street Brattleboro Vermont 05301 United States;X-APPLE-RADIUS=500;X-TITLE=50 Main Street:geo:-72.5578585,42.8512944
END:VEVENT
BEGIN:VEVENT
DTSTART;TZID=America/New_York:20250317T101500
DTEND;TZID=America/New_York:20250317T113000
DTSTAMP:20260424T182024
CREATED:20250303T222124Z
LAST-MODIFIED:20250611T173820Z
UID:10004034-1742206500-1742211000@brookslibraryvt.org
SUMMARY:Multigenerational Civics Class
DESCRIPTION:Who has power over us? What power do we have to create the world around us? The Vermont Village School welcomes villagers of all ages to participate in a people’s Civics class with us this spring at Brooks Memorial Library. We will be untangling the different institutions that exert power over us\, past and present\, official and unofficial\, and brainstorming how we move forward together. \n\nJoin us Monday at 10:15am @ Brooks Memorial Library\, Brattleboro. This will be the first of a series–we will plan future gatherings based on collective interest and energy.
URL:https://brookslibraryvt.org/event/multigenerational-civics-class/2025-03-17/
LOCATION:Meeting Room A – Community Meeting Room\, 224 Main Street\, Brattleboro\, VT\, 05301\, United States
CATEGORIES:Adults,Children & Families,General
ATTACH;FMTTYPE=image/jpeg:https://eadn-wc04-3360218.nxedge.io/wp-content/uploads/2025/03/VVS-Scrapbook30-scaled.jpg
ORGANIZER;CN="Vermont Village School":MAILTO:shayonye@gmail.com
GEO:42.8553213;-72.5599024
X-APPLE-STRUCTURED-LOCATION;VALUE=URI;X-ADDRESS=Meeting Room A – Community Meeting Room 224 Main Street Brattleboro VT 05301 United States;X-APPLE-RADIUS=500;X-TITLE=224 Main Street:geo:-72.5599024,42.8553213
END:VEVENT
BEGIN:VEVENT
DTSTART;TZID=America/New_York:20250317T113000
DTEND;TZID=America/New_York:20250317T190000
DTSTAMP:20260424T182024
CREATED:20241226T153530Z
LAST-MODIFIED:20250211T161206Z
UID:10003752-1742211000-1742238000@brookslibraryvt.org
SUMMARY:SEVCA's Volunteer Tax Prep Assistance (VITA) Program
DESCRIPTION:The IRS’s Volunteer Income Tax Assistance (VITA) program offers free basic tax return preparation to qualified individuals. \nThe VITA program has operated for over 50 years. VITA sites offer free tax help to people who need assistance in preparing their own tax returns\, including: \n-People who generally make $67\,000 or less\n-Persons with disabilities\, and\n-Limited English-speaking taxpayers \nSEVCA’s VITA program also assists Vermont homeowners and renters with Homestead Declarations\, Property Tax Credit Claims\, and Renter Rebate Claims\, even if they are not required to file a tax return. \nVITA services are not only free\, they are also a reliable and trusted source for preparing tax returns. \nServices are by appointment only. Click HERE to request an appointment. \nIf you would like more information\, visit sevca.org/tax services\, email estrasser@sevca.org\, or call or text 802-428-3032.
URL:https://brookslibraryvt.org/event/sevcas-volunteer-tax-prep-assistance-vita-program/2025-03-17/
LOCATION:Brooks Memorial Library\, 224 Main Street\, Brattleboro\, VT\, 05301\, United States
ATTACH;FMTTYPE=image/png:https://eadn-wc04-3360218.nxedge.io/wp-content/uploads/2024/12/SEVCA-VITA.png
GEO:42.8553213;-72.5599024
X-APPLE-STRUCTURED-LOCATION;VALUE=URI;X-ADDRESS=Brooks Memorial Library 224 Main Street Brattleboro VT 05301 United States;X-APPLE-RADIUS=500;X-TITLE=224 Main Street:geo:-72.5599024,42.8553213
END:VEVENT
BEGIN:VEVENT
DTSTART;TZID=America/New_York:20250317T190000
DTEND;TZID=America/New_York:20250317T203000
DTSTAMP:20260424T182024
CREATED:20250228T184630Z
LAST-MODIFIED:20250317T194830Z
UID:10003724-1742238000-1742243400@brookslibraryvt.org
SUMMARY:Sci-Fi Reading Group
DESCRIPTION:Join the Sci-Fi Reading Group in the Quiet Reading Room from 7:00pm – 8:30pm to discuss Tentacle by Rita Indiana: \nPlucked from her life on the streets of post-apocalyptic Santo Domingo\, young maid Acilde Figueroa finds herself at the heart of a Santería prophecy: only she can travel back in time and save the ocean – and humanity – from disaster. But first she must become the man she always was – with the help of a sacred anemone. Tentacle is an electric novel with a big appetite and a brave vision\, plunging headfirst into questions of climate change\, technology\, Yoruba ritual\, queer politics\, poverty\, sex\, colonialism and contemporary art. Bursting with punk energy and lyricism\, it’s a restless\, addictive trip: The Tempest meets the telenovela. \nThe Sci-Fi Reading Group meets the third Monday of every month and is open to curious minds\, whether or not they’ve read this month’s selection.
URL:https://brookslibraryvt.org/event/sci-fi-reading-group-2-2/
LOCATION:Meeting Room B – Mezzanine Room\, Main Street 224\, Brattleboro\, Vermont\, 05301\, United States
CATEGORIES:Adults,General,Teens
ATTACH;FMTTYPE=image/png:https://eadn-wc04-3360218.nxedge.io/wp-content/uploads/2025/02/MAR25-Web-Icon.png
ORGANIZER;CN="Brooks Memorial Library":MAILTO:outreach@brookslibraryvt.org
GEO:42.8553213;-72.5599024
X-APPLE-STRUCTURED-LOCATION;VALUE=URI;X-ADDRESS=Meeting Room B – Mezzanine Room Main Street 224 Brattleboro Vermont 05301 United States;X-APPLE-RADIUS=500;X-TITLE=Main Street 224:geo:-72.5599024,42.8553213
END:VEVENT
BEGIN:VEVENT
DTSTART;TZID=America/New_York:20250318T190000
DTEND;TZID=America/New_York:20250318T210000
DTSTAMP:20260424T182024
CREATED:20231215T160138Z
LAST-MODIFIED:20250714T202752Z
UID:10003948-1742324400-1742331600@brookslibraryvt.org
SUMMARY:SEVT Audubon Society
DESCRIPTION:Join South Eastern Vermont’s Audubon Society on for a monthly program featuring nature and the environment.
URL:https://brookslibraryvt.org/event/sevt-audubon-society-2-5/2025-03-18/
LOCATION:Meeting Room A – Community Meeting Room\, 224 Main Street\, Brattleboro\, VT\, 05301\, United States
CATEGORIES:General
ATTACH;FMTTYPE=image/jpeg:https://eadn-wc04-3360218.nxedge.io/wp-content/uploads/2023/01/birds.jpg
ORGANIZER;CN="Hollie Bowen":MAILTO:HSB@sover.net
GEO:42.8553213;-72.5599024
X-APPLE-STRUCTURED-LOCATION;VALUE=URI;X-ADDRESS=Meeting Room A – Community Meeting Room 224 Main Street Brattleboro VT 05301 United States;X-APPLE-RADIUS=500;X-TITLE=224 Main Street:geo:-72.5599024,42.8553213
END:VEVENT
BEGIN:VEVENT
DTSTART;TZID=America/New_York:20250319T103000
DTEND;TZID=America/New_York:20250319T110000
DTSTAMP:20260424T182024
CREATED:20241209T213420Z
LAST-MODIFIED:20251020T171452Z
UID:10003591-1742380200-1742382000@brookslibraryvt.org
SUMMARY:Rhyme Time
DESCRIPTION:Join us on Wednesday mornings @ 10:30 am for 30 minutes of stories\, songs\, and fun! \nRhyme Time is for kids 5 & under and their caregivers. \nFree and open to the public. \n  \n 
URL:https://brookslibraryvt.org/event/rhyme-time-8/2025-03-19/
LOCATION:Meeting Room A – Community Meeting Room\, 224 Main Street\, Brattleboro\, VT\, 05301\, United States
CATEGORIES:Children & Families
ATTACH;FMTTYPE=image/png:https://eadn-wc04-3360218.nxedge.io/wp-content/uploads/2024/01/New-2-CLJ.png
ORGANIZER;CN="BML Children's Room":MAILTO:cr@brookslibraryvt.org
GEO:42.8553213;-72.5599024
X-APPLE-STRUCTURED-LOCATION;VALUE=URI;X-ADDRESS=Meeting Room A – Community Meeting Room 224 Main Street Brattleboro VT 05301 United States;X-APPLE-RADIUS=500;X-TITLE=224 Main Street:geo:-72.5599024,42.8553213
END:VEVENT
BEGIN:VEVENT
DTSTART;TZID=America/New_York:20250319T133000
DTEND;TZID=America/New_York:20250319T143000
DTSTAMP:20260424T182024
CREATED:20250226T205345Z
LAST-MODIFIED:20250226T205409Z
UID:10004017-1742391000-1742394600@brookslibraryvt.org
SUMMARY:Lifelong Learning - Families First
DESCRIPTION:Lifelong Learning provides ongoing educational opportunities for adults with developmental disabilities. Participants become experts in areas of interest and share their knowledge with peers!
URL:https://brookslibraryvt.org/event/lifelong-learning-families-first-2/
LOCATION:Mezzanine Conference Room\, 224 Main Street\, Brattleboro\, VT\, 05301\, United States
CATEGORIES:Adults
ATTACH;FMTTYPE=image/jpeg:https://eadn-wc04-3360218.nxedge.io/wp-content/uploads/2025/02/th.jpg
ORGANIZER;CN="Families First - Lifelong Learning":MAILTO:Sarah.Duprey@lincolnstreetinc.org
GEO:42.8553213;-72.5599024
X-APPLE-STRUCTURED-LOCATION;VALUE=URI;X-ADDRESS=Mezzanine Conference Room 224 Main Street Brattleboro VT 05301 United States;X-APPLE-RADIUS=500;X-TITLE=224 Main Street:geo:-72.5599024,42.8553213
END:VEVENT
BEGIN:VEVENT
DTSTART;TZID=America/New_York:20250319T163000
DTEND;TZID=America/New_York:20250319T180000
DTSTAMP:20260424T182024
CREATED:20250109T162840Z
LAST-MODIFIED:20250109T164824Z
UID:10003858-1742401800-1742407200@brookslibraryvt.org
SUMMARY:Friends of the Library
DESCRIPTION:Monthly meeting of the Friends of the Library. Community attendance and commentary is welcome! \nFriends of the Library
URL:https://brookslibraryvt.org/event/friends-of-the-library-3/2025-03-19/
LOCATION:Meeting Room A – Community Meeting Room\, 224 Main Street\, Brattleboro\, VT\, 05301\, United States
CATEGORIES:General
ATTACH;FMTTYPE=image/gif:https://eadn-wc04-3360218.nxedge.io/wp-content/uploads/2020/07/FOBML_Logo_resized.gif
GEO:42.8553213;-72.5599024
X-APPLE-STRUCTURED-LOCATION;VALUE=URI;X-ADDRESS=Meeting Room A – Community Meeting Room 224 Main Street Brattleboro VT 05301 United States;X-APPLE-RADIUS=500;X-TITLE=224 Main Street:geo:-72.5599024,42.8553213
END:VEVENT
BEGIN:VEVENT
DTSTART;TZID=America/New_York:20250319T180000
DTEND;TZID=America/New_York:20250319T200000
DTSTAMP:20260424T182024
CREATED:20250219T210800Z
LAST-MODIFIED:20250317T142453Z
UID:10003999-1742407200-1742414400@brookslibraryvt.org
SUMMARY:Vermont Public's "Join or Die" Film Screening and Community-Building Mixer
DESCRIPTION:Join us as we welcome Vermont Public to Brooks Memorial Library for a mini film screening and social hour! First\, dive into a 45-minute excerpt of the highly acclaimed 2023 documentary Join or Die by Pete and Rebecca Davis. Join or Die is a film about why you should join a club—and why the fate of America depends on it. Joined by Hillary Clinton\, Priya Parker\, and others\, Robert Putnam\, author of Bowling Alone: The Collapse and Revival of American Community\, will explore three urgent civic questions: What makes democracy work? Why is American democracy in crisis? And\, most importantly… What can we do about it? \nFollowing the screening\, join us for a social hour to practice what we’ve learned. Whether you’re passionate about your favorite pastime and want to connect with others or just looking to meet new people in your community\, we’ll have prompts and icebreakers to help spark authentic connections. \nThis event is part of a series of Join or Die screenings and community-building mixers throughout Vermont this winter. \nRegistration is required. More information can be found on VP’s website\, HERE.
URL:https://brookslibraryvt.org/event/vermont-publics-join-or-die-film-screening-and-community-building-mixer/
LOCATION:Main Reading Room
CATEGORIES:General
ATTACH;FMTTYPE=image/png:https://eadn-wc04-3360218.nxedge.io/wp-content/uploads/2025/02/Screenshot-2025-01-15-182606.png
GEO:42.8553213;-72.5599024
END:VEVENT
BEGIN:VEVENT
DTSTART;TZID=America/New_York:20250319T183000
DTEND;TZID=America/New_York:20250319T203000
DTSTAMP:20260424T182024
CREATED:20250311T161209Z
LAST-MODIFIED:20250311T161209Z
UID:10004159-1742409000-1742416200@brookslibraryvt.org
SUMMARY:Brattleboro District 9 Forum
DESCRIPTION:Brattleboro residents of District 9 are invited to attend a District 9 forum where we will hear your questions and concerns in advance of Brattleboro’s Representative Town Meeting; District 9 RTM members are encouraged to attend to hear from their constituents. The forum\, organized by Robert Oeser and David Levenbach\, will be held in the Community Room of Brooks Memorial Library at 6:30 pm on Wednesday 19 March.   (The Community Room is on the third\, top floor of the library\, near the Children’s Reading Room.  There is an entrance to that area from the Municipal Building parking lot and attendees might find that a more convenient way in light of another event to be held in the Main Reading Room that evening.) \nFor more information\, write fideladelphia@gmail.com or call 413.559.1533.
URL:https://brookslibraryvt.org/event/brattleboro-district-9-forum/
LOCATION:Meeting Room A – Community Meeting Room\, 224 Main Street\, Brattleboro\, VT\, 05301\, United States
CATEGORIES:General
ATTACH;FMTTYPE=image/png:https://eadn-wc04-3360218.nxedge.io/wp-content/uploads/2025/03/Brattleboro.seal_.png
GEO:42.8553213;-72.5599024
X-APPLE-STRUCTURED-LOCATION;VALUE=URI;X-ADDRESS=Meeting Room A – Community Meeting Room 224 Main Street Brattleboro VT 05301 United States;X-APPLE-RADIUS=500;X-TITLE=224 Main Street:geo:-72.5599024,42.8553213
END:VEVENT
BEGIN:VEVENT
DTSTART;TZID=America/New_York:20250320T110000
DTEND;TZID=America/New_York:20250320T120000
DTSTAMP:20260424T182024
CREATED:20241217T183003Z
LAST-MODIFIED:20250314T185522Z
UID:10004133-1742468400-1742472000@brookslibraryvt.org
SUMMARY:Sing & Dance With Robin
DESCRIPTION:Designed for ages under 6- all ages welcome! Free and open to the public. \nThis lovely class is an enriching musical experience for toddlers and preschoolers\, designed to support healthy cognitive\, physical\, and social development. Children will sing\, clap\, stomp\, dance\, and play along with the curriculum of traditional and modern folk songs. Parents will be encouraged to fully sing and participate with their child in the class. \nSponsored by the Friends of Brooks Memorial Library.
URL:https://brookslibraryvt.org/event/sing-dance-with-robin-7/2025-03-20/
LOCATION:Meeting Room A – Community Meeting Room\, 224 Main Street\, Brattleboro\, VT\, 05301\, United States
CATEGORIES:Children & Families
ATTACH;FMTTYPE=image/png:https://eadn-wc04-3360218.nxedge.io/wp-content/uploads/2024/04/Sing-Dance-with-Robin-Event-Calendar.png
ORGANIZER;CN="BML Children's Room":MAILTO:cr@brookslibraryvt.org
GEO:42.8553213;-72.5599024
X-APPLE-STRUCTURED-LOCATION;VALUE=URI;X-ADDRESS=Meeting Room A – Community Meeting Room 224 Main Street Brattleboro VT 05301 United States;X-APPLE-RADIUS=500;X-TITLE=224 Main Street:geo:-72.5599024,42.8553213
END:VEVENT
BEGIN:VEVENT
DTSTART;TZID=America/New_York:20250320T130000
DTEND;TZID=America/New_York:20250320T170000
DTSTAMP:20260424T182024
CREATED:20250304T181211Z
LAST-MODIFIED:20250312T201236Z
UID:10004128-1742475600-1742490000@brookslibraryvt.org
SUMMARY:LEGO-Palooza Special Session!
DESCRIPTION:Join us on Thursdays after school from 1-5pm for a special session of LEGOpalooza! \nWe provide the LEGOs. You build. Do not bring your own LEGOs. \nChildren cannot keep LEGOs\, but if there is enough room\, we will display them in the window. \nFree and open to the public!
URL:https://brookslibraryvt.org/event/lego-palooza-winter-session/
LOCATION:Meeting Room A – Community Meeting Room\, 224 Main Street\, Brattleboro\, VT\, 05301\, United States
CATEGORIES:Children & Families,General
ATTACH;FMTTYPE=image/png:https://eadn-wc04-3360218.nxedge.io/wp-content/uploads/2024/04/LEGO-palooza-Special-session-event-calendar.png
ORGANIZER;CN="BML Children's Room":MAILTO:cr@brookslibraryvt.org
GEO:42.8553213;-72.5599024
X-APPLE-STRUCTURED-LOCATION;VALUE=URI;X-ADDRESS=Meeting Room A – Community Meeting Room 224 Main Street Brattleboro VT 05301 United States;X-APPLE-RADIUS=500;X-TITLE=224 Main Street:geo:-72.5599024,42.8553213
END:VEVENT
BEGIN:VEVENT
DTSTART;TZID=America/New_York:20250321T190000
DTEND;TZID=America/New_York:20250321T220000
DTSTAMP:20260424T182024
CREATED:20250304T181741Z
LAST-MODIFIED:20250312T204645Z
UID:10004129-1742583600-1742594400@brookslibraryvt.org
SUMMARY:Teen Game Night!
DESCRIPTION:Join us on Friday\, March 21st\, from 7pm-10pm to play games with the Teen Advisory Board! \nWe will have a selection of board and card games to play with as well as a Jack Box Party Pack set up. Feel free to bring your own games as well. \nWe’ll be spread out across the whole 2nd floor. Pizza and snacks provided! \nHosted by the Teen Advisory Board. “Teens Only” events are open to people in grades 7-12.
URL:https://brookslibraryvt.org/event/teen-game-night-10/
CATEGORIES:Teens
ATTACH;FMTTYPE=image/png:https://eadn-wc04-3360218.nxedge.io/wp-content/uploads/2024/12/Teen-Game-Night3.png
ORGANIZER;CN="BML Children's Room":MAILTO:cr@brookslibraryvt.org
END:VEVENT
BEGIN:VEVENT
DTSTART;TZID=America/New_York:20250322T110000
DTEND;TZID=America/New_York:20250322T120000
DTSTAMP:20260424T182024
CREATED:20250219T221413Z
LAST-MODIFIED:20250219T221832Z
UID:10004008-1742641200-1742644800@brookslibraryvt.org
SUMMARY:Functional Play! For Older Adults with Marissa Peck
DESCRIPTION:Join us for a functional movement workshop series where we will move\, shake\, strengthen\, stretch\, and connect. Designed for adults 50+ of all abilities and mobility levels. \nSessions are on the 2nd & 4th Saturdays in March and April (03/08\, 03/22\, 04/12 & 04/26)  \n(From the creator of SilverCircus)
URL:https://brookslibraryvt.org/event/functional-play-for-older-adults-with-marissa-peck-2/2025-03-22/
LOCATION:Meeting Room A – Community Meeting Room\, 224 Main Street\, Brattleboro\, VT\, 05301\, United States
CATEGORIES:Adults
ATTACH;FMTTYPE=image/png:https://eadn-wc04-3360218.nxedge.io/wp-content/uploads/2025/02/1.png
ORGANIZER;CN="Marissa Peck":MAILTO:marissafpeck@gmail.com
GEO:42.8553213;-72.5599024
X-APPLE-STRUCTURED-LOCATION;VALUE=URI;X-ADDRESS=Meeting Room A – Community Meeting Room 224 Main Street Brattleboro VT 05301 United States;X-APPLE-RADIUS=500;X-TITLE=224 Main Street:geo:-72.5599024,42.8553213
END:VEVENT
BEGIN:VEVENT
DTSTART;TZID=America/New_York:20250322T130000
DTEND;TZID=America/New_York:20250322T160000
DTSTAMP:20260424T182024
CREATED:20250103T195250Z
LAST-MODIFIED:20251204T220811Z
UID:10003809-1742648400-1742659200@brookslibraryvt.org
SUMMARY:Brattleboro in Stitches
DESCRIPTION:Bring a work in progress to sew\, knit\, crochet\, embroider\, or mend. Sewing machines\, irons\, and companionship will be provided.
URL:https://brookslibraryvt.org/event/brattleboro-in-stitches-6/2025-03-22/
LOCATION:Meeting Room A – Community Meeting Room\, 224 Main Street\, Brattleboro\, VT\, 05301\, United States
CATEGORIES:Adults,Children & Families,General
ATTACH;FMTTYPE=image/png:https://eadn-wc04-3360218.nxedge.io/wp-content/uploads/2023/03/Brattleboro-in-Stitches-Event-Calendar2.png
ORGANIZER;CN="Brooks Memorial Library":MAILTO:outreach@brookslibraryvt.org
GEO:42.8553213;-72.5599024
X-APPLE-STRUCTURED-LOCATION;VALUE=URI;X-ADDRESS=Meeting Room A – Community Meeting Room 224 Main Street Brattleboro VT 05301 United States;X-APPLE-RADIUS=500;X-TITLE=224 Main Street:geo:-72.5599024,42.8553213
END:VEVENT
END:VCALENDAR