BEGIN:VCALENDAR
VERSION:2.0
PRODID:-//Brooks Memorial Library - Brattleboro VT - ECPv6.15.17.1//NONSGML v1.0//EN
CALSCALE:GREGORIAN
METHOD:PUBLISH
X-ORIGINAL-URL:https://brookslibraryvt.org
X-WR-CALDESC:Events for Brooks Memorial Library - Brattleboro VT
REFRESH-INTERVAL;VALUE=DURATION:PT1H
X-Robots-Tag:noindex
X-PUBLISHED-TTL:PT1H
BEGIN:VTIMEZONE
TZID:America/New_York
BEGIN:DAYLIGHT
TZOFFSETFROM:-0500
TZOFFSETTO:-0400
TZNAME:EDT
DTSTART:20240310T070000
END:DAYLIGHT
BEGIN:STANDARD
TZOFFSETFROM:-0400
TZOFFSETTO:-0500
TZNAME:EST
DTSTART:20241103T060000
END:STANDARD
BEGIN:DAYLIGHT
TZOFFSETFROM:-0500
TZOFFSETTO:-0400
TZNAME:EDT
DTSTART:20250309T070000
END:DAYLIGHT
BEGIN:STANDARD
TZOFFSETFROM:-0400
TZOFFSETTO:-0500
TZNAME:EST
DTSTART:20251102T060000
END:STANDARD
BEGIN:DAYLIGHT
TZOFFSETFROM:-0500
TZOFFSETTO:-0400
TZNAME:EDT
DTSTART:20260308T070000
END:DAYLIGHT
BEGIN:STANDARD
TZOFFSETFROM:-0400
TZOFFSETTO:-0500
TZNAME:EST
DTSTART:20261101T060000
END:STANDARD
END:VTIMEZONE
BEGIN:VEVENT
DTSTART;TZID=America/New_York:20250505T101500
DTEND;TZID=America/New_York:20250505T113000
DTSTAMP:20260424T051504
CREATED:20250303T222124Z
LAST-MODIFIED:20250611T173820Z
UID:10004041-1746440100-1746444600@brookslibraryvt.org
SUMMARY:Multigenerational Civics Class
DESCRIPTION:Who has power over us? What power do we have to create the world around us? The Vermont Village School welcomes villagers of all ages to participate in a people’s Civics class with us this spring at Brooks Memorial Library. We will be untangling the different institutions that exert power over us\, past and present\, official and unofficial\, and brainstorming how we move forward together. \n\nJoin us Monday at 10:15am @ Brooks Memorial Library\, Brattleboro. This will be the first of a series–we will plan future gatherings based on collective interest and energy.
URL:https://brookslibraryvt.org/event/multigenerational-civics-class/2025-05-05/
LOCATION:Meeting Room A – Community Meeting Room\, 224 Main Street\, Brattleboro\, VT\, 05301\, United States
CATEGORIES:Adults,Children & Families,General
ATTACH;FMTTYPE=image/jpeg:https://eadn-wc04-3360218.nxedge.io/wp-content/uploads/2025/03/VVS-Scrapbook30-scaled.jpg
ORGANIZER;CN="Vermont Village School":MAILTO:shayonye@gmail.com
GEO:42.8553213;-72.5599024
X-APPLE-STRUCTURED-LOCATION;VALUE=URI;X-ADDRESS=Meeting Room A – Community Meeting Room 224 Main Street Brattleboro VT 05301 United States;X-APPLE-RADIUS=500;X-TITLE=224 Main Street:geo:-72.5599024,42.8553213
END:VEVENT
BEGIN:VEVENT
DTSTART;TZID=America/New_York:20250505T190000
DTEND;TZID=America/New_York:20250505T210000
DTSTAMP:20260424T051504
CREATED:20230304T175145Z
LAST-MODIFIED:20250210T210843Z
UID:10003987-1746471600-1746478800@brookslibraryvt.org
SUMMARY:Brattleboro Great Books Group
DESCRIPTION:Monthly discussion of “Great Books”
URL:https://brookslibraryvt.org/event/brattleboro-great-books-group/2025-05-05/
LOCATION:Meeting Room D – Quiet Reading Room\, 224 Main Street\, Brattleboro\, VT\, 05301\, United States
CATEGORIES:General,Teens
ATTACH;FMTTYPE=image/jpeg:https://eadn-wc04-3360218.nxedge.io/wp-content/uploads/2022/10/books.jpg
ORGANIZER;CN="Great Books - Michael Landis":MAILTO:emagicmtman@gmail.com
GEO:42.8553213;-72.5599024
X-APPLE-STRUCTURED-LOCATION;VALUE=URI;X-ADDRESS=Meeting Room D – Quiet Reading Room 224 Main Street Brattleboro VT 05301 United States;X-APPLE-RADIUS=500;X-TITLE=224 Main Street:geo:-72.5599024,42.8553213
END:VEVENT
BEGIN:VEVENT
DTSTART;TZID=America/New_York:20250506T180000
DTEND;TZID=America/New_York:20250506T204500
DTSTAMP:20260424T051504
CREATED:20250205T200216Z
LAST-MODIFIED:20251204T183206Z
UID:10003924-1746554400-1746564300@brookslibraryvt.org
SUMMARY:Mineralogical Society
DESCRIPTION:Join the Brattleboro Mineralogical Society to discuss Minerals and other Geological topics!
URL:https://brookslibraryvt.org/event/mineralogical-society-4/2025-05-06/
LOCATION:Meeting Room A – Community Meeting Room\, 224 Main Street\, Brattleboro\, VT\, 05301\, United States
CATEGORIES:Adults,General
ATTACH;FMTTYPE=image/png:https://eadn-wc04-3360218.nxedge.io/wp-content/uploads/2021/12/MineralogicalSociety.png
ORGANIZER;CN="Robert Clements - Mineralogical Society":MAILTO:rwc2esj@comcast.net
GEO:42.8553213;-72.5599024
X-APPLE-STRUCTURED-LOCATION;VALUE=URI;X-ADDRESS=Meeting Room A – Community Meeting Room 224 Main Street Brattleboro VT 05301 United States;X-APPLE-RADIUS=500;X-TITLE=224 Main Street:geo:-72.5599024,42.8553213
END:VEVENT
BEGIN:VEVENT
DTSTART;TZID=America/New_York:20250507T103000
DTEND;TZID=America/New_York:20250507T110000
DTSTAMP:20260424T051504
CREATED:20241209T213420Z
LAST-MODIFIED:20251020T171452Z
UID:10003598-1746613800-1746615600@brookslibraryvt.org
SUMMARY:Rhyme Time
DESCRIPTION:Join us on Wednesday mornings @ 10:30 am for 30 minutes of stories\, songs\, and fun! \nRhyme Time is for kids 5 & under and their caregivers. \nFree and open to the public. \n  \n 
URL:https://brookslibraryvt.org/event/rhyme-time-8/2025-05-07/
LOCATION:Meeting Room A – Community Meeting Room\, 224 Main Street\, Brattleboro\, VT\, 05301\, United States
CATEGORIES:Children & Families
ATTACH;FMTTYPE=image/png:https://eadn-wc04-3360218.nxedge.io/wp-content/uploads/2024/01/New-2-CLJ.png
ORGANIZER;CN="BML Children's Room":MAILTO:cr@brookslibraryvt.org
GEO:42.8553213;-72.5599024
X-APPLE-STRUCTURED-LOCATION;VALUE=URI;X-ADDRESS=Meeting Room A – Community Meeting Room 224 Main Street Brattleboro VT 05301 United States;X-APPLE-RADIUS=500;X-TITLE=224 Main Street:geo:-72.5599024,42.8553213
END:VEVENT
BEGIN:VEVENT
DTSTART;TZID=America/New_York:20250507T133000
DTEND;TZID=America/New_York:20250507T143000
DTSTAMP:20260424T051504
CREATED:20250226T210103Z
LAST-MODIFIED:20250226T210104Z
UID:10004024-1746624600-1746628200@brookslibraryvt.org
SUMMARY:Lifelong Learning - Families First
DESCRIPTION:Lifelong Learning provides ongoing educational opportunities for adults with developmental disabilities. Participants become experts in areas of interest and share their knowledge with peers!
URL:https://brookslibraryvt.org/event/lifelong-learning-families-first-4/
LOCATION:Mezzanine Conference Room\, 224 Main Street\, Brattleboro\, VT\, 05301\, United States
CATEGORIES:Adults
ATTACH;FMTTYPE=image/jpeg:https://eadn-wc04-3360218.nxedge.io/wp-content/uploads/2025/02/th.jpg
ORGANIZER;CN="Families First - Lifelong Learning":MAILTO:Sarah.Duprey@lincolnstreetinc.org
GEO:42.8553213;-72.5599024
X-APPLE-STRUCTURED-LOCATION;VALUE=URI;X-ADDRESS=Mezzanine Conference Room 224 Main Street Brattleboro VT 05301 United States;X-APPLE-RADIUS=500;X-TITLE=224 Main Street:geo:-72.5599024,42.8553213
END:VEVENT
BEGIN:VEVENT
DTSTART;TZID=America/New_York:20250507T150000
DTEND;TZID=America/New_York:20250507T193000
DTSTAMP:20260424T051504
CREATED:20250218T182630Z
LAST-MODIFIED:20250501T200121Z
UID:10003998-1746630000-1746646200@brookslibraryvt.org
SUMMARY:Vermont Coverts Passing Lands Pop-up
DESCRIPTION:Passing Lands Pop-Up: What will your legacy be? \nWednesday May 7 \nSession 1: 3:00pm – 5:00pm \nSession 2: 5:30pm – 7:30pm \nBrooks Memorial Library Community Room \n\nPlanning for the future can be a daunting task. VT Coverts: Woodlands for Wildlife and Windham Regional Woodlands Association are hosting a passing lands pop-up where you can meet with professionals to talk about the future of your woodlands. You will have the chance to meet one-on-one with financial and estate planning professionals and a landowner who has been through the planning process\, all ready to answer your questions about passing your woodlands to the next generation. Want to understand options for the land? Wondering what it would mean to conserve your land with a land trust?  Have questions about Current Use? Have no heirs but want to see the land remain intact? These and other questions can be addressed as you rotate between the experts\, allowing you to identify your next steps. The program is run through two sessions; one from 3:00 – 5:00 and the other 5:30 – 7:30 with refreshments in between. Participants will receive a copy of “For the Future of Your Forest.” The program is free\, but space is limited. Register here today! Questions – email laura@vtcoverts.org. \n\nRegistration link: \nhttps://docs.google.com/forms/d/e/1FAIpQLSfOBWUZGkkx1_Z3mCGXi4PHXZt76ap4-Bgh5-PA0g5ktu8maA/viewform?usp=header \n 
URL:https://brookslibraryvt.org/event/vermont-coverts-passing-lands-pop-up/
LOCATION:Meeting Room A – Community Meeting Room\, 224 Main Street\, Brattleboro\, VT\, 05301\, United States
CATEGORIES:General
ATTACH;FMTTYPE=image/jpeg:https://eadn-wc04-3360218.nxedge.io/wp-content/uploads/2025/02/Pop-up.IMG_0423-scaled.jpg
ORGANIZER;CN="Vermont Coverts%3A Woodlands for Wildlife":MAILTO:laura@vtcoverts.org
GEO:42.8553213;-72.5599024
X-APPLE-STRUCTURED-LOCATION;VALUE=URI;X-ADDRESS=Meeting Room A – Community Meeting Room 224 Main Street Brattleboro VT 05301 United States;X-APPLE-RADIUS=500;X-TITLE=224 Main Street:geo:-72.5599024,42.8553213
END:VEVENT
BEGIN:VEVENT
DTSTART;TZID=America/New_York:20250507T183000
DTEND;TZID=America/New_York:20250507T200000
DTSTAMP:20260424T051504
CREATED:20250403T191236Z
LAST-MODIFIED:20250429T175506Z
UID:10004178-1746642600-1746648000@brookslibraryvt.org
SUMMARY:The Unfinished Revolution:  The Deep Work of Non-Violence
DESCRIPTION:The America 250 Town Hall Series\, a collaboration with Brooks Memorial Library and Vermont Independent Media\, publisher of The Commons\, is made possible\, in part\, through a generous grant from the Vermont Humanities Council. \nThis town hall will consider the theory and practice of Lewis’s unfinished revolution. We’ll consider the philosophical underpinnings to non-violence\, drawing on Gandhi’s satyagraha and Catholic understandings of natural law. We’ll also think practically about what it would take for us to engage in a revolution in which our current enemies are seen as future friends. \nIn 1963\, John Lewis envisioned a non-violent revolution that would achieve the ends of freedom and liberty without taking up arms. In this “unfinished revolution\,” current enemies are seen as future friends. Black and white\, men and women\, rich and poor\, he argued\, must learn to work together for their mutual benefit. \nAfter twenty years of teaching political theory and constitutional law to Marlboro College undergraduates\, Meg Mott has taken her love of argument to the general public. She attended the University of New Hampshire in the 1970s and is currently teaching at Keene State College. Meg’s award-winning series\, Debating Our Rights\, on the first ten amendments\, brings civil discussions on contentious issues to public libraries and colleges.
URL:https://brookslibraryvt.org/event/the-unfinished-revolution-the-deep-work-of-non-violence/
ATTACH;FMTTYPE=image/png:https://eadn-wc04-3360218.nxedge.io/wp-content/uploads/2025/04/Meg-Mott-May-7-e1742325646380.png
END:VEVENT
BEGIN:VEVENT
DTSTART;TZID=America/New_York:20250508T110000
DTEND;TZID=America/New_York:20250508T120000
DTSTAMP:20260424T051504
CREATED:20250407T152206Z
LAST-MODIFIED:20250408T134310Z
UID:10004182-1746702000-1746705600@brookslibraryvt.org
SUMMARY:Sing & Dance With Robin
DESCRIPTION:Designed for ages under 6- all ages welcome! Free and open to the public. \nThis lovely class is an enriching musical experience for toddlers and preschoolers\, designed to support healthy cognitive\, physical\, and social development. Children will sing\, clap\, stomp\, dance\, and play along with the curriculum of traditional and modern folk songs. Parents will be encouraged to fully sing and participate with their child in the class. \nSponsored by the Friends of Brooks Memorial Library.
URL:https://brookslibraryvt.org/event/sing-dance-with-robin-8/2025-05-08/
LOCATION:Meeting Room A – Community Meeting Room\, 224 Main Street\, Brattleboro\, VT\, 05301\, United States
CATEGORIES:Children & Families
ATTACH;FMTTYPE=image/png:https://eadn-wc04-3360218.nxedge.io/wp-content/uploads/2024/04/Sing-Dance-with-Robin-Event-Calendar.png
ORGANIZER;CN="BML Children's Room":MAILTO:cr@brookslibraryvt.org
GEO:42.8553213;-72.5599024
X-APPLE-STRUCTURED-LOCATION;VALUE=URI;X-ADDRESS=Meeting Room A – Community Meeting Room 224 Main Street Brattleboro VT 05301 United States;X-APPLE-RADIUS=500;X-TITLE=224 Main Street:geo:-72.5599024,42.8553213
END:VEVENT
BEGIN:VEVENT
DTSTART;TZID=America/New_York:20250510T130000
DTEND;TZID=America/New_York:20250510T160000
DTSTAMP:20260424T051504
CREATED:20250103T195250Z
LAST-MODIFIED:20251204T220811Z
UID:10003816-1746882000-1746892800@brookslibraryvt.org
SUMMARY:Brattleboro in Stitches
DESCRIPTION:Bring a work in progress to sew\, knit\, crochet\, embroider\, or mend. Sewing machines\, irons\, and companionship will be provided.
URL:https://brookslibraryvt.org/event/brattleboro-in-stitches-6/2025-05-10/
LOCATION:Meeting Room A – Community Meeting Room\, 224 Main Street\, Brattleboro\, VT\, 05301\, United States
CATEGORIES:Adults,Children & Families,General
ATTACH;FMTTYPE=image/png:https://eadn-wc04-3360218.nxedge.io/wp-content/uploads/2023/03/Brattleboro-in-Stitches-Event-Calendar2.png
ORGANIZER;CN="Brooks Memorial Library":MAILTO:outreach@brookslibraryvt.org
GEO:42.8553213;-72.5599024
X-APPLE-STRUCTURED-LOCATION;VALUE=URI;X-ADDRESS=Meeting Room A – Community Meeting Room 224 Main Street Brattleboro VT 05301 United States;X-APPLE-RADIUS=500;X-TITLE=224 Main Street:geo:-72.5599024,42.8553213
END:VEVENT
END:VCALENDAR