BEGIN:VCALENDAR
VERSION:2.0
PRODID:-//Brooks Memorial Library - Brattleboro VT - ECPv6.15.17.1//NONSGML v1.0//EN
CALSCALE:GREGORIAN
METHOD:PUBLISH
X-WR-CALNAME:Brooks Memorial Library - Brattleboro VT
X-ORIGINAL-URL:https://brookslibraryvt.org
X-WR-CALDESC:Events for Brooks Memorial Library - Brattleboro VT
REFRESH-INTERVAL;VALUE=DURATION:PT1H
X-Robots-Tag:noindex
X-PUBLISHED-TTL:PT1H
BEGIN:VTIMEZONE
TZID:America/New_York
BEGIN:DAYLIGHT
TZOFFSETFROM:-0500
TZOFFSETTO:-0400
TZNAME:EDT
DTSTART:20240310T070000
END:DAYLIGHT
BEGIN:STANDARD
TZOFFSETFROM:-0400
TZOFFSETTO:-0500
TZNAME:EST
DTSTART:20241103T060000
END:STANDARD
BEGIN:DAYLIGHT
TZOFFSETFROM:-0500
TZOFFSETTO:-0400
TZNAME:EDT
DTSTART:20250309T070000
END:DAYLIGHT
BEGIN:STANDARD
TZOFFSETFROM:-0400
TZOFFSETTO:-0500
TZNAME:EST
DTSTART:20251102T060000
END:STANDARD
BEGIN:DAYLIGHT
TZOFFSETFROM:-0500
TZOFFSETTO:-0400
TZNAME:EDT
DTSTART:20260308T070000
END:DAYLIGHT
BEGIN:STANDARD
TZOFFSETFROM:-0400
TZOFFSETTO:-0500
TZNAME:EST
DTSTART:20261101T060000
END:STANDARD
END:VTIMEZONE
BEGIN:VEVENT
DTSTART;TZID=America/New_York:20250519T101500
DTEND;TZID=America/New_York:20250519T113000
DTSTAMP:20260424T051410
CREATED:20250303T222124Z
LAST-MODIFIED:20250611T173820Z
UID:10004043-1747649700-1747654200@brookslibraryvt.org
SUMMARY:Multigenerational Civics Class
DESCRIPTION:Who has power over us? What power do we have to create the world around us? The Vermont Village School welcomes villagers of all ages to participate in a people’s Civics class with us this spring at Brooks Memorial Library. We will be untangling the different institutions that exert power over us\, past and present\, official and unofficial\, and brainstorming how we move forward together. \n\nJoin us Monday at 10:15am @ Brooks Memorial Library\, Brattleboro. This will be the first of a series–we will plan future gatherings based on collective interest and energy.
URL:https://brookslibraryvt.org/event/multigenerational-civics-class/2025-05-19/
LOCATION:Meeting Room A – Community Meeting Room\, 224 Main Street\, Brattleboro\, VT\, 05301\, United States
CATEGORIES:Adults,Children & Families,General
ATTACH;FMTTYPE=image/jpeg:https://eadn-wc04-3360218.nxedge.io/wp-content/uploads/2025/03/VVS-Scrapbook30-scaled.jpg
ORGANIZER;CN="Vermont Village School":MAILTO:shayonye@gmail.com
GEO:42.8553213;-72.5599024
X-APPLE-STRUCTURED-LOCATION;VALUE=URI;X-ADDRESS=Meeting Room A – Community Meeting Room 224 Main Street Brattleboro VT 05301 United States;X-APPLE-RADIUS=500;X-TITLE=224 Main Street:geo:-72.5599024,42.8553213
END:VEVENT
BEGIN:VEVENT
DTSTART;TZID=America/New_York:20250519T190000
DTEND;TZID=America/New_York:20250519T203000
DTSTAMP:20260424T051410
CREATED:20250408T181618Z
LAST-MODIFIED:20250408T181619Z
UID:10003726-1747681200-1747686600@brookslibraryvt.org
SUMMARY:Sci-Fi Reading Group
DESCRIPTION:The Sci-Fi Reading Group will meet in the Quiet Reading Room from 7:00pm – 8:30pm to discuss To Be Taught\, If Fortunate by Becky Chambers: \nAt the turn of the twenty-second century\, scientists make a breakthrough in human spaceflight. Through a revolutionary method known as somaforming\, astronauts can survive in hostile environments off Earth using synthetic biological supplementations. They can produce antifreeze in subzero temperatures\, absorb radiation and convert it for food\, and conveniently adjust to the pull of different gravitational forces. With the fragility of the body no longer a limiting factor\, human beings are at last able to journey to neighboring exoplanets long known to harbor life. \nA team of these explorers\, Ariadne O’Neill and her three crewmates\, are hard at work in a planetary system fifteen light-years from Sol\, on a mission to ecologically survey four habitable worlds. But as Ariadne shifts through both form and time\, the culture back on Earth has also been transformed. Faced with the possibility of returning to a planet that has forgotten those who have left\, Ariadne begins to chronicle the story of the wonders and dangers of her mission\, in the hope that someone back home might still be listening. \nThe Sci-Fi Reading Group meets the third Monday of every month and is open to curious minds\, whether or not they’ve read this month’s selection.
URL:https://brookslibraryvt.org/event/sci-fi-reading-group-2-4/
LOCATION:Meeting Room D – Quiet Reading Room\, 224 Main Street\, Brattleboro\, VT\, 05301\, United States
CATEGORIES:Adults,General,Teens
ATTACH;FMTTYPE=image/png:https://eadn-wc04-3360218.nxedge.io/wp-content/uploads/2024/12/MAY25-Icon.png
ORGANIZER;CN="Brooks Memorial Library":MAILTO:outreach@brookslibraryvt.org
GEO:42.8553213;-72.5599024
X-APPLE-STRUCTURED-LOCATION;VALUE=URI;X-ADDRESS=Meeting Room D – Quiet Reading Room 224 Main Street Brattleboro VT 05301 United States;X-APPLE-RADIUS=500;X-TITLE=224 Main Street:geo:-72.5599024,42.8553213
END:VEVENT
BEGIN:VEVENT
DTSTART;TZID=America/New_York:20250520T110000
DTEND;TZID=America/New_York:20250520T140000
DTSTAMP:20260424T051410
CREATED:20250501T204800Z
LAST-MODIFIED:20250501T204800Z
UID:10004213-1747738800-1747749600@brookslibraryvt.org
SUMMARY:Two Rivers-Ottauquechee Regional Commission Flood Regulation Lunch & Learn
DESCRIPTION:A lunchtime meeting with zoning administrators and floodplain administrators to discuss Act 121\, Vermont’s new Flood Safety Act. Topics covered will include new regulations coming down the pike\, how to step into regulations\, and how to administer these changes.
URL:https://brookslibraryvt.org/event/two-rivers-ottauquechee-regional-commission-flood-regulation-lunch-learn/
LOCATION:Meeting Room A – Community Meeting Room\, 224 Main Street\, Brattleboro\, VT\, 05301\, United States
CATEGORIES:General
ORGANIZER;CN="WSP":MAILTO:emma.avotins@wsp.com
GEO:42.8553213;-72.5599024
X-APPLE-STRUCTURED-LOCATION;VALUE=URI;X-ADDRESS=Meeting Room A – Community Meeting Room 224 Main Street Brattleboro VT 05301 United States;X-APPLE-RADIUS=500;X-TITLE=224 Main Street:geo:-72.5599024,42.8553213
END:VEVENT
BEGIN:VEVENT
DTSTART;TZID=America/New_York:20250520T190000
DTEND;TZID=America/New_York:20250520T203000
DTSTAMP:20260424T051410
CREATED:20250430T185636Z
LAST-MODIFIED:20250430T195651Z
UID:10004210-1747767600-1747773000@brookslibraryvt.org
SUMMARY:The Resplendent Quetzal: Tourism and Land Use in Costa Rica - with Dr. Alan Poole
DESCRIPTION:This joint program\, co-sponsored by Brooks Memorial Library and Southeastern Vermont Audubon Society (SVAS)\, provides an accessible\, well-illustrated look at the life history of the Resplendent Quetzal — a dazzling\, legendary bird of the highland forests of Central America. Aztec and Mayan cultures revered this quetzal\, and today’s bird-watchers\, thousands of whom visit quetzal forests each year\, are only slightly less in awe. \nDr. Alan Poole\, the author of a recently published book on Resplendent Quetzals (Cornell Univ. Press\, 2023)\, will describe through the nesting ecology of this bird\, its role in Mayan and Aztec religions\, and how it fits into the increasingly threatened cloud forests that sustain it. The talk will also take a look at what lies ahead for this (and other) quetzals — how conservation efforts are giving them a boost\, and what threats Mesoamerican cloud forests are facing. \nAbove all this talk will examine land use in Central America\, especially Costa Rica\, through a quetzal lens — no species does more to bring current land use trends in this region into focus. Understanding these trends is key to maintaining the viability of highland tropical forests in the Americas\, and the quetzals that depend on them. \n++++++++++++++++++++++++++++++++++++++++++++++++ \nALAN POOLE\, an Associate of the Cornell Lab of Ornithology\, was editor of the Birds of North America life history series (18 volumes\, 18\,000 pages) for 22 years. He lives along the coast of southeastern Massachusetts\, and spends winters in the highlands of Costa Rica\, where quetzals are a highlight. \n++++++++++++++++++++++++++++++++++++++++++++++++ \nNote: This program will be at 7PM on Tuesday\, May 20 in the Main Reading Room\, and will take place instead of the monthly SVAS meeting.
URL:https://brookslibraryvt.org/event/the-resplendent-quetzal-tourism-and-land-use-in-costa-rica-with-dr-alan-poole/
LOCATION:Main Reading Room
CATEGORIES:Adults,General
ATTACH;FMTTYPE=image/png:https://eadn-wc04-3360218.nxedge.io/wp-content/uploads/2025/04/RQ-pair-copy.png
ORGANIZER;CN="Southeast Vermont Audubon Society":MAILTO:HSB@sover.net
GEO:42.8553213;-72.5599024
END:VEVENT
BEGIN:VEVENT
DTSTART;TZID=America/New_York:20250521T103000
DTEND;TZID=America/New_York:20250521T110000
DTSTAMP:20260424T051410
CREATED:20241209T213420Z
LAST-MODIFIED:20251020T171452Z
UID:10003600-1747823400-1747825200@brookslibraryvt.org
SUMMARY:Rhyme Time
DESCRIPTION:Join us on Wednesday mornings @ 10:30 am for 30 minutes of stories\, songs\, and fun! \nRhyme Time is for kids 5 & under and their caregivers. \nFree and open to the public. \n  \n 
URL:https://brookslibraryvt.org/event/rhyme-time-8/2025-05-21/
LOCATION:Meeting Room A – Community Meeting Room\, 224 Main Street\, Brattleboro\, VT\, 05301\, United States
CATEGORIES:Children & Families
ATTACH;FMTTYPE=image/png:https://eadn-wc04-3360218.nxedge.io/wp-content/uploads/2024/01/New-2-CLJ.png
ORGANIZER;CN="BML Children's Room":MAILTO:cr@brookslibraryvt.org
GEO:42.8553213;-72.5599024
X-APPLE-STRUCTURED-LOCATION;VALUE=URI;X-ADDRESS=Meeting Room A – Community Meeting Room 224 Main Street Brattleboro VT 05301 United States;X-APPLE-RADIUS=500;X-TITLE=224 Main Street:geo:-72.5599024,42.8553213
END:VEVENT
BEGIN:VEVENT
DTSTART;TZID=America/New_York:20250521T163000
DTEND;TZID=America/New_York:20250521T180000
DTSTAMP:20260424T051410
CREATED:20250325T003208Z
LAST-MODIFIED:20250325T003209Z
UID:10003860-1747845000-1747850400@brookslibraryvt.org
SUMMARY:Friends of the Library Annual Meeting
DESCRIPTION:Annual meeting of the Friends of the Library. Community attendance and commentary is welcome! \nFriends of the Library
URL:https://brookslibraryvt.org/event/friends-of-the-library-3-3/
LOCATION:Meeting Room A – Community Meeting Room\, 224 Main Street\, Brattleboro\, VT\, 05301\, United States
CATEGORIES:General
ATTACH;FMTTYPE=image/gif:https://eadn-wc04-3360218.nxedge.io/wp-content/uploads/2020/07/FOBML_Logo_resized.gif
GEO:42.8553213;-72.5599024
X-APPLE-STRUCTURED-LOCATION;VALUE=URI;X-ADDRESS=Meeting Room A – Community Meeting Room 224 Main Street Brattleboro VT 05301 United States;X-APPLE-RADIUS=500;X-TITLE=224 Main Street:geo:-72.5599024,42.8553213
END:VEVENT
BEGIN:VEVENT
DTSTART;TZID=America/New_York:20250521T190000
DTEND;TZID=America/New_York:20250521T203000
DTSTAMP:20260424T051410
CREATED:20250402T205714Z
LAST-MODIFIED:20250402T210035Z
UID:10004177-1747854000-1747859400@brookslibraryvt.org
SUMMARY:Big Woods Voices
DESCRIPTION:Big Woods Voices celebrates a cappella vocal harmony through arrangements grown from American roots genres\, world folk styles\, poets old and new\, and Will Danforth’s rich creative well. For this occasion\, they will highlight compositions inspired by the poetry of W.B. Yeats\, David Whyte\, Wendell Berry\, Alice Oswald\, Daniel Leavens Cady (!) and others. From heart-moving to foot-grooving\, prayerful to fun-filled\, dissonant to dulcet\, Big Woods Voices brings the spirit of poetry to life through rich harmonies and soulful interpretations. From past audiences: “The music last night was extraordinary…the exquisite care each of the four of you put in\, your combined harmonic sound\, your humility\, your bright spirits sending out the hope we are thirsty for. Each song was a jewel\, a treasure.” “Singing sublime; songs sophisticated and meaningful; altogether a ‘pinch me\, I’m in southern Vermont’ experience!” \nThe Voices (from high to low) are Amanda Witman\, founder of the Brattleboro Pub Sing; Becky Graber\, director of the Brattleboro Women’s Chorus; Will Danforth\, an award-winning\, multi-instrumental solo acoustic artist and a member of the Brattleboro Camerata; and Alan Blood\, long-time member of area groups such as the Blanche Moyse Chorale\, I Cantori\, Blue Moon\, and House Blend. You can check their album out on Spotify: Poetry in Harmony. Website: www.bigwoodsvoices.com.
URL:https://brookslibraryvt.org/event/big-woods-voices/
ATTACH;FMTTYPE=image/jpeg:https://eadn-wc04-3360218.nxedge.io/wp-content/uploads/2025/02/Big-Woods-Voices-2018-17-full-size-scaled.jpg
END:VEVENT
BEGIN:VEVENT
DTSTART;TZID=America/New_York:20250522T110000
DTEND;TZID=America/New_York:20250522T120000
DTSTAMP:20260424T051410
CREATED:20250407T152206Z
LAST-MODIFIED:20250408T134310Z
UID:10004184-1747911600-1747915200@brookslibraryvt.org
SUMMARY:Sing & Dance With Robin
DESCRIPTION:Designed for ages under 6- all ages welcome! Free and open to the public. \nThis lovely class is an enriching musical experience for toddlers and preschoolers\, designed to support healthy cognitive\, physical\, and social development. Children will sing\, clap\, stomp\, dance\, and play along with the curriculum of traditional and modern folk songs. Parents will be encouraged to fully sing and participate with their child in the class. \nSponsored by the Friends of Brooks Memorial Library.
URL:https://brookslibraryvt.org/event/sing-dance-with-robin-8/2025-05-22/
LOCATION:Meeting Room A – Community Meeting Room\, 224 Main Street\, Brattleboro\, VT\, 05301\, United States
CATEGORIES:Children & Families
ATTACH;FMTTYPE=image/png:https://eadn-wc04-3360218.nxedge.io/wp-content/uploads/2024/04/Sing-Dance-with-Robin-Event-Calendar.png
ORGANIZER;CN="BML Children's Room":MAILTO:cr@brookslibraryvt.org
GEO:42.8553213;-72.5599024
X-APPLE-STRUCTURED-LOCATION;VALUE=URI;X-ADDRESS=Meeting Room A – Community Meeting Room 224 Main Street Brattleboro VT 05301 United States;X-APPLE-RADIUS=500;X-TITLE=224 Main Street:geo:-72.5599024,42.8553213
END:VEVENT
BEGIN:VEVENT
DTSTART;TZID=America/New_York:20250524T130000
DTEND;TZID=America/New_York:20250524T160000
DTSTAMP:20260424T051410
CREATED:20250103T195250Z
LAST-MODIFIED:20251204T220811Z
UID:10003818-1748091600-1748102400@brookslibraryvt.org
SUMMARY:Brattleboro in Stitches
DESCRIPTION:Bring a work in progress to sew\, knit\, crochet\, embroider\, or mend. Sewing machines\, irons\, and companionship will be provided.
URL:https://brookslibraryvt.org/event/brattleboro-in-stitches-6/2025-05-24/
LOCATION:Meeting Room A – Community Meeting Room\, 224 Main Street\, Brattleboro\, VT\, 05301\, United States
CATEGORIES:Adults,Children & Families,General
ATTACH;FMTTYPE=image/png:https://eadn-wc04-3360218.nxedge.io/wp-content/uploads/2023/03/Brattleboro-in-Stitches-Event-Calendar2.png
ORGANIZER;CN="Brooks Memorial Library":MAILTO:outreach@brookslibraryvt.org
GEO:42.8553213;-72.5599024
X-APPLE-STRUCTURED-LOCATION;VALUE=URI;X-ADDRESS=Meeting Room A – Community Meeting Room 224 Main Street Brattleboro VT 05301 United States;X-APPLE-RADIUS=500;X-TITLE=224 Main Street:geo:-72.5599024,42.8553213
END:VEVENT
END:VCALENDAR