BEGIN:VCALENDAR
VERSION:2.0
PRODID:-//Brooks Memorial Library - Brattleboro VT - ECPv6.15.17.1//NONSGML v1.0//EN
CALSCALE:GREGORIAN
METHOD:PUBLISH
X-WR-CALNAME:Brooks Memorial Library - Brattleboro VT
X-ORIGINAL-URL:https://brookslibraryvt.org
X-WR-CALDESC:Events for Brooks Memorial Library - Brattleboro VT
REFRESH-INTERVAL;VALUE=DURATION:PT1H
X-Robots-Tag:noindex
X-PUBLISHED-TTL:PT1H
BEGIN:VTIMEZONE
TZID:America/New_York
BEGIN:DAYLIGHT
TZOFFSETFROM:-0500
TZOFFSETTO:-0400
TZNAME:EDT
DTSTART:20240310T070000
END:DAYLIGHT
BEGIN:STANDARD
TZOFFSETFROM:-0400
TZOFFSETTO:-0500
TZNAME:EST
DTSTART:20241103T060000
END:STANDARD
BEGIN:DAYLIGHT
TZOFFSETFROM:-0500
TZOFFSETTO:-0400
TZNAME:EDT
DTSTART:20250309T070000
END:DAYLIGHT
BEGIN:STANDARD
TZOFFSETFROM:-0400
TZOFFSETTO:-0500
TZNAME:EST
DTSTART:20251102T060000
END:STANDARD
BEGIN:DAYLIGHT
TZOFFSETFROM:-0500
TZOFFSETTO:-0400
TZNAME:EDT
DTSTART:20260308T070000
END:DAYLIGHT
BEGIN:STANDARD
TZOFFSETFROM:-0400
TZOFFSETTO:-0500
TZNAME:EST
DTSTART:20261101T060000
END:STANDARD
END:VTIMEZONE
BEGIN:VEVENT
DTSTART;TZID=America/New_York:20250526T100000
DTEND;TZID=America/New_York:20250526T210000
DTSTAMP:20260424T032013
CREATED:20241002T173443Z
LAST-MODIFIED:20241002T173443Z
UID:10003413-1748253600-1748293200@brookslibraryvt.org
SUMMARY:LIBRARY CLOSED
DESCRIPTION:The library will be closed in observation of Memorial Day.
URL:https://brookslibraryvt.org/event/library-closed-23/2025-05-26/
LOCATION:Brooks Memorial Library\, 224 Main Street\, Brattleboro\, VT\, 05301\, United States
CATEGORIES:General
ATTACH;FMTTYPE=image/png:https://eadn-wc04-3360218.nxedge.io/wp-content/uploads/2023/11/Library-Closed.png
ORGANIZER;CN="Brooks Memorial Library":MAILTO:outreach@brookslibraryvt.org
GEO:42.8553213;-72.5599024
X-APPLE-STRUCTURED-LOCATION;VALUE=URI;X-ADDRESS=Brooks Memorial Library 224 Main Street Brattleboro VT 05301 United States;X-APPLE-RADIUS=500;X-TITLE=224 Main Street:geo:-72.5599024,42.8553213
END:VEVENT
BEGIN:VEVENT
DTSTART;TZID=America/New_York:20250527T170000
DTEND;TZID=America/New_York:20250527T190000
DTSTAMP:20260424T032013
CREATED:20220730T191036Z
LAST-MODIFIED:20250210T195725Z
UID:10003962-1748365200-1748372400@brookslibraryvt.org
SUMMARY:Town Arts Committee
DESCRIPTION:The monthly meeting of the Town Arts Committee members invites guests and the public to discuss town arts!
URL:https://brookslibraryvt.org/event/town-arts-committee/2025-05-27/
LOCATION:Meeting Room A – Community Meeting Room\, 224 Main Street\, Brattleboro\, VT\, 05301\, United States
CATEGORIES:General
ATTACH;FMTTYPE=image/jpeg:https://eadn-wc04-3360218.nxedge.io/wp-content/uploads/2022/07/bratt-mural.jpg
ORGANIZER;CN="Brattleboro Town Arts Committee":MAILTO:brattleboroartscommittee@gmail.com
GEO:42.8553213;-72.5599024
X-APPLE-STRUCTURED-LOCATION;VALUE=URI;X-ADDRESS=Meeting Room A – Community Meeting Room 224 Main Street Brattleboro VT 05301 United States;X-APPLE-RADIUS=500;X-TITLE=224 Main Street:geo:-72.5599024,42.8553213
END:VEVENT
BEGIN:VEVENT
DTSTART;TZID=America/New_York:20250528T103000
DTEND;TZID=America/New_York:20250528T110000
DTSTAMP:20260424T032013
CREATED:20241209T213420Z
LAST-MODIFIED:20251020T171452Z
UID:10003601-1748428200-1748430000@brookslibraryvt.org
SUMMARY:Rhyme Time
DESCRIPTION:Join us on Wednesday mornings @ 10:30 am for 30 minutes of stories\, songs\, and fun! \nRhyme Time is for kids 5 & under and their caregivers. \nFree and open to the public. \n  \n 
URL:https://brookslibraryvt.org/event/rhyme-time-8/2025-05-28/
LOCATION:Meeting Room A – Community Meeting Room\, 224 Main Street\, Brattleboro\, VT\, 05301\, United States
CATEGORIES:Children & Families
ATTACH;FMTTYPE=image/png:https://eadn-wc04-3360218.nxedge.io/wp-content/uploads/2024/01/New-2-CLJ.png
ORGANIZER;CN="BML Children's Room":MAILTO:cr@brookslibraryvt.org
GEO:42.8553213;-72.5599024
X-APPLE-STRUCTURED-LOCATION;VALUE=URI;X-ADDRESS=Meeting Room A – Community Meeting Room 224 Main Street Brattleboro VT 05301 United States;X-APPLE-RADIUS=500;X-TITLE=224 Main Street:geo:-72.5599024,42.8553213
END:VEVENT
BEGIN:VEVENT
DTSTART;TZID=America/New_York:20250528T180000
DTEND;TZID=America/New_York:20250528T200000
DTSTAMP:20260424T032013
CREATED:20250127T201519Z
LAST-MODIFIED:20260318T154411Z
UID:10003892-1748455200-1748462400@brookslibraryvt.org
SUMMARY:Brattleboro 250 Planning Sessions
DESCRIPTION:Come and connect with others who are interested in working on plans to commemorate the 250th anniversary of the founding of the United States in 2026. \nThis monthly meeting space on the 4th Wednesdays is dedicated for those who would like the opportunity to connect\, collaborate\, and work on projects that align with Vermont’s 250th Anniversary Commission’s mission to “…inspire all Vermonters to learn from the history\, legacy\, and context of the past to build strong Vermont communities for the future.” \nThe space is being hosted by Brooks Memorial Library\, Vermont Independent Media (The Commons) and Windham World Affairs Council\, with support from the Vermont Humanities Council. We are already working together on a collaboration entitled\, ‘Examining American Identity and Leadership in a Changing World – and have joined America 250\, a national initiative asking communities to plan for how to commemorate the 250th year of the signing of the Declaration of Independence. Its mission is to provide opportunities for all Americans to pause and reflect on our nation’s past & present\, honor the contributions of all Americans\, and look to the future we want to create for the next generation and beyond.
URL:https://brookslibraryvt.org/event/brattleboro-250-planning-sessions/2025-05-28/
LOCATION:Meeting Room A – Community Meeting Room\, 224 Main Street\, Brattleboro\, VT\, 05301\, United States
CATEGORIES:Adults,General
ATTACH;FMTTYPE=image/png:https://eadn-wc04-3360218.nxedge.io/wp-content/uploads/2025/01/Screenshot-2025-03-08-162012.png
ORGANIZER;CN="Brattleboro 250":MAILTO:windhamworldaffairscouncil@gmail.com
GEO:42.8553213;-72.5599024
X-APPLE-STRUCTURED-LOCATION;VALUE=URI;X-ADDRESS=Meeting Room A – Community Meeting Room 224 Main Street Brattleboro VT 05301 United States;X-APPLE-RADIUS=500;X-TITLE=224 Main Street:geo:-72.5599024,42.8553213
END:VEVENT
BEGIN:VEVENT
DTSTART;TZID=America/New_York:20250529T110000
DTEND;TZID=America/New_York:20250529T120000
DTSTAMP:20260424T032014
CREATED:20250407T152206Z
LAST-MODIFIED:20250408T134310Z
UID:10004185-1748516400-1748520000@brookslibraryvt.org
SUMMARY:Sing & Dance With Robin
DESCRIPTION:Designed for ages under 6- all ages welcome! Free and open to the public. \nThis lovely class is an enriching musical experience for toddlers and preschoolers\, designed to support healthy cognitive\, physical\, and social development. Children will sing\, clap\, stomp\, dance\, and play along with the curriculum of traditional and modern folk songs. Parents will be encouraged to fully sing and participate with their child in the class. \nSponsored by the Friends of Brooks Memorial Library.
URL:https://brookslibraryvt.org/event/sing-dance-with-robin-8/2025-05-29/
LOCATION:Meeting Room A – Community Meeting Room\, 224 Main Street\, Brattleboro\, VT\, 05301\, United States
CATEGORIES:Children & Families
ATTACH;FMTTYPE=image/png:https://eadn-wc04-3360218.nxedge.io/wp-content/uploads/2024/04/Sing-Dance-with-Robin-Event-Calendar.png
ORGANIZER;CN="BML Children's Room":MAILTO:cr@brookslibraryvt.org
GEO:42.8553213;-72.5599024
X-APPLE-STRUCTURED-LOCATION;VALUE=URI;X-ADDRESS=Meeting Room A – Community Meeting Room 224 Main Street Brattleboro VT 05301 United States;X-APPLE-RADIUS=500;X-TITLE=224 Main Street:geo:-72.5599024,42.8553213
END:VEVENT
BEGIN:VEVENT
DTSTART;TZID=America/New_York:20250529T160000
DTEND;TZID=America/New_York:20250529T173000
DTSTAMP:20260424T032014
CREATED:20250421T201700Z
LAST-MODIFIED:20250505T235715Z
UID:10004197-1748534400-1748539800@brookslibraryvt.org
SUMMARY:Vermont Women and The Civil War - with Howard Coffin
DESCRIPTION:“Vermont women enlisted for the duration.” So said a Vermont historian assessing the war years 1861-1865. Vermont’s remarkable Civil War battlefield record is well documented\, but little is known of how Vermont women sustained the home front. Historian Howard Coffin explains\, with nearly 35\,000 of the state’s able-bodied men at war\, how women took on farming\, worked in factories\, served as nurses in the state’s military hospitals\, and more. And at least one Vermont woman appears to have secretly enlisted and fought in a Vermont regiment! Drawing from letters and diaries\, Coffin tells their story in their own words\, describing life during the Civil War in the Green Mountain State. This is a Vermont Humanities event hosted by Brooks Memorial Library. \n… \nA seventh-generation Vermonter\, Howard Coffin is the author of four books on the Civil War: Something Abides: Discovering the Civil War in Today’s Vermont; Full Duty: Vermonters in the Civil War; Nine Months to Gettysburg; and The Battered Stars\, as well as Guns Over the Champlain Valley\, a book on military sites along the Champlain Corridor.
URL:https://brookslibraryvt.org/event/vermont-women-and-the-civil-war-with-howard-coffin/
LOCATION:Meeting Room A – Community Meeting Room\, 224 Main Street\, Brattleboro\, VT\, 05301\, United States
CATEGORIES:General
ATTACH;FMTTYPE=image/png:https://eadn-wc04-3360218.nxedge.io/wp-content/uploads/2025/04/Untitled-Facebook-Post.png
ORGANIZER;CN="Vermont Humanities":MAILTO:info@vermonthumanities.org
GEO:42.8553213;-72.5599024
X-APPLE-STRUCTURED-LOCATION;VALUE=URI;X-ADDRESS=Meeting Room A – Community Meeting Room 224 Main Street Brattleboro VT 05301 United States;X-APPLE-RADIUS=500;X-TITLE=224 Main Street:geo:-72.5599024,42.8553213
END:VEVENT
BEGIN:VEVENT
DTSTART;TZID=America/New_York:20250531T130000
DTEND;TZID=America/New_York:20250531T160000
DTSTAMP:20260424T032014
CREATED:20250103T195250Z
LAST-MODIFIED:20251204T220811Z
UID:10003819-1748696400-1748707200@brookslibraryvt.org
SUMMARY:Brattleboro in Stitches
DESCRIPTION:Bring a work in progress to sew\, knit\, crochet\, embroider\, or mend. Sewing machines\, irons\, and companionship will be provided.
URL:https://brookslibraryvt.org/event/brattleboro-in-stitches-6/2025-05-31/
LOCATION:Meeting Room A – Community Meeting Room\, 224 Main Street\, Brattleboro\, VT\, 05301\, United States
CATEGORIES:Adults,Children & Families,General
ATTACH;FMTTYPE=image/png:https://eadn-wc04-3360218.nxedge.io/wp-content/uploads/2023/03/Brattleboro-in-Stitches-Event-Calendar2.png
ORGANIZER;CN="Brooks Memorial Library":MAILTO:outreach@brookslibraryvt.org
GEO:42.8553213;-72.5599024
X-APPLE-STRUCTURED-LOCATION;VALUE=URI;X-ADDRESS=Meeting Room A – Community Meeting Room 224 Main Street Brattleboro VT 05301 United States;X-APPLE-RADIUS=500;X-TITLE=224 Main Street:geo:-72.5599024,42.8553213
END:VEVENT
END:VCALENDAR