BEGIN:VCALENDAR
VERSION:2.0
PRODID:-//Brooks Memorial Library - Brattleboro VT - ECPv6.15.17.1//NONSGML v1.0//EN
CALSCALE:GREGORIAN
METHOD:PUBLISH
X-WR-CALNAME:Brooks Memorial Library - Brattleboro VT
X-ORIGINAL-URL:https://brookslibraryvt.org
X-WR-CALDESC:Events for Brooks Memorial Library - Brattleboro VT
REFRESH-INTERVAL;VALUE=DURATION:PT1H
X-Robots-Tag:noindex
X-PUBLISHED-TTL:PT1H
BEGIN:VTIMEZONE
TZID:America/New_York
BEGIN:DAYLIGHT
TZOFFSETFROM:-0500
TZOFFSETTO:-0400
TZNAME:EDT
DTSTART:20240310T070000
END:DAYLIGHT
BEGIN:STANDARD
TZOFFSETFROM:-0400
TZOFFSETTO:-0500
TZNAME:EST
DTSTART:20241103T060000
END:STANDARD
BEGIN:DAYLIGHT
TZOFFSETFROM:-0500
TZOFFSETTO:-0400
TZNAME:EDT
DTSTART:20250309T070000
END:DAYLIGHT
BEGIN:STANDARD
TZOFFSETFROM:-0400
TZOFFSETTO:-0500
TZNAME:EST
DTSTART:20251102T060000
END:STANDARD
BEGIN:DAYLIGHT
TZOFFSETFROM:-0500
TZOFFSETTO:-0400
TZNAME:EDT
DTSTART:20260308T070000
END:DAYLIGHT
BEGIN:STANDARD
TZOFFSETFROM:-0400
TZOFFSETTO:-0500
TZNAME:EST
DTSTART:20261101T060000
END:STANDARD
END:VTIMEZONE
BEGIN:VEVENT
DTSTART;TZID=America/New_York:20251110T173000
DTEND;TZID=America/New_York:20251110T201500
DTSTAMP:20260423T113112
CREATED:20250922T171809Z
LAST-MODIFIED:20250923T151234Z
UID:10004524-1762795800-1762805700@brookslibraryvt.org
SUMMARY:Celebrating Community\, Addressing Stereotypes: A Meal and Talk with VINE Sanctuary
DESCRIPTION:Join Compassionate Dining as we enjoy a delicious vegan potluck meal and welcome two wonderful speakers from VINE Sanctuary in Springfield\, VT. Potluck begins at 5:30pm followed by speakers at 6pm. Come to the meal and stay for the speakers or just come for the speakers. All are invited!  \nFrom Cheryl Wylie\, Animal Care Coordinator\, hear about how residents of the sanctuary work together to create community. Learn all about the different species that coexist with one another and listen to unexpected and illuminating stories that show how animals–human and non-human–can build lives together. \nFrom climate change to persistent social problems like discrimination\, domestic violence\, and genocide\, the habits of human supremacy make it harder for people to analyze and solve the problems that people have created. The flip side of every stereotype about animals is a stereotype about humans. Those myths make it harder to diagnose and solve social problems. At this event\, VINE Sanctuary cofounder pattrice jones will show how myths about roosters\, turkeys\, and cows contribute to sexism\, ableism\, and racism right here in Vermont. \npattrice jones is an ecofeminist scholar and activist as well as cofounder of VINE Sanctuary in Springfield. A winner of a 2024 “Spirit of the AD” Award from the Governor’s Committee on the Employment of People with Disabilities that was recently featured on Vermont Public for its work with former fighting roosters\, VINE cares for more than 500 animals while also working for social and environmental justice. A recent VINE Press book\, Bird’s-Eye Views\, collects dozens of essays relevant to the subject of this event. \nThis event is sponsored by Compassionate Dining\, a local grassroots group working to build demand for and availability of plant-based options in area restaurants so that people can eat healthfully\, compassionately\, and sustainably.
URL:https://brookslibraryvt.org/event/compassionate-dining-community-potluck-speakers/
LOCATION:Meeting Room A – Community Meeting Room\, 224 Main Street\, Brattleboro\, VT\, 05301\, United States
CATEGORIES:Adults,General
ATTACH;FMTTYPE=image/png:https://eadn-wc04-3360218.nxedge.io/wp-content/uploads/2025/09/Compassionate.Dining.png
ORGANIZER;CN="Compassionate Dining":MAILTO:compassionatedining@gmail.com
GEO:42.8553213;-72.5599024
X-APPLE-STRUCTURED-LOCATION;VALUE=URI;X-ADDRESS=Meeting Room A – Community Meeting Room 224 Main Street Brattleboro VT 05301 United States;X-APPLE-RADIUS=500;X-TITLE=224 Main Street:geo:-72.5599024,42.8553213
END:VEVENT
BEGIN:VEVENT
DTSTART;TZID=America/New_York:20251110T183000
DTEND;TZID=America/New_York:20251110T203000
DTSTAMP:20260423T113112
CREATED:20251029T212306Z
LAST-MODIFIED:20251029T220719Z
UID:10004622-1762799400-1762806600@brookslibraryvt.org
SUMMARY:Voices of the People
DESCRIPTION:WSESU and Spark Teacher Education\nPresents Voices of the People\nMaking Connections to Stories of Resistance in The Past and Present\nPerformed readings from Howard Zinn and Beyond\n\n\nReadings by Local Community Members\, WSESU Students and Brattleboro Solidarity\,\nfor more information email: Sparkteacheredvt@gmail.com
URL:https://brookslibraryvt.org/event/voices-of-the-people/
LOCATION:Main Reading Room
CATEGORIES:Adults,General
ATTACH;FMTTYPE=image/jpeg:https://eadn-wc04-3360218.nxedge.io/wp-content/uploads/2025/10/1000009437.jpg
GEO:42.8553213;-72.5599024
END:VEVENT
BEGIN:VEVENT
DTSTART;TZID=America/New_York:20251111T100000
DTEND;TZID=America/New_York:20251111T210000
DTSTAMP:20260423T113112
CREATED:20241002T185216Z
LAST-MODIFIED:20241101T181013Z
UID:10003441-1762855200-1762894800@brookslibraryvt.org
SUMMARY:LIBRARY CLOSED
DESCRIPTION:The library will be closed on November 11th in observation of Veterans Day/Armistice Day.
URL:https://brookslibraryvt.org/event/library-closed-28/2025-11-11/
LOCATION:Brooks Memorial Library\, 224 Main Street\, Brattleboro\, VT\, 05301\, United States
CATEGORIES:General
ATTACH;FMTTYPE=image/png:https://eadn-wc04-3360218.nxedge.io/wp-content/uploads/2023/11/Library-Closed.png
ORGANIZER;CN="Brooks Memorial Library":MAILTO:outreach@brookslibraryvt.org
GEO:42.8553213;-72.5599024
X-APPLE-STRUCTURED-LOCATION;VALUE=URI;X-ADDRESS=Brooks Memorial Library 224 Main Street Brattleboro VT 05301 United States;X-APPLE-RADIUS=500;X-TITLE=224 Main Street:geo:-72.5599024,42.8553213
END:VEVENT
BEGIN:VEVENT
DTSTART;TZID=America/New_York:20251111T163000
DTEND;TZID=America/New_York:20251111T180000
DTSTAMP:20260423T113112
CREATED:20251017T165156Z
LAST-MODIFIED:20251020T214348Z
UID:10003944-1762878600-1762884000@brookslibraryvt.org
SUMMARY:Library Board of Trustees--POSTPONED
DESCRIPTION:Monthly meeting of the Brooks Memorial Library Board of Trustees has been rescheduled for November 18 due to Veterans Day closure. \nBoard of Trustees
URL:https://brookslibraryvt.org/event/library-board-of-trustees-4/
LOCATION:Meeting Room A – Community Meeting Room\, 224 Main Street\, Brattleboro\, VT\, 05301\, United States
CATEGORIES:General,Teens
ATTACH;FMTTYPE=image/png:https://eadn-wc04-3360218.nxedge.io/wp-content/uploads/2023/01/BML-medium-logo.png
ORGANIZER;CN="Brooks Memorial Library":MAILTO:outreach@brookslibraryvt.org
GEO:42.8553213;-72.5599024
X-APPLE-STRUCTURED-LOCATION;VALUE=URI;X-ADDRESS=Meeting Room A – Community Meeting Room 224 Main Street Brattleboro VT 05301 United States;X-APPLE-RADIUS=500;X-TITLE=224 Main Street:geo:-72.5599024,42.8553213
END:VEVENT
BEGIN:VEVENT
DTSTART;TZID=America/New_York:20251112T103000
DTEND;TZID=America/New_York:20251112T110000
DTSTAMP:20260423T113112
CREATED:20241209T213420Z
LAST-MODIFIED:20251020T171452Z
UID:10003625-1762943400-1762945200@brookslibraryvt.org
SUMMARY:Rhyme Time
DESCRIPTION:Join us on Wednesday mornings @ 10:30 am for 30 minutes of stories\, songs\, and fun! \nRhyme Time is for kids 5 & under and their caregivers. \nFree and open to the public. \n  \n 
URL:https://brookslibraryvt.org/event/rhyme-time-8/2025-11-12/
LOCATION:Meeting Room A – Community Meeting Room\, 224 Main Street\, Brattleboro\, VT\, 05301\, United States
CATEGORIES:Children & Families
ATTACH;FMTTYPE=image/png:https://eadn-wc04-3360218.nxedge.io/wp-content/uploads/2024/01/New-2-CLJ.png
ORGANIZER;CN="BML Children's Room":MAILTO:cr@brookslibraryvt.org
GEO:42.8553213;-72.5599024
X-APPLE-STRUCTURED-LOCATION;VALUE=URI;X-ADDRESS=Meeting Room A – Community Meeting Room 224 Main Street Brattleboro VT 05301 United States;X-APPLE-RADIUS=500;X-TITLE=224 Main Street:geo:-72.5599024,42.8553213
END:VEVENT
BEGIN:VEVENT
DTSTART;TZID=America/New_York:20251112T181500
DTEND;TZID=America/New_York:20251112T200000
DTSTAMP:20260423T113112
CREATED:20250904T143116Z
LAST-MODIFIED:20251031T201710Z
UID:10004485-1762971300-1762977600@brookslibraryvt.org
SUMMARY:Brattleboro Selectboard - FY27 Budget Listening Session
DESCRIPTION:The Brattleboro Selectboard will host a listening session on the FY27 budgeting process  in the Main Reading Room. This is an opportunity for the public to share their ideas directly with the Selectboard outside the typical meeting format. \nThis is an in-person event only; there will not be a Zoom or livestream option for this meeting. The session will be recorded and available to view at a later date on BCTV and BCTV’s YouTube channel. \nBackground for the listening session:\nA proposed FY27 General Fund Budget will be presented to the Selectboard during its regular meeting on Nov. 4. Then\, on Wednesday\, Nov. 12\, the Selectboard will hold its second listening session of the budget season at Brooks Memorial Library at 6:15 p.m. You can view the first listening session here or check the FY27 project page for updates. \nContinuation of the budget process:\nThe conversation will continue during Selectboard meetings throughout the remainder of 2025 and into early 2026. Future updates about the FY27 budget process will be available at Brattleboro.gov/fy27budget.
URL:https://brookslibraryvt.org/event/brattleboro-selectboard-fy27-budget-listening-session/
LOCATION:Main Reading Room
CATEGORIES:Adults,Children & Families,General
ATTACH;FMTTYPE=image/png:https://eadn-wc04-3360218.nxedge.io/wp-content/uploads/2025/09/Budget-Listening-Session.png
GEO:42.8553213;-72.5599024
END:VEVENT
BEGIN:VEVENT
DTSTART;TZID=America/New_York:20251113T103000
DTEND;TZID=America/New_York:20251113T113000
DTSTAMP:20260423T113112
CREATED:20251113T152241Z
LAST-MODIFIED:20251113T152242Z
UID:10004480-1763029800-1763033400@brookslibraryvt.org
SUMMARY:CANCELED - Sing & Dance With Robin
DESCRIPTION:SING AND DANCE WITH ROBIN WILL BE CANCELLED ON THURSDAY\, NOVEMBER 13TH. \n  \nDesigned for ages under 6- all ages welcome! Free and open to the public. \nThis lovely class is an enriching musical experience for toddlers and preschoolers\, designed to support healthy cognitive\, physical\, and social development. Children will sing\, clap\, stomp\, dance\, and play along with the curriculum of traditional and modern folk songs. Parents will be encouraged to fully sing and participate with their child in the class. \nSponsored by the Friends of Brooks Memorial Library.
URL:https://brookslibraryvt.org/event/sing-dance-with-robin-9-4/
LOCATION:Meeting Room A – Community Meeting Room\, 224 Main Street\, Brattleboro\, VT\, 05301\, United States
CATEGORIES:Children & Families
ATTACH;FMTTYPE=image/png:https://eadn-wc04-3360218.nxedge.io/wp-content/uploads/2025/09/SD-CANCELLED-or-RAIN-FACEBOOK.png
ORGANIZER;CN="BML Children's Room":MAILTO:cr@brookslibraryvt.org
GEO:42.8553213;-72.5599024
X-APPLE-STRUCTURED-LOCATION;VALUE=URI;X-ADDRESS=Meeting Room A – Community Meeting Room 224 Main Street Brattleboro VT 05301 United States;X-APPLE-RADIUS=500;X-TITLE=224 Main Street:geo:-72.5599024,42.8553213
END:VEVENT
BEGIN:VEVENT
DTSTART;TZID=America/New_York:20251114T160000
DTEND;TZID=America/New_York:20251114T180000
DTSTAMP:20260423T113112
CREATED:20250919T145610Z
LAST-MODIFIED:20251107T183509Z
UID:10004517-1763136000-1763143200@brookslibraryvt.org
SUMMARY:Vermont Agency of Agriculture and VDOL H-2A Info Session
DESCRIPTION:Postponed and Rescheduled to Thursday\, December 11 from 4-6 PM.  \nThe public is invited to this informational session provided by the Vermont Agency of Agriculture and the Vermont Department of Labor for farmers to attend who may be interested in learning more about the H-2A application/certification process.
URL:https://brookslibraryvt.org/event/agency-of-agriculture-and-vdol-h-2a-info-session/
LOCATION:Meeting Room A – Community Meeting Room\, 224 Main Street\, Brattleboro\, VT\, 05301\, United States
CATEGORIES:Adults,General
ATTACH;FMTTYPE=image/png:https://eadn-wc04-3360218.nxedge.io/wp-content/uploads/2025/09/VT.agricultural.DOL_-e1762539626428.png
ORGANIZER;CN="Vermont Agency of Agriculture%2C Food and Markets":MAILTO:pharmrules@vermont.gov
GEO:42.8553213;-72.5599024
X-APPLE-STRUCTURED-LOCATION;VALUE=URI;X-ADDRESS=Meeting Room A – Community Meeting Room 224 Main Street Brattleboro VT 05301 United States;X-APPLE-RADIUS=500;X-TITLE=224 Main Street:geo:-72.5599024,42.8553213
END:VEVENT
BEGIN:VEVENT
DTSTART;TZID=America/New_York:20251115T130000
DTEND;TZID=America/New_York:20251115T160000
DTSTAMP:20260423T113112
CREATED:20250103T195250Z
LAST-MODIFIED:20251204T220811Z
UID:10003843-1763211600-1763222400@brookslibraryvt.org
SUMMARY:Brattleboro in Stitches
DESCRIPTION:Bring a work in progress to sew\, knit\, crochet\, embroider\, or mend. Sewing machines\, irons\, and companionship will be provided.
URL:https://brookslibraryvt.org/event/brattleboro-in-stitches-6/2025-11-15/
LOCATION:Meeting Room A – Community Meeting Room\, 224 Main Street\, Brattleboro\, VT\, 05301\, United States
CATEGORIES:Adults,Children & Families,General
ATTACH;FMTTYPE=image/png:https://eadn-wc04-3360218.nxedge.io/wp-content/uploads/2023/03/Brattleboro-in-Stitches-Event-Calendar2.png
ORGANIZER;CN="Brooks Memorial Library":MAILTO:outreach@brookslibraryvt.org
GEO:42.8553213;-72.5599024
X-APPLE-STRUCTURED-LOCATION;VALUE=URI;X-ADDRESS=Meeting Room A – Community Meeting Room 224 Main Street Brattleboro VT 05301 United States;X-APPLE-RADIUS=500;X-TITLE=224 Main Street:geo:-72.5599024,42.8553213
END:VEVENT
BEGIN:VEVENT
DTSTART;TZID=America/New_York:20251115T140000
DTEND;TZID=America/New_York:20251115T160000
DTSTAMP:20260423T113112
CREATED:20251104T231526Z
LAST-MODIFIED:20251104T231526Z
UID:10004624-1763215200-1763222400@brookslibraryvt.org
SUMMARY:Needle Felting Workshop
DESCRIPTION:Learn the art of needle felting. In anticipation of the miniature worlds springing up along Main St.\, attendees will have the opportunity to make a simple shape\, a cute critter or a fuzzy friend from a ball of wool. \nThe class will be held concurrently with the weekly Stitchers meet-up and is open to anyone 13 years old and up.  Materials will be provided\, but space is limited and advance registration is required.  To sign up\, email circulation@brookslibraryvt.org or call 802.254.5290 ext. 0\, or come by the library in person. \nThe event is free\, thanks to the generosity of the Friends of Brooks Memorial Library.
URL:https://brookslibraryvt.org/event/needle-felting-workshop/
LOCATION:Meeting Room A – Community Meeting Room\, 224 Main Street\, Brattleboro\, VT\, 05301\, United States
CATEGORIES:Adults,Teens
ATTACH;FMTTYPE=image/jpeg:https://eadn-wc04-3360218.nxedge.io/wp-content/uploads/2025/11/felting.jpg
GEO:42.8553213;-72.5599024
X-APPLE-STRUCTURED-LOCATION;VALUE=URI;X-ADDRESS=Meeting Room A – Community Meeting Room 224 Main Street Brattleboro VT 05301 United States;X-APPLE-RADIUS=500;X-TITLE=224 Main Street:geo:-72.5599024,42.8553213
END:VEVENT
END:VCALENDAR