BEGIN:VCALENDAR
VERSION:2.0
PRODID:-//Brooks Memorial Library - Brattleboro VT - ECPv6.15.17.1//NONSGML v1.0//EN
CALSCALE:GREGORIAN
METHOD:PUBLISH
X-WR-CALNAME:Brooks Memorial Library - Brattleboro VT
X-ORIGINAL-URL:https://brookslibraryvt.org
X-WR-CALDESC:Events for Brooks Memorial Library - Brattleboro VT
REFRESH-INTERVAL;VALUE=DURATION:PT1H
X-Robots-Tag:noindex
X-PUBLISHED-TTL:PT1H
BEGIN:VTIMEZONE
TZID:America/New_York
BEGIN:DAYLIGHT
TZOFFSETFROM:-0500
TZOFFSETTO:-0400
TZNAME:EDT
DTSTART:20240310T070000
END:DAYLIGHT
BEGIN:STANDARD
TZOFFSETFROM:-0400
TZOFFSETTO:-0500
TZNAME:EST
DTSTART:20241103T060000
END:STANDARD
BEGIN:DAYLIGHT
TZOFFSETFROM:-0500
TZOFFSETTO:-0400
TZNAME:EDT
DTSTART:20250309T070000
END:DAYLIGHT
BEGIN:STANDARD
TZOFFSETFROM:-0400
TZOFFSETTO:-0500
TZNAME:EST
DTSTART:20251102T060000
END:STANDARD
BEGIN:DAYLIGHT
TZOFFSETFROM:-0500
TZOFFSETTO:-0400
TZNAME:EDT
DTSTART:20260308T070000
END:DAYLIGHT
BEGIN:STANDARD
TZOFFSETFROM:-0400
TZOFFSETTO:-0500
TZNAME:EST
DTSTART:20261101T060000
END:STANDARD
END:VTIMEZONE
BEGIN:VEVENT
DTSTART;TZID=America/New_York:20251124T190000
DTEND;TZID=America/New_York:20251124T203000
DTSTAMP:20260423T075858
CREATED:20241119T011618Z
LAST-MODIFIED:20250409T202119Z
UID:10003511-1764010800-1764016200@brookslibraryvt.org
SUMMARY:Green Carnation Reading Group
DESCRIPTION:Discussions of books by and for queer people. For more information\, please visit the Green Carnation Reading Group Facebook page.
URL:https://brookslibraryvt.org/event/green-carnation-book-group/2025-11-24/
LOCATION:Meeting Room D – Quiet Reading Room\, 224 Main Street\, Brattleboro\, VT\, 05301\, United States
CATEGORIES:Adults,General,Teens
ATTACH;FMTTYPE=image/jpeg:https://eadn-wc04-3360218.nxedge.io/wp-content/uploads/2024/11/439240485_122098227206294656_4239700080493349576_n-e1731978675948.jpg
ORGANIZER;CN="Green Carnation - Timothy Williams":MAILTO:readtiph6890@gmail.com
GEO:42.8553213;-72.5599024
X-APPLE-STRUCTURED-LOCATION;VALUE=URI;X-ADDRESS=Meeting Room D – Quiet Reading Room 224 Main Street Brattleboro VT 05301 United States;X-APPLE-RADIUS=500;X-TITLE=224 Main Street:geo:-72.5599024,42.8553213
END:VEVENT
BEGIN:VEVENT
DTSTART;TZID=America/New_York:20251125T133000
DTEND;TZID=America/New_York:20251125T150000
DTSTAMP:20260423T075858
CREATED:20251107T214813Z
LAST-MODIFIED:20251107T214814Z
UID:10004629-1764077400-1764082800@brookslibraryvt.org
SUMMARY:Art & Exploration at the Library: Book Group and Art Making for Seniors
DESCRIPTION:Join River Gallery School teaching artist\, Kate Milliken\, for this free 5-week book exploration and art-making course for learners ages 65+.  \nParticipants will have the opportunity to explore books on a variety of themes including history\, food\, nature\, music\, film\, and classic novels\, and create art in response to those themes through mixed media techniques.  \nThis course is perfect for participants new to creating art and interested in a social book club experience. Supplies are provided. Registration is required. Sign up for one or all sessions in this exciting new offering\, in collaboration with River Gallery School and Bradley House.  \nTo register: stop by or call the circulation desk (802)254-5290; or\, email: outreach@brookslibraryvt.org. \n 
URL:https://brookslibraryvt.org/event/art-exploration-at-the-library-book-group-and-art-making-for-seniors-2/2025-11-25/
LOCATION:Meeting Room A – Community Meeting Room\, 224 Main Street\, Brattleboro\, VT\, 05301\, United States
CATEGORIES:Adults,General
ATTACH;FMTTYPE=image/png:https://eadn-wc04-3360218.nxedge.io/wp-content/uploads/2025/11/AEL-newsletter.photoFacebook-Shops-Cover-Square.png
GEO:42.8553213;-72.5599024
X-APPLE-STRUCTURED-LOCATION;VALUE=URI;X-ADDRESS=Meeting Room A – Community Meeting Room 224 Main Street Brattleboro VT 05301 United States;X-APPLE-RADIUS=500;X-TITLE=224 Main Street:geo:-72.5599024,42.8553213
END:VEVENT
BEGIN:VEVENT
DTSTART;TZID=America/New_York:20251125T170000
DTEND;TZID=America/New_York:20251125T190000
DTSTAMP:20260423T075858
CREATED:20220730T191036Z
LAST-MODIFIED:20250210T195725Z
UID:10003968-1764090000-1764097200@brookslibraryvt.org
SUMMARY:Town Arts Committee
DESCRIPTION:The monthly meeting of the Town Arts Committee members invites guests and the public to discuss town arts!
URL:https://brookslibraryvt.org/event/town-arts-committee/2025-11-25/
LOCATION:Meeting Room A – Community Meeting Room\, 224 Main Street\, Brattleboro\, VT\, 05301\, United States
CATEGORIES:General
ATTACH;FMTTYPE=image/jpeg:https://eadn-wc04-3360218.nxedge.io/wp-content/uploads/2022/07/bratt-mural.jpg
ORGANIZER;CN="Brattleboro Town Arts Committee":MAILTO:brattleboroartscommittee@gmail.com
GEO:42.8553213;-72.5599024
X-APPLE-STRUCTURED-LOCATION;VALUE=URI;X-ADDRESS=Meeting Room A – Community Meeting Room 224 Main Street Brattleboro VT 05301 United States;X-APPLE-RADIUS=500;X-TITLE=224 Main Street:geo:-72.5599024,42.8553213
END:VEVENT
BEGIN:VEVENT
DTSTART;TZID=America/New_York:20251126T103000
DTEND;TZID=America/New_York:20251126T110000
DTSTAMP:20260423T075858
CREATED:20241209T213420Z
LAST-MODIFIED:20251020T171452Z
UID:10003627-1764153000-1764154800@brookslibraryvt.org
SUMMARY:Rhyme Time
DESCRIPTION:Join us on Wednesday mornings @ 10:30 am for 30 minutes of stories\, songs\, and fun! \nRhyme Time is for kids 5 & under and their caregivers. \nFree and open to the public. \n  \n 
URL:https://brookslibraryvt.org/event/rhyme-time-8/2025-11-26/
LOCATION:Meeting Room A – Community Meeting Room\, 224 Main Street\, Brattleboro\, VT\, 05301\, United States
CATEGORIES:Children & Families
ATTACH;FMTTYPE=image/png:https://eadn-wc04-3360218.nxedge.io/wp-content/uploads/2024/01/New-2-CLJ.png
ORGANIZER;CN="BML Children's Room":MAILTO:cr@brookslibraryvt.org
GEO:42.8553213;-72.5599024
X-APPLE-STRUCTURED-LOCATION;VALUE=URI;X-ADDRESS=Meeting Room A – Community Meeting Room 224 Main Street Brattleboro VT 05301 United States;X-APPLE-RADIUS=500;X-TITLE=224 Main Street:geo:-72.5599024,42.8553213
END:VEVENT
BEGIN:VEVENT
DTSTART;TZID=America/New_York:20251126T180000
DTEND;TZID=America/New_York:20251126T200000
DTSTAMP:20260423T075858
CREATED:20251020T211147Z
LAST-MODIFIED:20260318T153833Z
UID:10003898-1764180000-1764187200@brookslibraryvt.org
SUMMARY:Brattleboro 250 Planning Sessions
DESCRIPTION:Come and connect with others who are interested in working on plans to commemorate the 250th anniversary of the founding of the United States in 2026. \nThis monthly meeting space on the 4th Wednesdays is dedicated for those who would like the opportunity to connect\, collaborate\, and work on projects that align with Vermont’s 250th Anniversary Commission’s mission to “…inspire all Vermonters to learn from the history\, legacy\, and context of the past to build strong Vermont communities for the future.” \nThe space is being hosted by Brooks Memorial Library\, Vermont Independent Media (The Commons) and Windham World Affairs Council\, with support from the Vermont Humanities Council. We are already working together on a collaboration entitled\, ‘Examining American Identity and Leadership in a Changing World – and have joined America 250\, a national initiative asking communities to plan for how to commemorate the 250th year of the signing of the Declaration of Independence. Its mission is to provide opportunities for all Americans to pause and reflect on our nation’s past & present\, honor the contributions of all Americans\, and look to the future we want to create for the next generation and beyond.
URL:https://brookslibraryvt.org/event/brattleboro-250-planning-sessions-7/
LOCATION:Meeting Room A – Community Meeting Room\, 224 Main Street\, Brattleboro\, VT\, 05301\, United States
CATEGORIES:General
ATTACH;FMTTYPE=image/png:https://eadn-wc04-3360218.nxedge.io/wp-content/uploads/2025/01/Screenshot-2025-03-08-162012.png
ORGANIZER;CN="Brattleboro 250":MAILTO:windhamworldaffairscouncil@gmail.com
GEO:42.8553213;-72.5599024
X-APPLE-STRUCTURED-LOCATION;VALUE=URI;X-ADDRESS=Meeting Room A – Community Meeting Room 224 Main Street Brattleboro VT 05301 United States;X-APPLE-RADIUS=500;X-TITLE=224 Main Street:geo:-72.5599024,42.8553213
END:VEVENT
BEGIN:VEVENT
DTSTART;TZID=America/New_York:20251126T180000
DTEND;TZID=America/New_York:20251126T210000
DTSTAMP:20260423T075858
CREATED:20241007T182334Z
LAST-MODIFIED:20241007T182334Z
UID:10003449-1764180000-1764190800@brookslibraryvt.org
SUMMARY:EARLY CLOSING
DESCRIPTION:The library will close at 6:00 p.m. in observance of Thanksgiving.
URL:https://brookslibraryvt.org/event/early-closing-6/2025-11-26/
LOCATION:Brooks Memorial Library\, 224 Main Street\, Brattleboro\, VT\, 05301\, United States
CATEGORIES:General
ATTACH;FMTTYPE=image/png:https://eadn-wc04-3360218.nxedge.io/wp-content/uploads/2023/11/Parchmen.png
ORGANIZER;CN="Brooks Memorial Library":MAILTO:outreach@brookslibraryvt.org
GEO:42.8553213;-72.5599024
X-APPLE-STRUCTURED-LOCATION;VALUE=URI;X-ADDRESS=Brooks Memorial Library 224 Main Street Brattleboro VT 05301 United States;X-APPLE-RADIUS=500;X-TITLE=224 Main Street:geo:-72.5599024,42.8553213
END:VEVENT
BEGIN:VEVENT
DTSTART;TZID=America/New_York:20251127T100000
DTEND;TZID=America/New_York:20251127T180000
DTSTAMP:20260423T075858
CREATED:20241007T182935Z
LAST-MODIFIED:20241007T182935Z
UID:10003454-1764237600-1764266400@brookslibraryvt.org
SUMMARY:LIBRARY CLOSED
DESCRIPTION:The library will be closed in observation of Thanksgiving Day.
URL:https://brookslibraryvt.org/event/library-closed-29/2025-11-27/
LOCATION:Brooks Memorial Library\, 224 Main Street\, Brattleboro\, VT\, 05301\, United States
CATEGORIES:General
ATTACH;FMTTYPE=image/png:https://eadn-wc04-3360218.nxedge.io/wp-content/uploads/2023/11/Library-Closed.png
ORGANIZER;CN="Brooks Memorial Library":MAILTO:outreach@brookslibraryvt.org
GEO:42.8553213;-72.5599024
X-APPLE-STRUCTURED-LOCATION;VALUE=URI;X-ADDRESS=Brooks Memorial Library 224 Main Street Brattleboro VT 05301 United States;X-APPLE-RADIUS=500;X-TITLE=224 Main Street:geo:-72.5599024,42.8553213
END:VEVENT
BEGIN:VEVENT
DTSTART;TZID=America/New_York:20251128T100000
DTEND;TZID=America/New_York:20251128T180000
DTSTAMP:20260423T075858
CREATED:20250715T002625Z
LAST-MODIFIED:20251020T225509Z
UID:10004442-1764324000-1764352800@brookslibraryvt.org
SUMMARY:Friends of the Library Book Sale Kick Off
DESCRIPTION:The Friends of the Library’s Annual Book Sale will begin on Friday\, November 28th and Saturday\, November 29th. Remainders will be available through the end of the year during regular library hours. \nMost items will be $2 or less and you will have the opportunity to purchase raffle tickets for some fabulous literary-themed gift baskets. \nProceeds from the sale support the patrons of the Brooks Memorial Library by funding programming\, museum passes\, and much much more!
URL:https://brookslibraryvt.org/event/friends-of-the-library-book-sale-kick-off-2/2025-11-28/
LOCATION:Brooks Memorial Library\, 224 Main Street\, Brattleboro\, VT\, 05301\, United States
CATEGORIES:Adults,Children & Families,General
ATTACH;FMTTYPE=image/png:https://eadn-wc04-3360218.nxedge.io/wp-content/uploads/2024/09/Book-sale-newsletter-social-mediaInstagram-Post-e1725998886220.png
GEO:42.8553213;-72.5599024
X-APPLE-STRUCTURED-LOCATION;VALUE=URI;X-ADDRESS=Brooks Memorial Library 224 Main Street Brattleboro VT 05301 United States;X-APPLE-RADIUS=500;X-TITLE=224 Main Street:geo:-72.5599024,42.8553213
END:VEVENT
BEGIN:VEVENT
DTSTART;TZID=America/New_York:20251128T160000
DTEND;TZID=America/New_York:20251128T173000
DTSTAMP:20260423T075858
CREATED:20250922T183532Z
LAST-MODIFIED:20251217T184440Z
UID:10004532-1764345600-1764351000@brookslibraryvt.org
SUMMARY:Introduction to Buddhist Mindfulness Meditation
DESCRIPTION:This offering will be led by Bhante Rathana\, a Buddhist monk originally from Sri Lanka and currently residing at Serenity Central of New England in Jacksonville\, Vermont. He has been dedicated to the path of Dhamma since the age of 13\, and his journey includes over two decades of monastic training\, study\, and teaching in Sri Lanka and the United States. \nAt these sessions\, Bhante will be offering practical guidance in breathing meditation (ānāpānasati)\, loving-kindness meditation (mettā bhāvanā)\, and walking meditation\, rooted in the original teachings of the Buddha as preserved in the Pāli Canon. His approach draws directly from early Buddhist texts\, focusing on mindfulness\, compassion\, and inner peace. \nWith gentle\, step-by-step instruction\, Bhante aims to help participants develop calm\, clarity\, and deeper awareness—whether you are new to meditation or wish to strengthen your practice.
URL:https://brookslibraryvt.org/event/introduction-to-buddhist-mindfulness-meditation/2025-11-28/
CATEGORIES:Adults,General
ATTACH;FMTTYPE=image/jpeg:https://eadn-wc04-3360218.nxedge.io/wp-content/uploads/2025/07/513707710_122175108476357187_1881501774102188897_n.jpg
ORGANIZER;CN="Green Mountain Meditation Center (at Serenity Central)":MAILTO:GreenMountainMonk@gmail.com
END:VEVENT
BEGIN:VEVENT
DTSTART;TZID=America/New_York:20251129T100000
DTEND;TZID=America/New_York:20251129T170000
DTSTAMP:20260423T075858
CREATED:20250715T002625Z
LAST-MODIFIED:20251020T225509Z
UID:10004443-1764410400-1764435600@brookslibraryvt.org
SUMMARY:Friends of the Library Book Sale Kick Off
DESCRIPTION:The Friends of the Library’s Annual Book Sale will begin on Friday\, November 28th and Saturday\, November 29th. Remainders will be available through the end of the year during regular library hours. \nMost items will be $2 or less and you will have the opportunity to purchase raffle tickets for some fabulous literary-themed gift baskets. \nProceeds from the sale support the patrons of the Brooks Memorial Library by funding programming\, museum passes\, and much much more!
URL:https://brookslibraryvt.org/event/friends-of-the-library-book-sale-kick-off-2/2025-11-29/
LOCATION:Brooks Memorial Library\, 224 Main Street\, Brattleboro\, VT\, 05301\, United States
CATEGORIES:Adults,Children & Families,General
ATTACH;FMTTYPE=image/png:https://eadn-wc04-3360218.nxedge.io/wp-content/uploads/2024/09/Book-sale-newsletter-social-mediaInstagram-Post-e1725998886220.png
GEO:42.8553213;-72.5599024
X-APPLE-STRUCTURED-LOCATION;VALUE=URI;X-ADDRESS=Brooks Memorial Library 224 Main Street Brattleboro VT 05301 United States;X-APPLE-RADIUS=500;X-TITLE=224 Main Street:geo:-72.5599024,42.8553213
END:VEVENT
BEGIN:VEVENT
DTSTART;TZID=America/New_York:20251129T130000
DTEND;TZID=America/New_York:20251129T160000
DTSTAMP:20260423T075858
CREATED:20250103T195250Z
LAST-MODIFIED:20251204T220811Z
UID:10003845-1764421200-1764432000@brookslibraryvt.org
SUMMARY:Brattleboro in Stitches
DESCRIPTION:Bring a work in progress to sew\, knit\, crochet\, embroider\, or mend. Sewing machines\, irons\, and companionship will be provided.
URL:https://brookslibraryvt.org/event/brattleboro-in-stitches-6/2025-11-29/
LOCATION:Meeting Room A – Community Meeting Room\, 224 Main Street\, Brattleboro\, VT\, 05301\, United States
CATEGORIES:Adults,Children & Families,General
ATTACH;FMTTYPE=image/png:https://eadn-wc04-3360218.nxedge.io/wp-content/uploads/2023/03/Brattleboro-in-Stitches-Event-Calendar2.png
ORGANIZER;CN="Brooks Memorial Library":MAILTO:outreach@brookslibraryvt.org
GEO:42.8553213;-72.5599024
X-APPLE-STRUCTURED-LOCATION;VALUE=URI;X-ADDRESS=Meeting Room A – Community Meeting Room 224 Main Street Brattleboro VT 05301 United States;X-APPLE-RADIUS=500;X-TITLE=224 Main Street:geo:-72.5599024,42.8553213
END:VEVENT
END:VCALENDAR