BEGIN:VCALENDAR
VERSION:2.0
PRODID:-//Brooks Memorial Library - Brattleboro VT - ECPv6.15.17.1//NONSGML v1.0//EN
CALSCALE:GREGORIAN
METHOD:PUBLISH
X-ORIGINAL-URL:https://brookslibraryvt.org
X-WR-CALDESC:Events for Brooks Memorial Library - Brattleboro VT
REFRESH-INTERVAL;VALUE=DURATION:PT1H
X-Robots-Tag:noindex
X-PUBLISHED-TTL:PT1H
BEGIN:VTIMEZONE
TZID:America/New_York
BEGIN:DAYLIGHT
TZOFFSETFROM:-0500
TZOFFSETTO:-0400
TZNAME:EDT
DTSTART:20250309T070000
END:DAYLIGHT
BEGIN:STANDARD
TZOFFSETFROM:-0400
TZOFFSETTO:-0500
TZNAME:EST
DTSTART:20251102T060000
END:STANDARD
BEGIN:DAYLIGHT
TZOFFSETFROM:-0500
TZOFFSETTO:-0400
TZNAME:EDT
DTSTART:20260308T070000
END:DAYLIGHT
BEGIN:STANDARD
TZOFFSETFROM:-0400
TZOFFSETTO:-0500
TZNAME:EST
DTSTART:20261101T060000
END:STANDARD
BEGIN:DAYLIGHT
TZOFFSETFROM:-0500
TZOFFSETTO:-0400
TZNAME:EDT
DTSTART:20270314T070000
END:DAYLIGHT
BEGIN:STANDARD
TZOFFSETFROM:-0400
TZOFFSETTO:-0500
TZNAME:EST
DTSTART:20271107T060000
END:STANDARD
END:VTIMEZONE
BEGIN:VEVENT
DTSTART;TZID=America/New_York:20260126T160000
DTEND;TZID=America/New_York:20260126T170000
DTSTAMP:20260423T110652
CREATED:20251201T180530Z
LAST-MODIFIED:20260124T173421Z
UID:10004705-1769443200-1769446800@brookslibraryvt.org
SUMMARY:POSTPONED until MONDAY\, FEBRUARY 2ND--BookMarked: A Book Party for Children and Tweens!
DESCRIPTION:Due to the extreme weather forecast\, this program will be rescheduled to Monday\, February 2nd\, 4-5 pm.  \n 
URL:https://brookslibraryvt.org/event/bookmarked-a-book-club-for-children-and-tweens/
LOCATION:Meeting Room A – Community Meeting Room\, 224 Main Street\, Brattleboro\, VT\, 05301\, United States
CATEGORIES:Children & Families,Teens
ATTACH;FMTTYPE=image/png:https://eadn-wc04-3360218.nxedge.io/wp-content/uploads/2025/12/Copy-of-Bookmarked-Facebook-Post1.png
ORGANIZER;CN="BML Children's Room":MAILTO:cr@brookslibraryvt.org
GEO:42.8553213;-72.5599024
X-APPLE-STRUCTURED-LOCATION;VALUE=URI;X-ADDRESS=Meeting Room A – Community Meeting Room 224 Main Street Brattleboro VT 05301 United States;X-APPLE-RADIUS=500;X-TITLE=224 Main Street:geo:-72.5599024,42.8553213
END:VEVENT
BEGIN:VEVENT
DTSTART;TZID=America/New_York:20260126T173000
DTEND;TZID=America/New_York:20260126T190000
DTSTAMP:20260423T110652
CREATED:20251209T230938Z
LAST-MODIFIED:20260126T193027Z
UID:10004969-1769448600-1769454000@brookslibraryvt.org
SUMMARY:Center for Solace\, Information Session on After Death Care & Green Burial
DESCRIPTION:Volunteers from the Center for Solace will share information about caring for our loved ones after they die\, including body care\, transportation\, permitting\, and green burial options.
URL:https://brookslibraryvt.org/event/center-for-solace-information-session-on-after-death-care-green-burial/
LOCATION:Meeting Room A – Community Meeting Room\, 224 Main Street\, Brattleboro\, VT\, 05301\, United States
CATEGORIES:Adults,General
ATTACH;FMTTYPE=image/png:https://eadn-wc04-3360218.nxedge.io/wp-content/uploads/2025/12/solace-postponed-.png
ORGANIZER;CN="Center for Solace":MAILTO:info@cfsolace.org
GEO:42.8553213;-72.5599024
X-APPLE-STRUCTURED-LOCATION;VALUE=URI;X-ADDRESS=Meeting Room A – Community Meeting Room 224 Main Street Brattleboro VT 05301 United States;X-APPLE-RADIUS=500;X-TITLE=224 Main Street:geo:-72.5599024,42.8553213
END:VEVENT
BEGIN:VEVENT
DTSTART;TZID=America/New_York:20260126T190000
DTEND;TZID=America/New_York:20260126T203000
DTSTAMP:20260423T110652
CREATED:20241119T011618Z
LAST-MODIFIED:20250409T202119Z
UID:10003513-1769454000-1769459400@brookslibraryvt.org
SUMMARY:Green Carnation Reading Group
DESCRIPTION:Discussions of books by and for queer people. For more information\, please visit the Green Carnation Reading Group Facebook page.
URL:https://brookslibraryvt.org/event/green-carnation-book-group/2026-01-26/
LOCATION:Meeting Room D – Quiet Reading Room\, 224 Main Street\, Brattleboro\, VT\, 05301\, United States
CATEGORIES:Adults,General,Teens
ATTACH;FMTTYPE=image/jpeg:https://eadn-wc04-3360218.nxedge.io/wp-content/uploads/2024/11/439240485_122098227206294656_4239700080493349576_n-e1731978675948.jpg
ORGANIZER;CN="Green Carnation - Timothy Williams":MAILTO:readtiph6890@gmail.com
GEO:42.8553213;-72.5599024
X-APPLE-STRUCTURED-LOCATION;VALUE=URI;X-ADDRESS=Meeting Room D – Quiet Reading Room 224 Main Street Brattleboro VT 05301 United States;X-APPLE-RADIUS=500;X-TITLE=224 Main Street:geo:-72.5599024,42.8553213
END:VEVENT
BEGIN:VEVENT
DTSTART;TZID=America/New_York:20260126T190000
DTEND;TZID=America/New_York:20260126T203000
DTSTAMP:20260423T110652
CREATED:20250916T145548Z
LAST-MODIFIED:20251215T155609Z
UID:10004496-1769454000-1769459400@brookslibraryvt.org
SUMMARY:Sci-Fi Reading Group
DESCRIPTION:The Sci-Fi Reading Group will meet in the Quiet Reading Room from 7:00pm – 8:30pm to discuss Metallic Realms by Lincoln Michel! \nPerennially single\, socially awkward\, and drowning in debt\, Michael Lincoln finds his life has turned out nothing like the intergalactic lives of the pulp heroes of his youth. But these are pedestrian concerns—he has a higher calling\, and that is to preserve for all posterity the greatest series in the history of the written word: The Star Rot Chronicles. Written collectively by Michael’s best (and perhaps only) friend Taras K. Castle and his misfit science fiction writing group\, the Orb 4\, the stories follow Captain Baldwin and his fearless crew on their mind-bending adventures across the Metallic Realms\, from solar whales swallowing suns at the edge of spacetime to extraterrestrial romances and interstellar wars. These masterpieces have gone tragically unpublished—until now. But the most urgent story Michael must tell takes place in the more intimate (if no less dramatic) confines of literary Brooklyn. Behind the greatest universe ever created\, there are the all-too-mortal people who wrote it. As Michael chronicles the personal melodramas of the Orb 4 as well as the fun house reflections in their fiction\, the line between real and unreal becomes dangerously thin\, and the true reasons for the group’s fallout begin to emerge. As he labors away in hiding\, Michael has just one mission: to bring the Metallic Realms to the world. No matter the cost. \nPlease note that this SFRG will be meeting on the fourth Monday of the month! The Sci-Fi Reading Group typically meets the third Monday of every month and is open to curious minds of all ages\, whether or not they’ve read this month’s selection.
URL:https://brookslibraryvt.org/event/sci-fi-reading-group-4-2/
LOCATION:Meeting Room D – Quiet Reading Room\, 224 Main Street\, Brattleboro\, VT\, 05301\, United States
CATEGORIES:Adults,General,Teens
ATTACH;FMTTYPE=image/png:https://eadn-wc04-3360218.nxedge.io/wp-content/uploads/2025/09/JAN26-Icon.png
ORGANIZER;CN="Brooks Memorial Library":MAILTO:outreach@brookslibraryvt.org
GEO:42.8553213;-72.5599024
X-APPLE-STRUCTURED-LOCATION;VALUE=URI;X-ADDRESS=Meeting Room D – Quiet Reading Room 224 Main Street Brattleboro VT 05301 United States;X-APPLE-RADIUS=500;X-TITLE=224 Main Street:geo:-72.5599024,42.8553213
END:VEVENT
BEGIN:VEVENT
DTSTART;TZID=America/New_York:20260127T153000
DTEND;TZID=America/New_York:20260127T163000
DTSTAMP:20260423T110652
CREATED:20260106T202929Z
LAST-MODIFIED:20260225T192716Z
UID:10005154-1769527800-1769531400@brookslibraryvt.org
SUMMARY:Read to a Dog
DESCRIPTION:Come start a new year of reading by reading to a dog! Read out loud to two sweet dogs\, Kelso and Gussy! Both dogs are  specially trained to read with kids and LOVE to be petted and cuddled! \nCome to the Children’s Room to Read to a Dog–available on a first come first serve basis. Bring your own books or come early to pick some of ours! All Ages Welcome.
URL:https://brookslibraryvt.org/event/read-to-a-dog-3-2/2026-01-27/
LOCATION:Meeting Room A – Community Meeting Room\, 224 Main Street\, Brattleboro\, VT\, 05301\, United States
CATEGORIES:Children & Families,General
ATTACH;FMTTYPE=image/png:https://eadn-wc04-3360218.nxedge.io/wp-content/uploads/2021/07/Read-to-a-Dog.png
ORGANIZER;CN="BML Children's Room":MAILTO:cr@brookslibraryvt.org
GEO:42.8553213;-72.5599024
X-APPLE-STRUCTURED-LOCATION;VALUE=URI;X-ADDRESS=Meeting Room A – Community Meeting Room 224 Main Street Brattleboro VT 05301 United States;X-APPLE-RADIUS=500;X-TITLE=224 Main Street:geo:-72.5599024,42.8553213
END:VEVENT
BEGIN:VEVENT
DTSTART;TZID=America/New_York:20260127T170000
DTEND;TZID=America/New_York:20260127T190000
DTSTAMP:20260423T110652
CREATED:20251204T194048Z
LAST-MODIFIED:20251204T194446Z
UID:10004781-1769533200-1769540400@brookslibraryvt.org
SUMMARY:Town Arts Committee
DESCRIPTION:The monthly meeting of the Town Arts Committee members invites guests and the public to discuss town arts!
URL:https://brookslibraryvt.org/event/town-arts-committee-3/2026-01-27/
LOCATION:Meeting Room A – Community Meeting Room\, 224 Main Street\, Brattleboro\, VT\, 05301\, United States
CATEGORIES:General
ATTACH;FMTTYPE=image/jpeg:https://eadn-wc04-3360218.nxedge.io/wp-content/uploads/2022/07/bratt-mural.jpg
ORGANIZER;CN="Brattleboro Town Arts Committee":MAILTO:brattleboroartscommittee@gmail.com
GEO:42.8553213;-72.5599024
X-APPLE-STRUCTURED-LOCATION;VALUE=URI;X-ADDRESS=Meeting Room A – Community Meeting Room 224 Main Street Brattleboro VT 05301 United States;X-APPLE-RADIUS=500;X-TITLE=224 Main Street:geo:-72.5599024,42.8553213
END:VEVENT
BEGIN:VEVENT
DTSTART;TZID=America/New_York:20260127T190000
DTEND;TZID=America/New_York:20260127T203000
DTSTAMP:20260423T110652
CREATED:20251111T000528Z
LAST-MODIFIED:20251111T144547Z
UID:10004679-1769540400-1769545800@brookslibraryvt.org
SUMMARY:Kiwanis Club of Brattleboro Informational Meeting
DESCRIPTION:Help local kids! Come learn how Kiwanis supports local kids through our work.
URL:https://brookslibraryvt.org/event/kiwanis-club-of-brattleboro-informational-meeting/
LOCATION:Meeting Room A – Community Meeting Room\, 224 Main Street\, Brattleboro\, VT\, 05301\, United States
CATEGORIES:Adults,General
ATTACH;FMTTYPE=image/png:https://eadn-wc04-3360218.nxedge.io/wp-content/uploads/2025/11/Brattleboro-Kiwanis-Logo-header.png
ORGANIZER;CN="Kiwanis Club of Brattleboro":MAILTO:brattkiwanis@gmail.com
GEO:42.8553213;-72.5599024
X-APPLE-STRUCTURED-LOCATION;VALUE=URI;X-ADDRESS=Meeting Room A – Community Meeting Room 224 Main Street Brattleboro VT 05301 United States;X-APPLE-RADIUS=500;X-TITLE=224 Main Street:geo:-72.5599024,42.8553213
END:VEVENT
BEGIN:VEVENT
DTSTART;TZID=America/New_York:20260128T103000
DTEND;TZID=America/New_York:20260128T110000
DTSTAMP:20260423T110652
CREATED:20251107T161857Z
LAST-MODIFIED:20251107T161857Z
UID:10004636-1769596200-1769598000@brookslibraryvt.org
SUMMARY:Rhyme Time
DESCRIPTION:Join us on Wednesday mornings @ 10:30 am for 30 minutes of stories\, songs\, and fun! \nRhyme Time is for kids 5 & under and their caregivers. \nFree and open to the public.
URL:https://brookslibraryvt.org/event/rhyme-time-9/2026-01-28/
LOCATION:Meeting Room A – Community Meeting Room\, 224 Main Street\, Brattleboro\, VT\, 05301\, United States
CATEGORIES:Children & Families
ATTACH;FMTTYPE=image/png:https://eadn-wc04-3360218.nxedge.io/wp-content/uploads/2024/01/New-2-CLJ.png
ORGANIZER;CN="BML Children's Room":MAILTO:cr@brookslibraryvt.org
GEO:42.8553213;-72.5599024
X-APPLE-STRUCTURED-LOCATION;VALUE=URI;X-ADDRESS=Meeting Room A – Community Meeting Room 224 Main Street Brattleboro VT 05301 United States;X-APPLE-RADIUS=500;X-TITLE=224 Main Street:geo:-72.5599024,42.8553213
END:VEVENT
BEGIN:VEVENT
DTSTART;TZID=America/New_York:20260128T180000
DTEND;TZID=America/New_York:20260128T200000
DTSTAMP:20260423T110652
CREATED:20250127T201519Z
LAST-MODIFIED:20260318T154411Z
UID:10003900-1769623200-1769630400@brookslibraryvt.org
SUMMARY:Brattleboro 250 Planning Sessions
DESCRIPTION:Come and connect with others who are interested in working on plans to commemorate the 250th anniversary of the founding of the United States in 2026. \nThis monthly meeting space on the 4th Wednesdays is dedicated for those who would like the opportunity to connect\, collaborate\, and work on projects that align with Vermont’s 250th Anniversary Commission’s mission to “…inspire all Vermonters to learn from the history\, legacy\, and context of the past to build strong Vermont communities for the future.” \nThe space is being hosted by Brooks Memorial Library\, Vermont Independent Media (The Commons) and Windham World Affairs Council\, with support from the Vermont Humanities Council. We are already working together on a collaboration entitled\, ‘Examining American Identity and Leadership in a Changing World – and have joined America 250\, a national initiative asking communities to plan for how to commemorate the 250th year of the signing of the Declaration of Independence. Its mission is to provide opportunities for all Americans to pause and reflect on our nation’s past & present\, honor the contributions of all Americans\, and look to the future we want to create for the next generation and beyond.
URL:https://brookslibraryvt.org/event/brattleboro-250-planning-sessions/2026-01-28/
LOCATION:Meeting Room A – Community Meeting Room\, 224 Main Street\, Brattleboro\, VT\, 05301\, United States
CATEGORIES:Adults,General
ATTACH;FMTTYPE=image/png:https://eadn-wc04-3360218.nxedge.io/wp-content/uploads/2025/01/Screenshot-2025-03-08-162012.png
ORGANIZER;CN="Brattleboro 250":MAILTO:windhamworldaffairscouncil@gmail.com
GEO:42.8553213;-72.5599024
X-APPLE-STRUCTURED-LOCATION;VALUE=URI;X-ADDRESS=Meeting Room A – Community Meeting Room 224 Main Street Brattleboro VT 05301 United States;X-APPLE-RADIUS=500;X-TITLE=224 Main Street:geo:-72.5599024,42.8553213
END:VEVENT
BEGIN:VEVENT
DTSTART;TZID=America/New_York:20260128T180000
DTEND;TZID=America/New_York:20260128T204500
DTSTAMP:20260423T110652
CREATED:20251210T213214Z
LAST-MODIFIED:20251210T213956Z
UID:10005005-1769623200-1769633100@brookslibraryvt.org
SUMMARY:Game Cafe!
DESCRIPTION:Come join game enthusiasts in playing Magic the Gathering in various formats (including Commander/EDH) as well as other fun and creative board & card games. \nBring your favorite games- All Ages Welcome!
URL:https://brookslibraryvt.org/event/game-cafe-6/2026-01-28/
LOCATION:Meeting Room D – Quiet Reading Room\, 224 Main Street\, Brattleboro\, VT\, 05301\, United States
CATEGORIES:Children & Families,General,Teens
ATTACH;FMTTYPE=image/webp:https://eadn-wc04-3360218.nxedge.io/wp-content/uploads/2022/07/pic163749.webp
GEO:42.8553213;-72.5599024
X-APPLE-STRUCTURED-LOCATION;VALUE=URI;X-ADDRESS=Meeting Room D – Quiet Reading Room 224 Main Street Brattleboro VT 05301 United States;X-APPLE-RADIUS=500;X-TITLE=224 Main Street:geo:-72.5599024,42.8553213
END:VEVENT
BEGIN:VEVENT
DTSTART;TZID=America/New_York:20260129T103000
DTEND;TZID=America/New_York:20260129T113000
DTSTAMP:20260423T110652
CREATED:20251222T184937Z
LAST-MODIFIED:20260225T182234Z
UID:10005062-1769682600-1769686200@brookslibraryvt.org
SUMMARY:POSTPONED-Sing & Dance With Robin
DESCRIPTION:Sing & Dance With Robin is POSTPONED until further notice.
URL:https://brookslibraryvt.org/event/sing-dance-with-robin-7-5/2026-01-29/
LOCATION:Meeting Room A – Community Meeting Room\, 224 Main Street\, Brattleboro\, VT\, 05301\, United States
CATEGORIES:Children & Families
ATTACH;FMTTYPE=image/png:https://eadn-wc04-3360218.nxedge.io/wp-content/uploads/2025/12/Copy-of-Copy-of-Sing-Dance-with-Robin.png
ORGANIZER;CN="BML Children's Room":MAILTO:cr@brookslibraryvt.org
GEO:42.8553213;-72.5599024
X-APPLE-STRUCTURED-LOCATION;VALUE=URI;X-ADDRESS=Meeting Room A – Community Meeting Room 224 Main Street Brattleboro VT 05301 United States;X-APPLE-RADIUS=500;X-TITLE=224 Main Street:geo:-72.5599024,42.8553213
END:VEVENT
BEGIN:VEVENT
DTSTART;TZID=America/New_York:20260129T150000
DTEND;TZID=America/New_York:20260129T170000
DTSTAMP:20260423T110652
CREATED:20251015T155243Z
LAST-MODIFIED:20260225T182424Z
UID:10004595-1769698800-1769706000@brookslibraryvt.org
SUMMARY:LEGO-Palooza Winter Session!
DESCRIPTION:Join us on Thursdays after school from 3-5pm to play with LEGOs! \nWe provide the LEGOs. You build. Do not bring your own LEGOs. \nChildren cannot keep LEGOs\, but if there is enough room\, we will display them in the window. \nFree and open to the public!
URL:https://brookslibraryvt.org/event/lego-palooza-winter-session-2/2026-01-29/
LOCATION:Meeting Room A – Community Meeting Room\, 224 Main Street\, Brattleboro\, VT\, 05301\, United States
CATEGORIES:Children & Families,General,Teens
ATTACH;FMTTYPE=image/png:https://eadn-wc04-3360218.nxedge.io/wp-content/uploads/2025/10/LEGO-palooza-Winter-Session-1536x864-1.png
ORGANIZER;CN="BML Children's Room":MAILTO:cr@brookslibraryvt.org
GEO:42.8553213;-72.5599024
X-APPLE-STRUCTURED-LOCATION;VALUE=URI;X-ADDRESS=Meeting Room A – Community Meeting Room 224 Main Street Brattleboro VT 05301 United States;X-APPLE-RADIUS=500;X-TITLE=224 Main Street:geo:-72.5599024,42.8553213
END:VEVENT
BEGIN:VEVENT
DTSTART;TZID=America/New_York:20260131T101500
DTEND;TZID=America/New_York:20260131T121500
DTSTAMP:20260423T110652
CREATED:20260120T223020Z
LAST-MODIFIED:20260120T223020Z
UID:10005227-1769854500-1769861700@brookslibraryvt.org
SUMMARY:Actors Theatre Playhouse Auditions
DESCRIPTION:Make – Up Audition for The Actor’s Theatre Playhouse 10 Minute Play Festival
URL:https://brookslibraryvt.org/event/actors-theatre-playhouse-auditions/
CATEGORIES:Adults,General,Teens
ATTACH;FMTTYPE=image/png:https://eadn-wc04-3360218.nxedge.io/wp-content/uploads/2026/01/download-scaled.png
ORGANIZER;CN="Actors Theatre Playhouse - Ian H":MAILTO:tenplays19@gmail.com
END:VEVENT
BEGIN:VEVENT
DTSTART;TZID=America/New_York:20260131T130000
DTEND;TZID=America/New_York:20260131T160000
DTSTAMP:20260423T110652
CREATED:20250103T195250Z
LAST-MODIFIED:20251204T220811Z
UID:10004919-1769864400-1769875200@brookslibraryvt.org
SUMMARY:Brattleboro in Stitches
DESCRIPTION:Bring a work in progress to sew\, knit\, crochet\, embroider\, or mend. Sewing machines\, irons\, and companionship will be provided.
URL:https://brookslibraryvt.org/event/brattleboro-in-stitches-6/2026-01-31/
LOCATION:Meeting Room A – Community Meeting Room\, 224 Main Street\, Brattleboro\, VT\, 05301\, United States
CATEGORIES:Adults,Children & Families,General
ATTACH;FMTTYPE=image/png:https://eadn-wc04-3360218.nxedge.io/wp-content/uploads/2023/03/Brattleboro-in-Stitches-Event-Calendar2.png
ORGANIZER;CN="Brooks Memorial Library":MAILTO:outreach@brookslibraryvt.org
GEO:42.8553213;-72.5599024
X-APPLE-STRUCTURED-LOCATION;VALUE=URI;X-ADDRESS=Meeting Room A – Community Meeting Room 224 Main Street Brattleboro VT 05301 United States;X-APPLE-RADIUS=500;X-TITLE=224 Main Street:geo:-72.5599024,42.8553213
END:VEVENT
END:VCALENDAR